BEGIN:VCALENDAR
VERSION:2.0
PRODID:-//Pace Academy - ECPv6.15.14//NONSGML v1.0//EN
CALSCALE:GREGORIAN
METHOD:PUBLISH
X-ORIGINAL-URL:https://pacewa.org
X-WR-CALDESC:Events for Pace Academy
REFRESH-INTERVAL;VALUE=DURATION:PT1H
X-Robots-Tag:noindex
X-PUBLISHED-TTL:PT1H
BEGIN:VTIMEZONE
TZID:UTC
BEGIN:STANDARD
TZOFFSETFROM:+0000
TZOFFSETTO:+0000
TZNAME:UTC
DTSTART:20240101T000000
END:STANDARD
END:VTIMEZONE
BEGIN:VEVENT
DTSTART;TZID=UTC:20251201T082500
DTEND;TZID=UTC:20251204T150000
DTSTAMP:20260423T202212
CREATED:20250717T201327Z
LAST-MODIFIED:20250717T201327Z
UID:4890-1764577500-1764860400@pacewa.org
SUMMARY:Full Day Program (KG to 10th Grade Drop-off Time 8:15am Pickup Time 3:00pm)
DESCRIPTION:  \n 
URL:https://pacewa.org/event/new-test-event-4-4-2-2-2-2-5-2-2-2-2-3-2-2-3-4-2-2-5-3-2-2-4-2-2-2-2-2-2-3-2-2-2-2-2-2-2-2-3-2-2-2-3-2-2-2-2-2-2-2-2-2-2-2-2-2-2-3-2-5-4-2-2-2-3-4-3-6-3-3-2-2-2-2-2-3-2-2-2-2-3-2-2-2-2-2-2-2-2-5-4-1-4/
END:VEVENT
BEGIN:VEVENT
DTSTART;TZID=UTC:20251205T083000
DTEND;TZID=UTC:20251205T113000
DTSTAMP:20260423T202212
CREATED:20250717T201406Z
LAST-MODIFIED:20250718T012222Z
UID:4892-1764923400-1764934200@pacewa.org
SUMMARY:Half Day Program - Pickup Time 11:30am
DESCRIPTION:
URL:https://pacewa.org/event/new-test-event-4-4-3-2-2-2-4-2-2-2-2-2-2-2-2-2-2-2-2-2-2-2-5-2-2-2-2-3-3-6-2-3-2-2-3-2-4-4-3-2-2-2-2-2-2-2-6-2-2-2-3-4-3-2-6-3-5-2-2/
END:VEVENT
BEGIN:VEVENT
DTSTART;TZID=UTC:20251208T082500
DTEND;TZID=UTC:20251211T150000
DTSTAMP:20260423T202212
CREATED:20250717T201443Z
LAST-MODIFIED:20250717T201443Z
UID:4894-1765182300-1765465200@pacewa.org
SUMMARY:Full Day Program (KG to 10th Grade Drop-off Time 8:15am Pickup Time 3:00pm)
DESCRIPTION:  \n 
URL:https://pacewa.org/event/new-test-event-4-4-2-2-2-2-5-2-2-2-2-3-2-2-3-4-2-2-5-3-2-2-4-2-2-2-2-2-2-3-2-2-2-2-2-2-2-2-3-2-2-2-3-2-2-2-2-2-2-2-2-2-2-2-2-2-2-3-2-5-4-2-2-2-3-4-3-6-3-3-2-2-2-2-2-3-2-2-2-2-3-2-2-2-2-2-2-2-2-5-4-1-5/
END:VEVENT
BEGIN:VEVENT
DTSTART;TZID=UTC:20251212T083000
DTEND;TZID=UTC:20251212T113000
DTSTAMP:20260423T202212
CREATED:20250717T201548Z
LAST-MODIFIED:20250718T012320Z
UID:4896-1765528200-1765539000@pacewa.org
SUMMARY:Half Day Program - Pickup Time 11:30am
DESCRIPTION:
URL:https://pacewa.org/event/new-test-event-4-4-3-2-2-2-4-2-2-2-2-2-2-2-2-2-2-2-2-2-2-2-5-2-2-2-2-3-3-6-2-3-2-2-3-2-4-4-3-2-2-2-2-2-2-2-6-2-2-2-3-4-3-2-6-3-5-2-2-2/
END:VEVENT
BEGIN:VEVENT
DTSTART;TZID=UTC:20251215T082500
DTEND;TZID=UTC:20251218T150000
DTSTAMP:20260423T202212
CREATED:20250717T201627Z
LAST-MODIFIED:20250717T201627Z
UID:4898-1765787100-1766070000@pacewa.org
SUMMARY:Full Day Program (KG to 10th Grade Drop-off Time 8:15am Pickup Time 3:00pm)
DESCRIPTION:  \n 
URL:https://pacewa.org/event/new-test-event-4-4-2-2-2-2-5-2-2-2-2-3-2-2-3-4-2-2-5-3-2-2-4-2-2-2-2-2-2-3-2-2-2-2-2-2-2-2-3-2-2-2-3-2-2-2-2-2-2-2-2-2-2-2-2-2-2-3-2-5-4-2-2-2-3-4-3-6-3-3-2-2-2-2-2-3-2-2-2-2-3-2-2-2-2-2-2-2-2-5-4-1-6/
END:VEVENT
BEGIN:VEVENT
DTSTART;VALUE=DATE:20251219
DTEND;VALUE=DATE:20260103
DTSTAMP:20260423T202212
CREATED:20250717T201852Z
LAST-MODIFIED:20250717T201852Z
UID:4902-1766102400-1767398399@pacewa.org
SUMMARY:Winter Break No School
DESCRIPTION:Winter Break  (Holiday)
URL:https://pacewa.org/event/new-test-event-4-2-2-2-2-2-4-2-2-3-2-5-5-5-5-4-2-2-2-3-3-2-2-2-2-4-2-2-2-2-2-2-2-2-2-3-3-2-2-2-2-2-2/
ATTACH;FMTTYPE=image/jpeg:https://pacewa.org/wp-content/uploads/2021/11/WinterBreak-1.jpg
END:VEVENT
END:VCALENDAR