BEGIN:VCALENDAR
VERSION:2.0
PRODID:-//Pace Academy - ECPv6.15.14//NONSGML v1.0//EN
CALSCALE:GREGORIAN
METHOD:PUBLISH
X-WR-CALNAME:Pace Academy
X-ORIGINAL-URL:https://pacewa.org
X-WR-CALDESC:Events for Pace Academy
REFRESH-INTERVAL;VALUE=DURATION:PT1H
X-Robots-Tag:noindex
X-PUBLISHED-TTL:PT1H
BEGIN:VTIMEZONE
TZID:UTC
BEGIN:STANDARD
TZOFFSETFROM:+0000
TZOFFSETTO:+0000
TZNAME:UTC
DTSTART:20240101T000000
END:STANDARD
END:VTIMEZONE
BEGIN:VEVENT
DTSTART;TZID=UTC:20250428T082500
DTEND;TZID=UTC:20250501T150000
DTSTAMP:20260424T050434
CREATED:20240804T231457Z
LAST-MODIFIED:20240804T231457Z
UID:4686-1745828700-1746111600@pacewa.org
SUMMARY:Full Day Program
DESCRIPTION:  \n 
URL:https://pacewa.org/event/new-test-event-4-4-2-2-2-2-5-2-2-2-2-3-2-2-3-4-2-2-5-3-2-2-4-2-2-2-2-2-2-3-2-2-2-2-2-2-2-2-3-2-2-2-3-2-2-2-2-2-2-2-2-2-2-2-2-2-2-3-2-5-4-2-2-2-3-4-3-6-3-3-2-2-2-2-2-3-2-2-2-2-3-2-2-2-2-2-2-2-2-5-4/
END:VEVENT
BEGIN:VEVENT
DTSTART;TZID=UTC:20250502T083000
DTEND;TZID=UTC:20250502T123000
DTSTAMP:20260424T050434
CREATED:20250501T080333Z
LAST-MODIFIED:20250501T080333Z
UID:4813-1746174600-1746189000@pacewa.org
SUMMARY:Half Day Program - Pickup Time 12:30pm
DESCRIPTION:
URL:https://pacewa.org/event/new-test-event-4-4-3-2-2-2-4-2-2-2-2-2-2-2-2-2-2-2-2-2-2-2-5-2-2-2-2-3-3-6-2-3-2-2-3-2-4-4-3-2-2-2-2-2-2-2-6-2-2-2-3-4-3-2-7/
END:VEVENT
BEGIN:VEVENT
DTSTART;TZID=UTC:20250505T082500
DTEND;TZID=UTC:20250508T150000
DTSTAMP:20260424T050434
CREATED:20240804T231959Z
LAST-MODIFIED:20240804T231959Z
UID:4692-1746433500-1746716400@pacewa.org
SUMMARY:Full Day Program
DESCRIPTION:  \n 
URL:https://pacewa.org/event/new-test-event-4-4-2-2-2-2-5-2-2-2-2-3-2-2-3-4-2-2-5-3-2-2-4-2-2-2-2-2-2-3-2-2-2-2-2-2-2-2-3-2-2-2-3-2-2-2-2-2-2-2-2-2-2-2-2-2-2-3-2-5-4-2-2-2-3-4-3-6-3-3-2-2-2-2-2-3-2-2-2-2-3-2-2-2-2-2-2-2-2-5-4-2/
END:VEVENT
BEGIN:VEVENT
DTSTART;TZID=UTC:20250509T083000
DTEND;TZID=UTC:20250509T123000
DTSTAMP:20260424T050434
CREATED:20240804T232301Z
LAST-MODIFIED:20240804T232301Z
UID:4700-1746779400-1746793800@pacewa.org
SUMMARY:Half Day Program - Pickup Time 12:30pm
DESCRIPTION:
URL:https://pacewa.org/event/new-test-event-4-4-3-2-2-2-4-2-2-2-2-2-2-2-2-2-2-2-2-2-2-2-5-2-2-2-2-3-3-6-2-3-2-2-3-2-4-4-3-2-2-2-2-2-2-2-6-2-2-2-3-4-3-2-3/
END:VEVENT
BEGIN:VEVENT
DTSTART;TZID=UTC:20250512T082500
DTEND;TZID=UTC:20250515T150000
DTSTAMP:20260424T050434
CREATED:20240804T232017Z
LAST-MODIFIED:20240804T232017Z
UID:4693-1747038300-1747321200@pacewa.org
SUMMARY:Full Day Program
DESCRIPTION:  \n 
URL:https://pacewa.org/event/new-test-event-4-4-2-2-2-2-5-2-2-2-2-3-2-2-3-4-2-2-5-3-2-2-4-2-2-2-2-2-2-3-2-2-2-2-2-2-2-2-3-2-2-2-3-2-2-2-2-2-2-2-2-2-2-2-2-2-2-3-2-5-4-2-2-2-3-4-3-6-3-3-2-2-2-2-2-3-2-2-2-2-3-2-2-2-2-2-2-2-2-5-4-3/
END:VEVENT
BEGIN:VEVENT
DTSTART;TZID=UTC:20250516T083000
DTEND;TZID=UTC:20250516T123000
DTSTAMP:20260424T050434
CREATED:20240804T232321Z
LAST-MODIFIED:20240804T232321Z
UID:4703-1747384200-1747398600@pacewa.org
SUMMARY:Half Day Program - Pickup Time 12:30pm
DESCRIPTION:
URL:https://pacewa.org/event/new-test-event-4-4-3-2-2-2-4-2-2-2-2-2-2-2-2-2-2-2-2-2-2-2-5-2-2-2-2-3-3-6-2-3-2-2-3-2-4-4-3-2-2-2-2-2-2-2-6-2-2-2-3-4-3-2-4/
END:VEVENT
BEGIN:VEVENT
DTSTART;TZID=UTC:20250519T082500
DTEND;TZID=UTC:20250522T150000
DTSTAMP:20260424T050434
CREATED:20240804T232042Z
LAST-MODIFIED:20240804T232042Z
UID:4694-1747643100-1747926000@pacewa.org
SUMMARY:Full Day Program
DESCRIPTION:  \n 
URL:https://pacewa.org/event/new-test-event-4-4-2-2-2-2-5-2-2-2-2-3-2-2-3-4-2-2-5-3-2-2-4-2-2-2-2-2-2-3-2-2-2-2-2-2-2-2-3-2-2-2-3-2-2-2-2-2-2-2-2-2-2-2-2-2-2-3-2-5-4-2-2-2-3-4-3-6-3-3-2-2-2-2-2-3-2-2-2-2-3-2-2-2-2-2-2-2-2-5-4-4/
END:VEVENT
BEGIN:VEVENT
DTSTART;TZID=UTC:20250523T083000
DTEND;TZID=UTC:20250523T123000
DTSTAMP:20260424T050434
CREATED:20240804T232346Z
LAST-MODIFIED:20240804T232346Z
UID:4701-1747989000-1748003400@pacewa.org
SUMMARY:Half Day Program - Pickup Time 12:30pm
DESCRIPTION:
URL:https://pacewa.org/event/new-test-event-4-4-3-2-2-2-4-2-2-2-2-2-2-2-2-2-2-2-2-2-2-2-5-2-2-2-2-3-3-6-2-3-2-2-3-2-4-4-3-2-2-2-2-2-2-2-6-2-2-2-3-4-3-2-5/
END:VEVENT
BEGIN:VEVENT
DTSTART;TZID=UTC:20250526T090000
DTEND;TZID=UTC:20250527T143000
DTSTAMP:20260424T050434
CREATED:20240804T231803Z
LAST-MODIFIED:20240804T231803Z
UID:4690-1748250000-1748356200@pacewa.org
SUMMARY:No School (Memorial Day Holiday!!!)
DESCRIPTION:No School -Memorial Day Holiday
URL:https://pacewa.org/event/new-test-event-4-4-2-2-2-2-5-2-2-2-2-3-2-2-3-4-2-2-5-3-2-2-2-2-2-3-2-2-4-2/
END:VEVENT
BEGIN:VEVENT
DTSTART;TZID=UTC:20250528T082500
DTEND;TZID=UTC:20250529T150000
DTSTAMP:20260424T050434
CREATED:20240804T232118Z
LAST-MODIFIED:20240804T232118Z
UID:4695-1748420700-1748530800@pacewa.org
SUMMARY:Full Day Program
DESCRIPTION:  \n 
URL:https://pacewa.org/event/new-test-event-4-4-2-2-2-2-5-2-2-2-2-3-2-2-3-4-2-2-5-3-2-2-4-2-2-2-2-2-2-3-2-2-2-2-2-2-2-2-3-2-2-2-3-2-2-2-2-2-2-2-2-2-2-2-2-2-2-3-2-5-4-2-2-2-3-4-3-6-3-3-2-2-2-2-2-3-2-2-2-2-3-2-2-2-2-2-2-2-2-5-4-5/
END:VEVENT
BEGIN:VEVENT
DTSTART;TZID=UTC:20250530T083000
DTEND;TZID=UTC:20250530T123000
DTSTAMP:20260424T050434
CREATED:20240804T232412Z
LAST-MODIFIED:20240804T232412Z
UID:4702-1748593800-1748608200@pacewa.org
SUMMARY:Half Day Program - Pickup Time 12:30pm
DESCRIPTION:
URL:https://pacewa.org/event/new-test-event-4-4-3-2-2-2-4-2-2-2-2-2-2-2-2-2-2-2-2-2-2-2-5-2-2-2-2-3-3-6-2-3-2-2-3-2-4-4-3-2-2-2-2-2-2-2-6-2-2-2-3-4-3-2-6/
END:VEVENT
END:VCALENDAR