BEGIN:VCALENDAR
VERSION:2.0
PRODID:-//Pace Academy - ECPv6.15.14//NONSGML v1.0//EN
CALSCALE:GREGORIAN
METHOD:PUBLISH
X-WR-CALNAME:Pace Academy
X-ORIGINAL-URL:https://pacewa.org
X-WR-CALDESC:Events for Pace Academy
REFRESH-INTERVAL;VALUE=DURATION:PT1H
X-Robots-Tag:noindex
X-PUBLISHED-TTL:PT1H
BEGIN:VTIMEZONE
TZID:UTC
BEGIN:STANDARD
TZOFFSETFROM:+0000
TZOFFSETTO:+0000
TZNAME:UTC
DTSTART:20240101T000000
END:STANDARD
END:VTIMEZONE
BEGIN:VEVENT
DTSTART;TZID=UTC:20250331T083000
DTEND;TZID=UTC:20250404T150000
DTSTAMP:20260424T061136
CREATED:20240804T230414Z
LAST-MODIFIED:20240804T230414Z
UID:4680-1743409800-1743778800@pacewa.org
SUMMARY:No School Spring Break!!!
DESCRIPTION:No School Spring Break!!
URL:https://pacewa.org/event/new-test-event-4-4-2-2-2-2-5-2-2-2-2-3-2-2-3-4-2-2-5-2-2-2-2-2-2-2/
ATTACH;FMTTYPE=image/jpeg:https://pacewa.org/wp-content/uploads/2021/11/spring-break.jpg
END:VEVENT
BEGIN:VEVENT
DTSTART;TZID=UTC:20250407T082500
DTEND;TZID=UTC:20250410T150000
DTSTAMP:20260424T061136
CREATED:20240804T231342Z
LAST-MODIFIED:20240804T231342Z
UID:4682-1744014300-1744297200@pacewa.org
SUMMARY:Full Day Program
DESCRIPTION:  \n 
URL:https://pacewa.org/event/new-test-event-4-4-2-2-2-2-5-2-2-2-2-3-2-2-3-4-2-2-5-3-2-2-4-2-2-2-2-2-2-3-2-2-2-2-2-2-2-2-3-2-2-2-3-2-2-2-2-2-2-2-2-2-2-2-2-2-2-3-2-5-4-2-2-2-3-4-3-6-3-3-2-2-2-2-2-3-2-2-2-2-3-2-2-2-2-2-2-2-2-5-2/
END:VEVENT
BEGIN:VEVENT
DTSTART;TZID=UTC:20250411T083000
DTEND;TZID=UTC:20250411T123000
DTSTAMP:20260424T061136
CREATED:20240804T225707Z
LAST-MODIFIED:20240804T225917Z
UID:4671-1744360200-1744374600@pacewa.org
SUMMARY:Half Day Program - Pickup Time 12:30pm
DESCRIPTION:
URL:https://pacewa.org/event/new-test-event-4-4-3-2-2-2-4-2-2-2-2-2-2-2-2-2-2-2-2-2-2-2-5-2-2-2-2-3-3-6-2-3-2-2-3-2-4-4-3-2-2-2-2-2-2-2-6-2-2-2-3-4-3-2-2/
END:VEVENT
BEGIN:VEVENT
DTSTART;TZID=UTC:20250414T082500
DTEND;TZID=UTC:20250417T150000
DTSTAMP:20260424T061136
CREATED:20240804T231412Z
LAST-MODIFIED:20240804T231412Z
UID:4683-1744619100-1744902000@pacewa.org
SUMMARY:Full Day Program
DESCRIPTION:  \n 
URL:https://pacewa.org/event/new-test-event-4-4-2-2-2-2-5-2-2-2-2-3-2-2-3-4-2-2-5-3-2-2-4-2-2-2-2-2-2-3-2-2-2-2-2-2-2-2-3-2-2-2-3-2-2-2-2-2-2-2-2-2-2-2-2-2-2-3-2-5-4-2-2-2-3-4-3-6-3-3-2-2-2-2-2-3-2-2-2-2-3-2-2-2-2-2-2-2-2-5-3/
END:VEVENT
BEGIN:VEVENT
DTSTART;TZID=UTC:20250418T083000
DTEND;TZID=UTC:20250418T123000
DTSTAMP:20260424T061136
CREATED:20240804T160308Z
LAST-MODIFIED:20240804T231020Z
UID:4647-1744965000-1744979400@pacewa.org
SUMMARY:Half Day Program - Pickup Time 12:30pm
DESCRIPTION:
URL:https://pacewa.org/event/new-test-event-4-4-3-2-2-2-4-2-2-2-2-2-2-2-2-2-2-2-2-2-2-2-5-2-2-2-2-3-3-6-2-3-2-2-3-2-4-4-3-2-2-2-2-2-2-2-6-2-2-2-3-2/
END:VEVENT
BEGIN:VEVENT
DTSTART;TZID=UTC:20250421T082500
DTEND;TZID=UTC:20250424T150000
DTSTAMP:20260424T061136
CREATED:20240804T161200Z
LAST-MODIFIED:20240804T230626Z
UID:4660-1745223900-1745506800@pacewa.org
SUMMARY:Full Day Program
DESCRIPTION:  \n 
URL:https://pacewa.org/event/new-test-event-4-4-2-2-2-2-5-2-2-2-2-3-2-2-3-4-2-2-5-3-2-2-4-2-2-2-2-2-2-3-2-2-2-2-2-2-2-2-3-2-2-2-3-2-2-2-2-2-2-2-2-2-2-2-2-2-2-3-2-5-4-2-2-2-3-4-3-6-3-3-2-2-2-2-2-3-2-2-2-2-3-2-2-2-2-2-2-2-2-5/
END:VEVENT
BEGIN:VEVENT
DTSTART;TZID=UTC:20250425T083000
DTEND;TZID=UTC:20250425T123000
DTSTAMP:20260424T061136
CREATED:20240804T161814Z
LAST-MODIFIED:20240804T231205Z
UID:4667-1745569800-1745584200@pacewa.org
SUMMARY:Half Day Program - Pickup Time 12:30pm
DESCRIPTION:
URL:https://pacewa.org/event/new-test-event-4-4-3-2-2-2-4-2-2-2-2-2-2-2-2-2-2-2-2-2-2-2-5-2-2-2-2-3-3-6-2-3-2-2-3-2-4-4-3-2-2-2-2-2-2-2-6-2-2-2-3-4-3-2/
END:VEVENT
BEGIN:VEVENT
DTSTART;TZID=UTC:20250428T082500
DTEND;TZID=UTC:20250501T150000
DTSTAMP:20260424T061136
CREATED:20240804T231457Z
LAST-MODIFIED:20240804T231457Z
UID:4686-1745828700-1746111600@pacewa.org
SUMMARY:Full Day Program
DESCRIPTION:  \n 
URL:https://pacewa.org/event/new-test-event-4-4-2-2-2-2-5-2-2-2-2-3-2-2-3-4-2-2-5-3-2-2-4-2-2-2-2-2-2-3-2-2-2-2-2-2-2-2-3-2-2-2-3-2-2-2-2-2-2-2-2-2-2-2-2-2-2-3-2-5-4-2-2-2-3-4-3-6-3-3-2-2-2-2-2-3-2-2-2-2-3-2-2-2-2-2-2-2-2-5-4/
END:VEVENT
END:VCALENDAR