BEGIN:VCALENDAR
VERSION:2.0
PRODID:-//Pace Academy - ECPv6.15.14//NONSGML v1.0//EN
CALSCALE:GREGORIAN
METHOD:PUBLISH
X-ORIGINAL-URL:https://pacewa.org
X-WR-CALDESC:Events for Pace Academy
REFRESH-INTERVAL;VALUE=DURATION:PT1H
X-Robots-Tag:noindex
X-PUBLISHED-TTL:PT1H
BEGIN:VTIMEZONE
TZID:UTC
BEGIN:STANDARD
TZOFFSETFROM:+0000
TZOFFSETTO:+0000
TZNAME:UTC
DTSTART:20230101T000000
END:STANDARD
END:VTIMEZONE
BEGIN:VEVENT
DTSTART;TZID=UTC:20241202T082500
DTEND;TZID=UTC:20241205T150000
DTSTAMP:20260424T111117
CREATED:20240803T104953Z
LAST-MODIFIED:20240803T104953Z
UID:4614-1733127900-1733410800@pacewa.org
SUMMARY:Full Day Program
DESCRIPTION:  \n 
URL:https://pacewa.org/event/new-test-event-4-4-2-2-2-2-5-2-2-2-2-3-2-2-3-4-2-2-5-3-2-2-4-2-2-2-2-2-2-3-2-2-2-2-2-2-2-2-3-2-2-2-3-2-2-2-2-2-2-2-2-2-2-2-2-2-2-3-2-5-4-2-2-2-3-4-3-6-3-3-2-2-2-2-2-3-2-2-2-2-4/
END:VEVENT
BEGIN:VEVENT
DTSTART;TZID=UTC:20241206T083000
DTEND;TZID=UTC:20241206T123000
DTSTAMP:20260424T111117
CREATED:20240803T101318Z
LAST-MODIFIED:20240803T103502Z
UID:4577-1733473800-1733488200@pacewa.org
SUMMARY:Half Day Program - Pickup Time 12:30pm
DESCRIPTION:
URL:https://pacewa.org/event/new-test-event-4-4-3-2-2-2-4-2-2-2-2-2-2-2-2-2-2-2-2-2-2-2-5-2-2-2-2-3-3-6-2-3-2-2-3-2-4-4-3-2-2-2-2-2-2-2/
END:VEVENT
BEGIN:VEVENT
DTSTART;TZID=UTC:20241209T082500
DTEND;TZID=UTC:20241212T150000
DTSTAMP:20260424T111117
CREATED:20240803T104649Z
LAST-MODIFIED:20240803T105101Z
UID:4613-1733732700-1734015600@pacewa.org
SUMMARY:Full Day Program
DESCRIPTION:  \n 
URL:https://pacewa.org/event/new-test-event-4-4-2-2-2-2-5-2-2-2-2-3-2-2-3-4-2-2-5-3-2-2-4-2-2-2-2-2-2-3-2-2-2-2-2-2-2-2-3-2-2-2-3-2-2-2-2-2-2-2-2-2-2-2-2-2-2-3-2-5-4-2-2-2-3-4-3-6-3-3-2-2-2-2-2-3-2-2-2-2-2/
END:VEVENT
BEGIN:VEVENT
DTSTART;TZID=UTC:20241213T090000
DTEND;TZID=UTC:20241213T130000
DTSTAMP:20260424T111117
CREATED:20240803T104200Z
LAST-MODIFIED:20240803T104200Z
UID:4609-1734080400-1734094800@pacewa.org
SUMMARY:Staff Development and Planning Day (No School) 
DESCRIPTION:Staff Development and Planning Day (No School)
URL:https://pacewa.org/event/new-test-event-4-4-3-2-2-2-4-2-2-2-2-2-2-2-2-2-2-2-2-2-2-2-5-2-2-2-2-3-2-2-2-2-2-2-2-2-2-2-2-2-2-2-2-2-2-2-2-2-3-2-2-2-2-2-3-2-2-2-2-2-2-2/
ATTACH;FMTTYPE=image/webp:https://pacewa.org/wp-content/uploads/2024/08/DALL·E-2024-08-03-14.56.36-A-colorful-and-engaging-graphic-for-Staff-Development-and-Planning-Day.-The-background-features-professional-and-educational-elements-such-as-notebook.webp
END:VEVENT
BEGIN:VEVENT
DTSTART;TZID=UTC:20241216T082500
DTEND;TZID=UTC:20241219T150000
DTSTAMP:20260424T111117
CREATED:20240803T104751Z
LAST-MODIFIED:20240803T104919Z
UID:4615-1734337500-1734620400@pacewa.org
SUMMARY:Full Day Program
DESCRIPTION:  \n 
URL:https://pacewa.org/event/new-test-event-4-4-2-2-2-2-5-2-2-2-2-3-2-2-3-4-2-2-5-3-2-2-4-2-2-2-2-2-2-3-2-2-2-2-2-2-2-2-3-2-2-2-3-2-2-2-2-2-2-2-2-2-2-2-2-2-2-3-2-5-4-2-2-2-3-4-3-6-3-3-2-2-2-2-2-3-2-2-2-2-3/
END:VEVENT
BEGIN:VEVENT
DTSTART;TZID=UTC:20241220T083000
DTEND;TZID=UTC:20241220T123000
DTSTAMP:20260424T111117
CREATED:20240803T103307Z
LAST-MODIFIED:20240803T104055Z
UID:4599-1734683400-1734697800@pacewa.org
SUMMARY:Half Day Program - Pickup Time 12:30pm
DESCRIPTION:
URL:https://pacewa.org/event/new-test-event-4-4-3-2-2-2-4-2-2-2-2-2-2-2-2-2-2-2-2-2-2-2-5-2-2-2-2-3-3-6-2-3-2-2-3-2-4-4-3-2-2-2-2-2-2-2-6/
END:VEVENT
BEGIN:VEVENT
DTSTART;VALUE=DATE:20241223
DTEND;VALUE=DATE:20250104
DTSTAMP:20260424T111117
CREATED:20240803T104338Z
LAST-MODIFIED:20240803T104342Z
UID:4611-1734912000-1735948799@pacewa.org
SUMMARY:Winter Break No School
DESCRIPTION:Winter Break  (Holiday)
URL:https://pacewa.org/event/new-test-event-4-2-2-2-2-2-4-2-2-3-2-5-5-5-5-4-2-2-2-3-3-2-2-2-2-4-2-2-2-2-2-2-2-2-2-3-3-2-2-2-2-2/
ATTACH;FMTTYPE=image/jpeg:https://pacewa.org/wp-content/uploads/2021/11/WinterBreak-1.jpg
END:VEVENT
END:VCALENDAR