BEGIN:VCALENDAR
VERSION:2.0
PRODID:-//Pace Academy - ECPv6.15.14//NONSGML v1.0//EN
CALSCALE:GREGORIAN
METHOD:PUBLISH
X-WR-CALNAME:Pace Academy
X-ORIGINAL-URL:https://pacewa.org
X-WR-CALDESC:Events for Pace Academy
REFRESH-INTERVAL;VALUE=DURATION:PT1H
X-Robots-Tag:noindex
X-PUBLISHED-TTL:PT1H
BEGIN:VTIMEZONE
TZID:UTC
BEGIN:STANDARD
TZOFFSETFROM:+0000
TZOFFSETTO:+0000
TZNAME:UTC
DTSTART:20230101T000000
END:STANDARD
END:VTIMEZONE
BEGIN:VEVENT
DTSTART;VALUE=DATE:20240601
DTEND;VALUE=DATE:20240603
DTSTAMP:20260424T201018
CREATED:20230804T113052Z
LAST-MODIFIED:20230804T113052Z
UID:4353-1717200000-1717372799@pacewa.org
SUMMARY:Weekend
DESCRIPTION:Weekend (No School)
URL:https://pacewa.org/event/new-test-event-4-2-2-2-2-2-4-2-2-3-2-5-5-5-5-4-2-2-2-3-3-2-2-2-2-4-2-2-2-2-2-2-2-2-2-3-2-2-2-5-2-2-2-2-2-2-2-2-2-2-2-2-2-2-2-2-2-2-2-2-2-2-2-2-2-2-2-2-2-2-2-2-2-2-2-2-2-2-6/
ATTACH;FMTTYPE=image/jpeg:https://pacewa.org/wp-content/uploads/2023/08/Weekend-No-School.jpg
END:VEVENT
BEGIN:VEVENT
DTSTART;VALUE=DATE:20240601
DTEND;VALUE=DATE:20240603
DTSTAMP:20260424T201018
CREATED:20230804T113809Z
LAST-MODIFIED:20230804T113809Z
UID:4369-1717200000-1717372799@pacewa.org
SUMMARY:Weekend
DESCRIPTION:Weekend (No School)
URL:https://pacewa.org/event/new-test-event-4-2-2-2-2-2-4-2-2-3-2-5-5-5-5-4-2-2-2-3-3-2-2-2-2-4-2-2-2-2-2-2-2-2-2-3-2-2-2-5-2-2-2-2-2-2-2-2-2-2-2-2-2-2-2-2-2-2-2-2-2-2-2-2-2-2-2-2-2-2-2-2-2-2-2-2-2-2-9/
ATTACH;FMTTYPE=image/jpeg:https://pacewa.org/wp-content/uploads/2023/08/Weekend-No-School.jpg
END:VEVENT
BEGIN:VEVENT
DTSTART;TZID=UTC:20240603T082500
DTEND;TZID=UTC:20240606T150000
DTSTAMP:20260424T201018
CREATED:20230804T105613Z
LAST-MODIFIED:20230804T105613Z
UID:4323-1717403100-1717686000@pacewa.org
SUMMARY:Full Day Program
DESCRIPTION:  \n 
URL:https://pacewa.org/event/new-test-event-4-4-2-2-2-2-5-2-2-2-2-3-2-2-3-4-2-2-5-3-2-2-4-2-2-2-2-2-2-3-2-2-2-2-2-2-2-2-3-2-2-2-3-2-2-2-2-2-2-2-2-2-2-2-2-2-2-3-2-5-4-2-2-2-3-4-3-6-3-3-2-5-2-2-2-3-3-5-5-5-4-5-2/
END:VEVENT
BEGIN:VEVENT
DTSTART;TZID=UTC:20240607T083000
DTEND;TZID=UTC:20240607T113000
DTSTAMP:20260424T201018
CREATED:20230804T105217Z
LAST-MODIFIED:20230816T225029Z
UID:4308-1717749000-1717759800@pacewa.org
SUMMARY:Half Day Program - Pickup Time 11:30AM
DESCRIPTION:
URL:https://pacewa.org/event/new-test-event-4-4-3-2-2-2-4-2-2-2-2-2-2-2-2-2-2-2-2-2-2-2-5-2-2-2-2-3-3-6-2-3-2-2-3-2-4-4-3-2-2-2-3-2-2-3-5-5-4-5-5/
END:VEVENT
BEGIN:VEVENT
DTSTART;VALUE=DATE:20240608
DTEND;VALUE=DATE:20240610
DTSTAMP:20260424T201018
CREATED:20230804T112733Z
LAST-MODIFIED:20230804T112733Z
UID:4345-1717804800-1717977599@pacewa.org
SUMMARY:Weekend
DESCRIPTION:Weekend (No School)
URL:https://pacewa.org/event/new-test-event-4-2-2-2-2-2-4-2-2-3-2-5-5-5-5-4-2-2-2-3-3-2-2-2-2-4-2-2-2-2-2-2-2-2-2-3-2-2-2-5-2-2-2-2-2-2-2-2-2-2-2-2-2-2-2-2-2-2-2-2-2-2-2-2-2-2-2-2-2-2-2-2-2-2-2-2-2-2/
ATTACH;FMTTYPE=image/jpeg:https://pacewa.org/wp-content/uploads/2023/08/Weekend-No-School.jpg
END:VEVENT
BEGIN:VEVENT
DTSTART;TZID=UTC:20240610T082500
DTEND;TZID=UTC:20240613T150000
DTSTAMP:20260424T201018
CREATED:20230804T105643Z
LAST-MODIFIED:20230804T105643Z
UID:4324-1718007900-1718290800@pacewa.org
SUMMARY:Full Day Program
DESCRIPTION:  \n 
URL:https://pacewa.org/event/new-test-event-4-4-2-2-2-2-5-2-2-2-2-3-2-2-3-4-2-2-5-3-2-2-4-2-2-2-2-2-2-3-2-2-2-2-2-2-2-2-3-2-2-2-3-2-2-2-2-2-2-2-2-2-2-2-2-2-2-3-2-5-4-2-2-2-3-4-3-6-3-3-2-5-2-2-2-3-3-5-5-5-4-5-3/
END:VEVENT
BEGIN:VEVENT
DTSTART;TZID=UTC:20240613T083000
DTEND;TZID=UTC:20240613T130000
DTSTAMP:20260424T201018
CREATED:20230807T035458Z
LAST-MODIFIED:20230807T035458Z
UID:4445-1718267400-1718283600@pacewa.org
SUMMARY:(Last Day of School)
DESCRIPTION:Last Day of School \n 
URL:https://pacewa.org/event/new-test-event-4-2-2-2-2-2-4-2-2-3-2-5-5-5-5-4-2-2-3-2-2-2/
END:VEVENT
BEGIN:VEVENT
DTSTART;TZID=UTC:20240614T083000
DTEND;TZID=UTC:20240614T130000
DTSTAMP:20260424T201018
CREATED:20240804T233030Z
LAST-MODIFIED:20240804T233030Z
UID:4336-1718353800-1718370000@pacewa.org
SUMMARY:(Last Day of School/ Graduation Day)
DESCRIPTION:Last Day of School/Graduation Day and Field Day \n 
URL:https://pacewa.org/event/new-test-event-4-2-2-2-2-2-4-2-2-3-2-5-5-5-5-4-2-2-3-2-2-3/
END:VEVENT
BEGIN:VEVENT
DTSTART;TZID=UTC:20240617T090000
DTEND;TZID=UTC:20240831T143000
DTSTAMP:20260424T201018
CREATED:20240803T080811Z
LAST-MODIFIED:20240803T090505Z
UID:4522-1718614800-1725114600@pacewa.org
SUMMARY:Summer Break
DESCRIPTION:No School -Summer Break
URL:https://pacewa.org/event/new-test-event-4-4-2-2-2-2-5-2-2-2-2-3-2-2-3-4-2-2-5-3-2-2-2-2-2-3-2-2-3-2-2/
ATTACH;FMTTYPE=image/jpeg:https://pacewa.org/wp-content/uploads/2021/11/summer-break-slide.jpg
END:VEVENT
END:VCALENDAR