BEGIN:VCALENDAR
VERSION:2.0
PRODID:-//Pace Academy - ECPv6.15.14//NONSGML v1.0//EN
CALSCALE:GREGORIAN
METHOD:PUBLISH
X-ORIGINAL-URL:https://pacewa.org
X-WR-CALDESC:Events for Pace Academy
REFRESH-INTERVAL;VALUE=DURATION:PT1H
X-Robots-Tag:noindex
X-PUBLISHED-TTL:PT1H
BEGIN:VTIMEZONE
TZID:UTC
BEGIN:STANDARD
TZOFFSETFROM:+0000
TZOFFSETTO:+0000
TZNAME:UTC
DTSTART:20220101T000000
END:STANDARD
END:VTIMEZONE
BEGIN:VEVENT
DTSTART;TZID=UTC:20230130T082500
DTEND;TZID=UTC:20230202T150000
DTSTAMP:20260425T234237
CREATED:20220803T082451Z
LAST-MODIFIED:20220803T083112Z
UID:3860-1675067100-1675350000@pacewa.org
SUMMARY:Full Day Program
DESCRIPTION:KG to 10th Grade Drop-off Time 8:25am Pickup Time 3:00pm \n 
URL:https://pacewa.org/event/new-test-event-4-4-2-2-2-2-5-2-2-2-2-3-2-2-3-4-2-2-5-3-2-2-4-2-2-2-2-2-2-3-2-2-2-2-2-2-2-2-3-2-2-2-3-2-2-2-2-2-2-2-2-2-2-2-2-2-2-3-2-5-4-2-2-2-3-4/
END:VEVENT
BEGIN:VEVENT
DTSTART;TZID=UTC:20230203T083000
DTEND;TZID=UTC:20230203T124500
DTSTAMP:20260425T234237
CREATED:20220803T083952Z
LAST-MODIFIED:20220803T083952Z
UID:3890-1675413000-1675428300@pacewa.org
SUMMARY:Half Day Program - Pickup Time 12:45pm
DESCRIPTION:KG to 10th Grades Drop-off Time 8:25am Pickup Time 12:45pm
URL:https://pacewa.org/event/new-test-event-4-4-3-2-2-2-4-2-2-2-2-2-2-2-2-2-2-2-2-2-2-2-5-2-2-2-2-3-3-6-2-3-2-2-3-2-4-2/
END:VEVENT
BEGIN:VEVENT
DTSTART;TZID=UTC:20230206T082500
DTEND;TZID=UTC:20230209T150000
DTSTAMP:20260425T234237
CREATED:20220803T083655Z
LAST-MODIFIED:20220803T083655Z
UID:3881-1675671900-1675954800@pacewa.org
SUMMARY:Full Day Program
DESCRIPTION:KG to 10th Grade Drop-off Time 8:25am Pickup Time 3:00pm \n 
URL:https://pacewa.org/event/new-test-event-4-4-2-2-2-2-5-2-2-2-2-3-2-2-3-4-2-2-5-3-2-2-4-2-2-2-2-2-2-3-2-2-2-2-2-2-2-2-3-2-2-2-3-2-2-2-2-2-2-2-2-2-2-2-2-2-2-3-2-5-4-2-2-2-3-4-2/
END:VEVENT
BEGIN:VEVENT
DTSTART;TZID=UTC:20230210T083000
DTEND;TZID=UTC:20230210T124500
DTSTAMP:20260425T234237
CREATED:20220803T083538Z
LAST-MODIFIED:20220803T083554Z
UID:3875-1676017800-1676033100@pacewa.org
SUMMARY:Half Day Program - Pickup Time 12:45pm
DESCRIPTION:KG to 10th Grades Drop-off Time 8:25am Pickup Time 12:45pm
URL:https://pacewa.org/event/new-test-event-4-4-3-2-2-2-4-2-2-2-2-2-2-2-2-2-2-2-2-2-2-2-5-2-2-2-2-3-3-6-2-3-2-2-3-2-2/
END:VEVENT
BEGIN:VEVENT
DTSTART;TZID=UTC:20230213T082500
DTEND;TZID=UTC:20230215T150000
DTSTAMP:20260425T234237
CREATED:20220803T083714Z
LAST-MODIFIED:20220803T084822Z
UID:3878-1676276700-1676473200@pacewa.org
SUMMARY:Full Day Program
DESCRIPTION:KG to 10th Grade Drop-off Time 8:25am Pickup Time 3:00pm \n 
URL:https://pacewa.org/event/new-test-event-4-4-2-2-2-2-5-2-2-2-2-3-2-2-3-4-2-2-5-3-2-2-4-2-2-2-2-2-2-3-2-2-2-2-2-2-2-2-3-2-2-2-3-2-2-2-2-2-2-2-2-2-2-2-2-2-2-3-2-5-4-2-2-2-3-5/
END:VEVENT
BEGIN:VEVENT
DTSTART;TZID=UTC:20230216T090000
DTEND;TZID=UTC:20230216T150000
DTSTAMP:20260425T234237
CREATED:20220803T084247Z
LAST-MODIFIED:20220803T100707Z
UID:3892-1676538000-1676559600@pacewa.org
SUMMARY:Parents Teachers Conference
DESCRIPTION:Parents Teachers Conference\nNo school\, students should work from home and attend class connects on their own.
URL:https://pacewa.org/event/new-test-event-4-4-2-2-2-2-2-2-2/
END:VEVENT
BEGIN:VEVENT
DTSTART;TZID=UTC:20230217T083000
DTEND;TZID=UTC:20230217T124500
DTSTAMP:20260425T234237
CREATED:20220803T083612Z
LAST-MODIFIED:20220803T083612Z
UID:3882-1676622600-1676637900@pacewa.org
SUMMARY:Half Day Program - Pickup Time 12:45pm
DESCRIPTION:KG to 10th Grades Drop-off Time 8:25am Pickup Time 12:45pm
URL:https://pacewa.org/event/new-test-event-4-4-3-2-2-2-4-2-2-2-2-2-2-2-2-2-2-2-2-2-2-2-5-2-2-2-2-3-3-6-2-3-2-2-3-2-3/
END:VEVENT
BEGIN:VEVENT
DTSTART;VALUE=DATE:20230220
DTEND;VALUE=DATE:20230223
DTSTAMP:20260425T234237
CREATED:20211107T033615Z
LAST-MODIFIED:20220803T090800Z
UID:3508-1676851200-1677110399@pacewa.org
SUMMARY:Mid-Winter Break No School
DESCRIPTION:Mid-Winder Break  (Holiday)
URL:https://pacewa.org/event/new-test-event-4-2-2-2-2-2-4-2-2-3-2-5-5-5-5-4-2-2-2-3-3-2-2-2-2-4-2-2-2-2-2-2-2-2-2-3-3-2-2-2/
ATTACH;FMTTYPE=image/jpeg:https://pacewa.org/wp-content/uploads/2021/11/WinterBreak-1.jpg
END:VEVENT
BEGIN:VEVENT
DTSTART;TZID=UTC:20230223T082500
DTEND;TZID=UTC:20230223T150000
DTSTAMP:20260425T234237
CREATED:20220803T083729Z
LAST-MODIFIED:20220803T084707Z
UID:3877-1677140700-1677164400@pacewa.org
SUMMARY:Full Day Program
DESCRIPTION:KG to 10th Grade Drop-off Time 8:25am Pickup Time 3:00pm \n 
URL:https://pacewa.org/event/new-test-event-4-4-2-2-2-2-5-2-2-2-2-3-2-2-3-4-2-2-5-3-2-2-4-2-2-2-2-2-2-3-2-2-2-2-2-2-2-2-3-2-2-2-3-2-2-2-2-2-2-2-2-2-2-2-2-2-2-3-2-5-4-2-2-2-3-6/
END:VEVENT
BEGIN:VEVENT
DTSTART;TZID=UTC:20230224T083000
DTEND;TZID=UTC:20230224T124500
DTSTAMP:20260425T234237
CREATED:20220803T083633Z
LAST-MODIFIED:20220803T083633Z
UID:3880-1677227400-1677242700@pacewa.org
SUMMARY:Half Day Program - Pickup Time 12:45pm
DESCRIPTION:KG to 10th Grades Drop-off Time 8:25am Pickup Time 12:45pm
URL:https://pacewa.org/event/new-test-event-4-4-3-2-2-2-4-2-2-2-2-2-2-2-2-2-2-2-2-2-2-2-5-2-2-2-2-3-3-6-2-3-2-2-3-2-4/
END:VEVENT
BEGIN:VEVENT
DTSTART;TZID=UTC:20230227T082500
DTEND;TZID=UTC:20230302T150000
DTSTAMP:20260425T234237
CREATED:20220803T091354Z
LAST-MODIFIED:20220803T091354Z
UID:3879-1677486300-1677769200@pacewa.org
SUMMARY:Full Day Program
DESCRIPTION:KG to 10th Grade Drop-off Time 8:25am Pickup Time 3:00pm \n 
URL:https://pacewa.org/event/new-test-event-4-4-2-2-2-2-5-2-2-2-2-3-2-2-3-4-2-2-5-3-2-2-4-2-2-2-2-2-2-3-2-2-2-2-2-2-2-2-3-2-2-2-3-2-2-2-2-2-2-2-2-2-2-2-2-2-2-3-2-5-4-2-2-2-3/
END:VEVENT
END:VCALENDAR