BEGIN:VCALENDAR
VERSION:2.0
PRODID:-//Pace Academy - ECPv6.15.14//NONSGML v1.0//EN
CALSCALE:GREGORIAN
METHOD:PUBLISH
X-WR-CALNAME:Pace Academy
X-ORIGINAL-URL:https://pacewa.org
X-WR-CALDESC:Events for Pace Academy
REFRESH-INTERVAL;VALUE=DURATION:PT1H
X-Robots-Tag:noindex
X-PUBLISHED-TTL:PT1H
BEGIN:VTIMEZONE
TZID:UTC
BEGIN:STANDARD
TZOFFSETFROM:+0000
TZOFFSETTO:+0000
TZNAME:UTC
DTSTART:20210101T000000
END:STANDARD
END:VTIMEZONE
BEGIN:VEVENT
DTSTART;TZID=UTC:20221031T082500
DTEND;TZID=UTC:20221103T150000
DTSTAMP:20260426T043743
CREATED:20220803T074305Z
LAST-MODIFIED:20220803T074305Z
UID:3800-1667204700-1667487600@pacewa.org
SUMMARY:Full Day Program
DESCRIPTION:KG to 10th Grade Drop-off Time 8:25am Pickup Time 3:00pm \n 
URL:https://pacewa.org/event/new-test-event-4-4-2-2-2-2-5-2-2-2-2-3-2-2-3-4-2-2-5-3-2-2-4-2-2-2-2-2-2-3-2-2-2-2-2-2-2-2-3-2-2-2-3-2-2-2-2-2-2-2-2-2-2-2-2-2-2-3-2-5/
END:VEVENT
BEGIN:VEVENT
DTSTART;TZID=UTC:20221104T083000
DTEND;TZID=UTC:20221104T124500
DTSTAMP:20260426T043743
CREATED:20220803T074337Z
LAST-MODIFIED:20220803T074459Z
UID:3798-1667550600-1667565900@pacewa.org
SUMMARY:Half Day Program - Pickup Time 12:45pm
DESCRIPTION:KG to 10th Grades Drop-off Time 8:25am Pickup Time 12:45pm
URL:https://pacewa.org/event/new-test-event-4-4-3-2-2-2-4-2-2-2-2-2-2-2-2-2-2-2-2-2-2-2-5-2-2-2-2-3-3-6/
END:VEVENT
BEGIN:VEVENT
DTSTART;TZID=UTC:20221107T082500
DTEND;TZID=UTC:20221110T150000
DTSTAMP:20260426T043743
CREATED:20220803T075400Z
LAST-MODIFIED:20220803T075400Z
UID:3816-1667809500-1668092400@pacewa.org
SUMMARY:Full Day Program
DESCRIPTION:KG to 10th Grade Drop-off Time 8:25am Pickup Time 3:00pm \n 
URL:https://pacewa.org/event/new-test-event-4-4-2-2-2-2-5-2-2-2-2-3-2-2-3-4-2-2-5-3-2-2-4-2-2-2-2-2-2-3-2-2-2-2-2-2-2-2-3-2-2-2-3-2-2-2-2-2-2-2-2-2-2-2-2-2-2-3-2-5-2/
END:VEVENT
BEGIN:VEVENT
DTSTART;TZID=UTC:20221111T083000
DTEND;TZID=UTC:20221111T130000
DTSTAMP:20260426T043743
CREATED:20211107T033023Z
LAST-MODIFIED:20220803T090707Z
UID:3502-1668155400-1668171600@pacewa.org
SUMMARY:Veterans Day Holiday (No School)
DESCRIPTION:No School (Veterans Day Holiday)
URL:https://pacewa.org/event/new-test-event-4-4-3-2-2-2-4-2-2-3-5-2/
ATTACH;FMTTYPE=image/jpeg:https://pacewa.org/wp-content/uploads/2021/11/VeteransDay16_1000.jpg
END:VEVENT
BEGIN:VEVENT
DTSTART;TZID=UTC:20221114T082500
DTEND;TZID=UTC:20221117T150000
DTSTAMP:20260426T043743
CREATED:20220803T075419Z
LAST-MODIFIED:20220803T075419Z
UID:3818-1668414300-1668697200@pacewa.org
SUMMARY:Full Day Program
DESCRIPTION:KG to 10th Grade Drop-off Time 8:25am Pickup Time 3:00pm \n 
URL:https://pacewa.org/event/new-test-event-4-4-2-2-2-2-5-2-2-2-2-3-2-2-3-4-2-2-5-3-2-2-4-2-2-2-2-2-2-3-2-2-2-2-2-2-2-2-3-2-2-2-3-2-2-2-2-2-2-2-2-2-2-2-2-2-2-3-2-5-3/
END:VEVENT
BEGIN:VEVENT
DTSTART;TZID=UTC:20221118T083000
DTEND;TZID=UTC:20221118T124500
DTSTAMP:20260426T043743
CREATED:20220803T075851Z
LAST-MODIFIED:20220803T075851Z
UID:3828-1668760200-1668775500@pacewa.org
SUMMARY:Half Day Program - Pickup Time 12:45pm
DESCRIPTION:KG to 10th Grades Drop-off Time 8:25am Pickup Time 12:45pm
URL:https://pacewa.org/event/new-test-event-4-4-3-2-2-2-4-2-2-2-2-2-2-2-2-2-2-2-2-2-2-2-5-2-2-2-2-3-3-6-2-2/
END:VEVENT
BEGIN:VEVENT
DTSTART;TZID=UTC:20221121T082500
DTEND;TZID=UTC:20221122T150000
DTSTAMP:20260426T043743
CREATED:20220803T075618Z
LAST-MODIFIED:20220803T080357Z
UID:3823-1669019100-1669129200@pacewa.org
SUMMARY:Full Day Program
DESCRIPTION:KG to 10th Grade Drop-off Time 8:25am Pickup Time 3:00pm \n 
URL:https://pacewa.org/event/new-test-event-4-4-2-2-2-2-5-2-2-2-2-3-2-2-3-4-2-2-5-3-2-2-4-2-2-2-2-2-2-3-2-2-2-2-2-2-2-2-3-2-2-2-3-2-2-2-2-2-2-2-2-2-2-2-2-2-2-3-2-5-3-2/
END:VEVENT
BEGIN:VEVENT
DTSTART;TZID=UTC:20221123T083000
DTEND;TZID=UTC:20221125T130000
DTSTAMP:20260426T043743
CREATED:20211107T033153Z
LAST-MODIFIED:20220803T090630Z
UID:3504-1669192200-1669381200@pacewa.org
SUMMARY:Thanksgiving Break (No School)
DESCRIPTION:No School (Thanksgiving  Break)
URL:https://pacewa.org/event/new-test-event-4-4-3-2-2-2-4-2-2-3-2-2-2-2/
ATTACH;FMTTYPE=image/jpeg:https://pacewa.org/wp-content/uploads/2021/11/xThanksgiving-Day-1080x610-1.jpg
END:VEVENT
BEGIN:VEVENT
DTSTART;TZID=UTC:20221128T082500
DTEND;TZID=UTC:20221201T150000
DTSTAMP:20260426T043743
CREATED:20220803T075447Z
LAST-MODIFIED:20220803T075447Z
UID:3819-1669623900-1669906800@pacewa.org
SUMMARY:Full Day Program
DESCRIPTION:KG to 10th Grade Drop-off Time 8:25am Pickup Time 3:00pm \n 
URL:https://pacewa.org/event/new-test-event-4-4-2-2-2-2-5-2-2-2-2-3-2-2-3-4-2-2-5-3-2-2-4-2-2-2-2-2-2-3-2-2-2-2-2-2-2-2-3-2-2-2-3-2-2-2-2-2-2-2-2-2-2-2-2-2-2-3-2-5-4/
END:VEVENT
END:VCALENDAR