BEGIN:VCALENDAR
VERSION:2.0
PRODID:-//Pace Academy - ECPv6.15.14//NONSGML v1.0//EN
CALSCALE:GREGORIAN
METHOD:PUBLISH
X-WR-CALNAME:Pace Academy
X-ORIGINAL-URL:https://pacewa.org
X-WR-CALDESC:Events for Pace Academy
REFRESH-INTERVAL;VALUE=DURATION:PT1H
X-Robots-Tag:noindex
X-PUBLISHED-TTL:PT1H
BEGIN:VTIMEZONE
TZID:UTC
BEGIN:STANDARD
TZOFFSETFROM:+0000
TZOFFSETTO:+0000
TZNAME:UTC
DTSTART:20220101T000000
END:STANDARD
END:VTIMEZONE
BEGIN:VEVENT
DTSTART;TZID=UTC:20240201T090000
DTEND;TZID=UTC:20240201T150000
DTSTAMP:20260425T141643
CREATED:20230804T100937Z
LAST-MODIFIED:20230804T100937Z
UID:4270-1706778000-1706799600@pacewa.org
SUMMARY:Parents Teachers Conference
DESCRIPTION:Parents Teachers Conference\nNo school\, students should work from home and attend class connects on their own.
URL:https://pacewa.org/event/new-test-event-4-4-2-2-2-2-2-2-2-2/
END:VEVENT
BEGIN:VEVENT
DTSTART;TZID=UTC:20240129T083000
DTEND;TZID=UTC:20240129T120000
DTSTAMP:20260425T141643
CREATED:20230804T094928Z
LAST-MODIFIED:20230804T094928Z
UID:4238-1706517000-1706529600@pacewa.org
SUMMARY:First Day of Semester II
DESCRIPTION:
URL:https://pacewa.org/event/new-test-event-2-2-2-3-3-2/
END:VEVENT
BEGIN:VEVENT
DTSTART;TZID=UTC:20240129T082500
DTEND;TZID=UTC:20240131T150000
DTSTAMP:20260425T141643
CREATED:20230804T094632Z
LAST-MODIFIED:20230804T094632Z
UID:4236-1706516700-1706713200@pacewa.org
SUMMARY:Full Day Program
DESCRIPTION:  \n 
URL:https://pacewa.org/event/new-test-event-4-4-2-2-2-2-5-2-2-2-2-3-2-2-3-4-2-2-5-3-2-2-4-2-2-2-2-2-2-3-2-2-2-2-2-2-2-2-3-2-2-2-3-2-2-2-2-2-2-2-2-2-2-2-2-2-2-3-2-5-4-2-2-2-3-4-3-6-3-3-2-5-2-2-2-3-3-2-2/
END:VEVENT
BEGIN:VEVENT
DTSTART;VALUE=DATE:20240127
DTEND;VALUE=DATE:20240129
DTSTAMP:20260425T141643
CREATED:20230804T114623Z
LAST-MODIFIED:20230804T114623Z
UID:4395-1706313600-1706486399@pacewa.org
SUMMARY:Weekend
DESCRIPTION:Weekend (No School)
URL:https://pacewa.org/event/new-test-event-4-2-2-2-2-2-4-2-2-3-2-5-5-5-5-4-2-2-2-3-3-2-2-2-2-4-2-2-2-2-2-2-2-2-2-3-2-2-2-5-2-2-2-2-2-2-2-2-2-2-2-2-2-2-2-2-2-2-2-2-2-2-2-2-2-2-2-2-2-2-2-2-2-2-2-2-2-2-24/
ATTACH;FMTTYPE=image/jpeg:https://pacewa.org/wp-content/uploads/2023/08/Weekend-No-School.jpg
END:VEVENT
BEGIN:VEVENT
DTSTART;TZID=UTC:20240126T083000
DTEND;TZID=UTC:20240126T234500
DTSTAMP:20260425T141643
CREATED:20230804T095436Z
LAST-MODIFIED:20230804T095436Z
UID:4245-1706257800-1706312700@pacewa.org
SUMMARY:Half Day Program - Pickup Time 11:45pm
DESCRIPTION:
URL:https://pacewa.org/event/new-test-event-4-4-3-2-2-2-4-2-2-2-2-2-2-2-2-2-2-2-2-2-2-2-5-2-2-2-2-3-3-6-2-3-2-2-3-2-4-4-3-2-2-2-3-2-2-3-5/
END:VEVENT
BEGIN:VEVENT
DTSTART;TZID=UTC:20240122T082500
DTEND;TZID=UTC:20240125T150000
DTSTAMP:20260425T141643
CREATED:20230804T094242Z
LAST-MODIFIED:20230804T094242Z
UID:4231-1705911900-1706194800@pacewa.org
SUMMARY:Full Day Program
DESCRIPTION:  \n 
URL:https://pacewa.org/event/new-test-event-4-4-2-2-2-2-5-2-2-2-2-3-2-2-3-4-2-2-5-3-2-2-4-2-2-2-2-2-2-3-2-2-2-2-2-2-2-2-3-2-2-2-3-2-2-2-2-2-2-2-2-2-2-2-2-2-2-3-2-5-4-2-2-2-3-4-3-6-3-3-2-5-2-2-2-3-3-5/
END:VEVENT
BEGIN:VEVENT
DTSTART;VALUE=DATE:20240120
DTEND;VALUE=DATE:20240122
DTSTAMP:20260425T141643
CREATED:20230804T114605Z
LAST-MODIFIED:20230804T114605Z
UID:4394-1705708800-1705881599@pacewa.org
SUMMARY:Weekend
DESCRIPTION:Weekend (No School)
URL:https://pacewa.org/event/new-test-event-4-2-2-2-2-2-4-2-2-3-2-5-5-5-5-4-2-2-2-3-3-2-2-2-2-4-2-2-2-2-2-2-2-2-2-3-2-2-2-5-2-2-2-2-2-2-2-2-2-2-2-2-2-2-2-2-2-2-2-2-2-2-2-2-2-2-2-2-2-2-2-2-2-2-2-2-2-2-23/
ATTACH;FMTTYPE=image/jpeg:https://pacewa.org/wp-content/uploads/2023/08/Weekend-No-School.jpg
END:VEVENT
BEGIN:VEVENT
DTSTART;TZID=UTC:20240119T083000
DTEND;TZID=UTC:20240119T234500
DTSTAMP:20260425T141643
CREATED:20230804T095348Z
LAST-MODIFIED:20230804T095348Z
UID:4244-1705653000-1705707900@pacewa.org
SUMMARY:Half Day Program - Pickup Time 11:45pm
DESCRIPTION:
URL:https://pacewa.org/event/new-test-event-4-4-3-2-2-2-4-2-2-2-2-2-2-2-2-2-2-2-2-2-2-2-5-2-2-2-2-3-3-6-2-3-2-2-3-2-4-4-3-2-2-2-3-2-2-3-4/
END:VEVENT
BEGIN:VEVENT
DTSTART;TZID=UTC:20240116T082500
DTEND;TZID=UTC:20240118T150000
DTSTAMP:20260425T141643
CREATED:20230804T094212Z
LAST-MODIFIED:20230804T094212Z
UID:4230-1705393500-1705590000@pacewa.org
SUMMARY:Full Day Program
DESCRIPTION:  \n 
URL:https://pacewa.org/event/new-test-event-4-4-2-2-2-2-5-2-2-2-2-3-2-2-3-4-2-2-5-3-2-2-4-2-2-2-2-2-2-3-2-2-2-2-2-2-2-2-3-2-2-2-3-2-2-2-2-2-2-2-2-2-2-2-2-2-2-3-2-5-4-2-2-2-3-4-3-6-3-3-2-5-2-2-2-3-3-4/
END:VEVENT
BEGIN:VEVENT
DTSTART;TZID=UTC:20240115T083000
DTEND;TZID=UTC:20240115T130000
DTSTAMP:20260425T141643
CREATED:20230804T095128Z
LAST-MODIFIED:20230804T095128Z
UID:4240-1705307400-1705323600@pacewa.org
SUMMARY:Martin Luther King Jr Holiday (No School)
DESCRIPTION:No School (Martin Luther King Jr Holiday )
URL:https://pacewa.org/event/new-test-event-4-4-3-2-2-2-4-2-2-3-3-2-3-2/
END:VEVENT
BEGIN:VEVENT
DTSTART;VALUE=DATE:20240113
DTEND;VALUE=DATE:20240115
DTSTAMP:20260425T141643
CREATED:20230804T114525Z
LAST-MODIFIED:20230804T114525Z
UID:4396-1705104000-1705276799@pacewa.org
SUMMARY:Weekend
DESCRIPTION:Weekend (No School)
URL:https://pacewa.org/event/new-test-event-4-2-2-2-2-2-4-2-2-3-2-5-5-5-5-4-2-2-2-3-3-2-2-2-2-4-2-2-2-2-2-2-2-2-2-3-2-2-2-5-2-2-2-2-2-2-2-2-2-2-2-2-2-2-2-2-2-2-2-2-2-2-2-2-2-2-2-2-2-2-2-2-2-2-2-2-2-2-22/
ATTACH;FMTTYPE=image/jpeg:https://pacewa.org/wp-content/uploads/2023/08/Weekend-No-School.jpg
END:VEVENT
BEGIN:VEVENT
DTSTART;TZID=UTC:20240112T083000
DTEND;TZID=UTC:20240112T113000
DTSTAMP:20260425T141643
CREATED:20230804T095320Z
LAST-MODIFIED:20230816T230631Z
UID:4243-1705048200-1705059000@pacewa.org
SUMMARY:Half Day Program - Pickup Time 11:30am
DESCRIPTION:
URL:https://pacewa.org/event/new-test-event-4-4-3-2-2-2-4-2-2-2-2-2-2-2-2-2-2-2-2-2-2-2-5-2-2-2-2-3-3-6-2-3-2-2-3-2-4-4-3-2-2-2-3-2-2-3-3/
END:VEVENT
BEGIN:VEVENT
DTSTART;TZID=UTC:20240108T082500
DTEND;TZID=UTC:20240111T150000
DTSTAMP:20260425T141643
CREATED:20230804T094124Z
LAST-MODIFIED:20230804T094124Z
UID:4229-1704702300-1704985200@pacewa.org
SUMMARY:Full Day Program
DESCRIPTION:  \n 
URL:https://pacewa.org/event/new-test-event-4-4-2-2-2-2-5-2-2-2-2-3-2-2-3-4-2-2-5-3-2-2-4-2-2-2-2-2-2-3-2-2-2-2-2-2-2-2-3-2-2-2-3-2-2-2-2-2-2-2-2-2-2-2-2-2-2-3-2-5-4-2-2-2-3-4-3-6-3-3-2-5-2-2-2-3-3-3/
END:VEVENT
BEGIN:VEVENT
DTSTART;VALUE=DATE:20240106
DTEND;VALUE=DATE:20240108
DTSTAMP:20260425T141643
CREATED:20230804T114505Z
LAST-MODIFIED:20230804T114505Z
UID:4397-1704499200-1704671999@pacewa.org
SUMMARY:Weekend
DESCRIPTION:Weekend (No School)
URL:https://pacewa.org/event/new-test-event-4-2-2-2-2-2-4-2-2-3-2-5-5-5-5-4-2-2-2-3-3-2-2-2-2-4-2-2-2-2-2-2-2-2-2-3-2-2-2-5-2-2-2-2-2-2-2-2-2-2-2-2-2-2-2-2-2-2-2-2-2-2-2-2-2-2-2-2-2-2-2-2-2-2-2-2-2-2-21/
ATTACH;FMTTYPE=image/jpeg:https://pacewa.org/wp-content/uploads/2023/08/Weekend-No-School.jpg
END:VEVENT
BEGIN:VEVENT
DTSTART;TZID=UTC:20240105T083000
DTEND;TZID=UTC:20240105T234500
DTSTAMP:20260425T141643
CREATED:20230804T095304Z
LAST-MODIFIED:20230816T225820Z
UID:4242-1704443400-1704498300@pacewa.org
SUMMARY:Half Day Program - Pickup Time 11:30am
DESCRIPTION:
URL:https://pacewa.org/event/new-test-event-4-4-3-2-2-2-4-2-2-2-2-2-2-2-2-2-2-2-2-2-2-2-5-2-2-2-2-3-3-6-2-3-2-2-3-2-4-4-3-2-2-2-3-2-2-3-2/
END:VEVENT
BEGIN:VEVENT
DTSTART;TZID=UTC:20240103T082500
DTEND;TZID=UTC:20240104T150000
DTSTAMP:20260425T141643
CREATED:20230804T094052Z
LAST-MODIFIED:20230804T094052Z
UID:4228-1704270300-1704380400@pacewa.org
SUMMARY:Full Day Program
DESCRIPTION:  \n 
URL:https://pacewa.org/event/new-test-event-4-4-2-2-2-2-5-2-2-2-2-3-2-2-3-4-2-2-5-3-2-2-4-2-2-2-2-2-2-3-2-2-2-2-2-2-2-2-3-2-2-2-3-2-2-2-2-2-2-2-2-2-2-2-2-2-2-3-2-5-4-2-2-2-3-4-3-6-3-3-2-5-2-2-2-3-3-2/
END:VEVENT
BEGIN:VEVENT
DTSTART;VALUE=DATE:20231218
DTEND;VALUE=DATE:20240103
DTSTAMP:20260425T141643
CREATED:20230804T093907Z
LAST-MODIFIED:20230804T095642Z
UID:4226-1702857600-1704239999@pacewa.org
SUMMARY:Winter Break No School
DESCRIPTION:Winter Break  (Holiday)
URL:https://pacewa.org/event/new-test-event-4-2-2-2-2-2-4-2-2-3-2-5-5-5-5-4-2-2-2-3-3-2-2-2-2-4-2-2-2-2-2-2-2-2-2-3-3-2-2-2-2/
ATTACH;FMTTYPE=image/jpeg:https://pacewa.org/wp-content/uploads/2021/11/WinterBreak-1.jpg
END:VEVENT
BEGIN:VEVENT
DTSTART;VALUE=DATE:20231216
DTEND;VALUE=DATE:20231218
DTSTAMP:20260425T141643
CREATED:20230804T114802Z
LAST-MODIFIED:20230804T114802Z
UID:4403-1702684800-1702857599@pacewa.org
SUMMARY:Weekend
DESCRIPTION:Weekend (No School)
URL:https://pacewa.org/event/new-test-event-4-2-2-2-2-2-4-2-2-3-2-5-5-5-5-4-2-2-2-3-3-2-2-2-2-4-2-2-2-2-2-2-2-2-2-3-2-2-2-5-2-2-2-2-2-2-2-2-2-2-2-2-2-2-2-2-2-2-2-2-2-2-2-2-2-2-2-2-2-2-2-2-2-2-2-2-2-2-25/
ATTACH;FMTTYPE=image/jpeg:https://pacewa.org/wp-content/uploads/2023/08/Weekend-No-School.jpg
END:VEVENT
BEGIN:VEVENT
DTSTART;TZID=UTC:20231215T083000
DTEND;TZID=UTC:20231215T113000
DTSTAMP:20260425T141643
CREATED:20230804T093635Z
LAST-MODIFIED:20230816T225746Z
UID:4222-1702629000-1702639800@pacewa.org
SUMMARY:Half Day Program - Pickup Time 11:30am
DESCRIPTION:
URL:https://pacewa.org/event/new-test-event-4-4-3-2-2-2-4-2-2-2-2-2-2-2-2-2-2-2-2-2-2-2-5-2-2-2-2-3-3-6-2-3-2-2-3-2-4-4-3-2-2-2-3-2-2-3/
END:VEVENT
BEGIN:VEVENT
DTSTART;TZID=UTC:20231211T082500
DTEND;TZID=UTC:20231214T150000
DTSTAMP:20260425T141643
CREATED:20230804T093533Z
LAST-MODIFIED:20230804T093533Z
UID:4219-1702283100-1702566000@pacewa.org
SUMMARY:Full Day Program
DESCRIPTION:  \n 
URL:https://pacewa.org/event/new-test-event-4-4-2-2-2-2-5-2-2-2-2-3-2-2-3-4-2-2-5-3-2-2-4-2-2-2-2-2-2-3-2-2-2-2-2-2-2-2-3-2-2-2-3-2-2-2-2-2-2-2-2-2-2-2-2-2-2-3-2-5-4-2-2-2-3-4-3-6-3-3-2-5-2-2-2-3-3/
END:VEVENT
BEGIN:VEVENT
DTSTART;VALUE=DATE:20231209
DTEND;VALUE=DATE:20231211
DTSTAMP:20260425T141643
CREATED:20230804T114831Z
LAST-MODIFIED:20230804T114831Z
UID:4404-1702080000-1702252799@pacewa.org
SUMMARY:Weekend
DESCRIPTION:Weekend (No School)
URL:https://pacewa.org/event/new-test-event-4-2-2-2-2-2-4-2-2-3-2-5-5-5-5-4-2-2-2-3-3-2-2-2-2-4-2-2-2-2-2-2-2-2-2-3-2-2-2-5-2-2-2-2-2-2-2-2-2-2-2-2-2-2-2-2-2-2-2-2-2-2-2-2-2-2-2-2-2-2-2-2-2-2-2-2-2-2-26/
ATTACH;FMTTYPE=image/jpeg:https://pacewa.org/wp-content/uploads/2023/08/Weekend-No-School.jpg
END:VEVENT
BEGIN:VEVENT
DTSTART;TZID=UTC:20231208T083000
DTEND;TZID=UTC:20231208T113000
DTSTAMP:20260425T141643
CREATED:20230804T093557Z
LAST-MODIFIED:20230816T225702Z
UID:4223-1702024200-1702035000@pacewa.org
SUMMARY:Half Day Program - Pickup Time 11:30am
DESCRIPTION:
URL:https://pacewa.org/event/new-test-event-4-4-3-2-2-2-4-2-2-2-2-2-2-2-2-2-2-2-2-2-2-2-5-2-2-2-2-3-3-6-2-3-2-2-3-2-4-4-3-2-2-2-3-2-2-2/
END:VEVENT
BEGIN:VEVENT
DTSTART;TZID=UTC:20231204T082500
DTEND;TZID=UTC:20231207T150000
DTSTAMP:20260425T141643
CREATED:20230804T093514Z
LAST-MODIFIED:20230804T093514Z
UID:4218-1701678300-1701961200@pacewa.org
SUMMARY:Full Day Program
DESCRIPTION:  \n 
URL:https://pacewa.org/event/new-test-event-4-4-2-2-2-2-5-2-2-2-2-3-2-2-3-4-2-2-5-3-2-2-4-2-2-2-2-2-2-3-2-2-2-2-2-2-2-2-3-2-2-2-3-2-2-2-2-2-2-2-2-2-2-2-2-2-2-3-2-5-4-2-2-2-3-4-3-6-3-3-2-5-2-2-2-3-2/
END:VEVENT
BEGIN:VEVENT
DTSTART;VALUE=DATE:20231202
DTEND;VALUE=DATE:20231204
DTSTAMP:20260425T141643
CREATED:20230804T114914Z
LAST-MODIFIED:20230804T114914Z
UID:4407-1701475200-1701647999@pacewa.org
SUMMARY:Weekend
DESCRIPTION:Weekend (No School)
URL:https://pacewa.org/event/new-test-event-4-2-2-2-2-2-4-2-2-3-2-5-5-5-5-4-2-2-2-3-3-2-2-2-2-4-2-2-2-2-2-2-2-2-2-3-2-2-2-5-2-2-2-2-2-2-2-2-2-2-2-2-2-2-2-2-2-2-2-2-2-2-2-2-2-2-2-2-2-2-2-2-2-2-2-2-2-2-27/
ATTACH;FMTTYPE=image/jpeg:https://pacewa.org/wp-content/uploads/2023/08/Weekend-No-School.jpg
END:VEVENT
BEGIN:VEVENT
DTSTART;TZID=UTC:20231201T083000
DTEND;TZID=UTC:20231201T113000
DTSTAMP:20260425T141643
CREATED:20230804T093436Z
LAST-MODIFIED:20230816T225620Z
UID:4215-1701419400-1701430200@pacewa.org
SUMMARY:Half Day Program - Pickup Time 11:30am
DESCRIPTION:
URL:https://pacewa.org/event/new-test-event-4-4-3-2-2-2-4-2-2-2-2-2-2-2-2-2-2-2-2-2-2-2-5-2-2-2-2-3-3-6-2-3-2-2-3-2-4-4-3-2-2-2-3-2-2/
END:VEVENT
BEGIN:VEVENT
DTSTART;TZID=UTC:20231127T082500
DTEND;TZID=UTC:20231130T150000
DTSTAMP:20260425T141643
CREATED:20230804T093403Z
LAST-MODIFIED:20230804T093403Z
UID:4214-1701073500-1701356400@pacewa.org
SUMMARY:Full Day Program
DESCRIPTION:  \n 
URL:https://pacewa.org/event/new-test-event-4-4-2-2-2-2-5-2-2-2-2-3-2-2-3-4-2-2-5-3-2-2-4-2-2-2-2-2-2-3-2-2-2-2-2-2-2-2-3-2-2-2-3-2-2-2-2-2-2-2-2-2-2-2-2-2-2-3-2-5-4-2-2-2-3-4-3-6-3-3-2-5-2-2-2-3/
END:VEVENT
BEGIN:VEVENT
DTSTART;VALUE=DATE:20231125
DTEND;VALUE=DATE:20231127
DTSTAMP:20260425T141643
CREATED:20230804T115050Z
LAST-MODIFIED:20230804T115050Z
UID:4412-1700870400-1701043199@pacewa.org
SUMMARY:Weekend
DESCRIPTION:Weekend (No School)
URL:https://pacewa.org/event/new-test-event-4-2-2-2-2-2-4-2-2-3-2-5-5-5-5-4-2-2-2-3-3-2-2-2-2-4-2-2-2-2-2-2-2-2-2-3-2-2-2-5-2-2-2-2-2-2-2-2-2-2-2-2-2-2-2-2-2-2-2-2-2-2-2-2-2-2-2-2-2-2-2-2-2-2-2-2-2-2-31/
ATTACH;FMTTYPE=image/jpeg:https://pacewa.org/wp-content/uploads/2023/08/Weekend-No-School.jpg
END:VEVENT
BEGIN:VEVENT
DTSTART;TZID=UTC:20231122T083000
DTEND;TZID=UTC:20231124T130000
DTSTAMP:20260425T141643
CREATED:20230804T093250Z
LAST-MODIFIED:20230804T093250Z
UID:4210-1700641800-1700830800@pacewa.org
SUMMARY:Thanksgiving Break (No School)
DESCRIPTION:No School (Thanksgiving  Break)
URL:https://pacewa.org/event/new-test-event-4-4-3-2-2-2-4-2-2-3-2-2-2-2-2/
ATTACH;FMTTYPE=image/jpeg:https://pacewa.org/wp-content/uploads/2021/11/xThanksgiving-Day-1080x610-1.jpg
END:VEVENT
BEGIN:VEVENT
DTSTART;TZID=UTC:20231120T082500
DTEND;TZID=UTC:20231121T150000
DTSTAMP:20260425T141643
CREATED:20230804T093325Z
LAST-MODIFIED:20230804T093325Z
UID:4212-1700468700-1700578800@pacewa.org
SUMMARY:Full Day Program
DESCRIPTION:  \n 
URL:https://pacewa.org/event/new-test-event-4-4-2-2-2-2-5-2-2-2-2-3-2-2-3-4-2-2-5-3-2-2-4-2-2-2-2-2-2-3-2-2-2-2-2-2-2-2-3-2-2-2-3-2-2-2-2-2-2-2-2-2-2-2-2-2-2-3-2-5-4-2-2-2-3-4-3-6-3-3-2-5-2-2-2-2/
END:VEVENT
BEGIN:VEVENT
DTSTART;VALUE=DATE:20231118
DTEND;VALUE=DATE:20231120
DTSTAMP:20260425T141643
CREATED:20230804T115029Z
LAST-MODIFIED:20230804T115029Z
UID:4411-1700265600-1700438399@pacewa.org
SUMMARY:Weekend
DESCRIPTION:Weekend (No School)
URL:https://pacewa.org/event/new-test-event-4-2-2-2-2-2-4-2-2-3-2-5-5-5-5-4-2-2-2-3-3-2-2-2-2-4-2-2-2-2-2-2-2-2-2-3-2-2-2-5-2-2-2-2-2-2-2-2-2-2-2-2-2-2-2-2-2-2-2-2-2-2-2-2-2-2-2-2-2-2-2-2-2-2-2-2-2-2-30/
ATTACH;FMTTYPE=image/jpeg:https://pacewa.org/wp-content/uploads/2023/08/Weekend-No-School.jpg
END:VEVENT
END:VCALENDAR