BEGIN:VCALENDAR
VERSION:2.0
PRODID:-//Pace Academy - ECPv6.15.14//NONSGML v1.0//EN
CALSCALE:GREGORIAN
METHOD:PUBLISH
X-WR-CALNAME:Pace Academy
X-ORIGINAL-URL:https://pacewa.org
X-WR-CALDESC:Events for Pace Academy
REFRESH-INTERVAL;VALUE=DURATION:PT1H
X-Robots-Tag:noindex
X-PUBLISHED-TTL:PT1H
BEGIN:VTIMEZONE
TZID:UTC
BEGIN:STANDARD
TZOFFSETFROM:+0000
TZOFFSETTO:+0000
TZNAME:UTC
DTSTART:20240101T000000
END:STANDARD
END:VTIMEZONE
BEGIN:VEVENT
DTSTART;TZID=UTC:20251112T082500
DTEND;TZID=UTC:20251113T150000
DTSTAMP:20260424T002115
CREATED:20250806T072313Z
LAST-MODIFIED:20250806T072352Z
UID:5035-1762935900-1763046000@pacewa.org
SUMMARY:Full Day Program (KG to 10th Grade Drop-off Time 8:15am Pickup Time 3:00pm)
DESCRIPTION:  \n 
URL:https://pacewa.org/event/new-test-event-4-4-2-2-2-2-5-2-2-2-2-3-2-2-3-4-2-2-5-3-2-2-4-2-2-2-2-2-2-3-2-2-2-2-2-2-2-2-3-2-2-2-3-2-2-2-2-2-2-2-2-2-2-2-2-2-2-3-2-5-4-2-2-2-3-4-3-6-3-3-2-2-2-2-2-3-2-2-2-2-3-2-2-2-2-2-2-2-2-5-4-12/
END:VEVENT
BEGIN:VEVENT
DTSTART;TZID=UTC:20251111T083000
DTEND;TZID=UTC:20251111T130000
DTSTAMP:20260424T002115
CREATED:20250717T200920Z
LAST-MODIFIED:20250806T071511Z
UID:4882-1762849800-1762866000@pacewa.org
SUMMARY:Veterans Day Holiday (No School)
DESCRIPTION:No School (Veterans Day Holiday)
URL:https://pacewa.org/event/new-test-event-4-4-3-2-2-2-4-2-2-3-5-2-4-2-2/
ATTACH;FMTTYPE=image/jpeg:https://pacewa.org/wp-content/uploads/2021/11/VeteransDay16_1000.jpg
END:VEVENT
BEGIN:VEVENT
DTSTART;TZID=UTC:20251110T082500
DTEND;TZID=UTC:20251110T150000
DTSTAMP:20260424T002115
CREATED:20250717T200512Z
LAST-MODIFIED:20250806T072017Z
UID:4856-1762763100-1762786800@pacewa.org
SUMMARY:Full Day Program (KG to 10th Grade Drop-off Time 8:15am Pickup Time 3:00pm)
DESCRIPTION:  \n 
URL:https://pacewa.org/event/new-test-event-4-4-2-2-2-2-5-2-2-2-2-3-2-2-3-4-2-2-5-3-2-2-4-2-2-2-2-2-2-3-2-2-2-2-2-2-2-2-3-2-2-2-3-2-2-2-2-2-2-2-2-2-2-2-2-2-2-3-2-5-4-2-2-2-3-4-3-6-3-3-2-2-2-2-2-3-2-2-2-2-3-2-2-2-2-2-2-2-2-5-4-28/
END:VEVENT
BEGIN:VEVENT
DTSTART;TZID=UTC:20251107T083000
DTEND;TZID=UTC:20251107T233000
DTSTAMP:20260424T002115
CREATED:20250717T200429Z
LAST-MODIFIED:20250718T002125Z
UID:4860-1762504200-1762558200@pacewa.org
SUMMARY:Half Day Program - Pickup Time 11:30pm
DESCRIPTION:
URL:https://pacewa.org/event/new-test-event-4-4-3-2-2-2-4-2-2-2-2-2-2-2-2-2-2-2-2-2-2-2-5-2-2-2-2-3-3-6-2-3-2-2-3-2-4-4-3-2-2-2-2-2-2-2-6-2-2-2-3-4-3-2-6-3-4/
END:VEVENT
BEGIN:VEVENT
DTSTART;TZID=UTC:20251103T082500
DTEND;TZID=UTC:20251106T150000
DTSTAMP:20260424T002115
CREATED:20250717T200404Z
LAST-MODIFIED:20250717T200404Z
UID:4869-1762158300-1762441200@pacewa.org
SUMMARY:Full Day Program (KG to 10th Grade Drop-off Time 8:15am Pickup Time 3:00pm)
DESCRIPTION:  \n 
URL:https://pacewa.org/event/new-test-event-4-4-2-2-2-2-5-2-2-2-2-3-2-2-3-4-2-2-5-3-2-2-4-2-2-2-2-2-2-3-2-2-2-2-2-2-2-2-3-2-2-2-3-2-2-2-2-2-2-2-2-2-2-2-2-2-2-3-2-5-4-2-2-2-3-4-3-6-3-3-2-2-2-2-2-3-2-2-2-2-3-2-2-2-2-2-2-2-2-5-4-11/
END:VEVENT
BEGIN:VEVENT
DTSTART;TZID=UTC:20251031T083000
DTEND;TZID=UTC:20251031T123000
DTSTAMP:20260424T002115
CREATED:20250717T200253Z
LAST-MODIFIED:20250717T200253Z
UID:4857-1761899400-1761913800@pacewa.org
SUMMARY:Half Day Program - Pickup Time 12:30pm
DESCRIPTION:
URL:https://pacewa.org/event/new-test-event-4-4-3-2-2-2-4-2-2-2-2-2-2-2-2-2-2-2-2-2-2-2-5-2-2-2-2-3-3-6-2-3-2-2-3-2-4-4-3-2-2-2-2-2-2-2-6-2-2-2-3-4-3-2-6-3-3/
END:VEVENT
BEGIN:VEVENT
DTSTART;TZID=UTC:20251027T082500
DTEND;TZID=UTC:20251030T150000
DTSTAMP:20260424T002115
CREATED:20250717T200208Z
LAST-MODIFIED:20250717T200208Z
UID:4868-1761553500-1761836400@pacewa.org
SUMMARY:Full Day Program (KG to 10th Grade Drop-off Time 8:15am Pickup Time 3:00pm)
DESCRIPTION:  \n 
URL:https://pacewa.org/event/new-test-event-4-4-2-2-2-2-5-2-2-2-2-3-2-2-3-4-2-2-5-3-2-2-4-2-2-2-2-2-2-3-2-2-2-2-2-2-2-2-3-2-2-2-3-2-2-2-2-2-2-2-2-2-2-2-2-2-2-3-2-5-4-2-2-2-3-4-3-6-3-3-2-2-2-2-2-3-2-2-2-2-3-2-2-2-2-2-2-2-2-5-4-10/
END:VEVENT
BEGIN:VEVENT
DTSTART;TZID=UTC:20251024T083000
DTEND;TZID=UTC:20251024T123000
DTSTAMP:20260424T002115
CREATED:20250717T200125Z
LAST-MODIFIED:20250717T200125Z
UID:4861-1761294600-1761309000@pacewa.org
SUMMARY:Half Day Program - Pickup Time 12:30pm
DESCRIPTION:
URL:https://pacewa.org/event/new-test-event-4-4-3-2-2-2-4-2-2-2-2-2-2-2-2-2-2-2-2-2-2-2-5-2-2-2-2-3-3-6-2-3-2-2-3-2-4-4-3-2-2-2-2-2-2-2-6-2-2-2-3-4-3-2-6-3-2/
END:VEVENT
BEGIN:VEVENT
DTSTART;TZID=UTC:20251020T082500
DTEND;TZID=UTC:20251023T150000
DTSTAMP:20260424T002115
CREATED:20250717T200048Z
LAST-MODIFIED:20250717T200048Z
UID:4855-1760948700-1761231600@pacewa.org
SUMMARY:Full Day Program (KG to 10th Grade Drop-off Time 8:15am Pickup Time 3:00pm)
DESCRIPTION:  \n 
URL:https://pacewa.org/event/new-test-event-4-4-2-2-2-2-5-2-2-2-2-3-2-2-3-4-2-2-5-3-2-2-4-2-2-2-2-2-2-3-2-2-2-2-2-2-2-2-3-2-2-2-3-2-2-2-2-2-2-2-2-2-2-2-2-2-2-3-2-5-4-2-2-2-3-4-3-6-3-3-2-2-2-2-2-3-2-2-2-2-3-2-2-2-2-2-2-2-2-5-4-5-9/
END:VEVENT
BEGIN:VEVENT
DTSTART;TZID=UTC:20251017T090000
DTEND;TZID=UTC:20251017T130000
DTSTAMP:20260424T002115
CREATED:20250717T195919Z
LAST-MODIFIED:20250717T195919Z
UID:4866-1760691600-1760706000@pacewa.org
SUMMARY:Staff Development and Planning Day (No School) 
DESCRIPTION:Staff Development and Planning Day (No School)
URL:https://pacewa.org/event/new-test-event-4-4-3-2-2-2-4-2-2-2-2-2-2-2-2-2-2-2-2-2-2-2-5-2-2-2-2-3-2-2-2-2-2-2-2-2-2-2-2-2-2-2-2-2-2-2-2-2-3-2-2-2-2-2-3-2-2-2-2-3-2-2/
ATTACH;FMTTYPE=image/webp:https://pacewa.org/wp-content/uploads/2024/08/DALL·E-2024-08-03-14.56.36-A-colorful-and-engaging-graphic-for-Staff-Development-and-Planning-Day.-The-background-features-professional-and-educational-elements-such-as-notebook.webp
END:VEVENT
BEGIN:VEVENT
DTSTART;TZID=UTC:20251013T082500
DTEND;TZID=UTC:20251016T150000
DTSTAMP:20260424T002115
CREATED:20250717T195824Z
LAST-MODIFIED:20250717T195824Z
UID:4863-1760343900-1760626800@pacewa.org
SUMMARY:Full Day Program (KG to 10th Grade Drop-off Time 8:15am Pickup Time 3:00pm)
DESCRIPTION:  \n 
URL:https://pacewa.org/event/new-test-event-4-4-2-2-2-2-5-2-2-2-2-3-2-2-3-4-2-2-5-3-2-2-4-2-2-2-2-2-2-3-2-2-2-2-2-2-2-2-3-2-2-2-3-2-2-2-2-2-2-2-2-2-2-2-2-2-2-3-2-5-4-2-2-2-3-4-3-6-3-3-2-2-2-2-2-3-2-2-2-2-3-2-2-2-2-2-2-2-2-5-4-5-8/
END:VEVENT
BEGIN:VEVENT
DTSTART;TZID=UTC:20251006T082500
DTEND;TZID=UTC:20251009T150000
DTSTAMP:20260424T002115
CREATED:20250717T195745Z
LAST-MODIFIED:20250717T195745Z
UID:4862-1759739100-1760022000@pacewa.org
SUMMARY:Full Day Program (KG to 10th Grade Drop-off Time 8:15am Pickup Time 3:00pm)
DESCRIPTION:  \n 
URL:https://pacewa.org/event/new-test-event-4-4-2-2-2-2-5-2-2-2-2-3-2-2-3-4-2-2-5-3-2-2-4-2-2-2-2-2-2-3-2-2-2-2-2-2-2-2-3-2-2-2-3-2-2-2-2-2-2-2-2-2-2-2-2-2-2-3-2-5-4-2-2-2-3-4-3-6-3-3-2-2-2-2-2-3-2-2-2-2-3-2-2-2-2-2-2-2-2-5-4-5-7/
END:VEVENT
BEGIN:VEVENT
DTSTART;TZID=UTC:20251003T083000
DTEND;TZID=UTC:20251003T123000
DTSTAMP:20260424T002115
CREATED:20250717T194409Z
LAST-MODIFIED:20250717T194502Z
UID:4713-1759480200-1759494600@pacewa.org
SUMMARY:Half Day Program - Pickup Time 12:30pm
DESCRIPTION:
URL:https://pacewa.org/event/new-test-event-4-4-3-2-2-2-4-2-2-2-2-2-2-2-2-2-2-2-2-2-2-2-5-2-2-2-2-3-3-6-2-3-2-2-3-2-4-4-3-2-2-2-2-2-2-2-6-2-2-2-3-4-3-2-6-3/
END:VEVENT
BEGIN:VEVENT
DTSTART;TZID=UTC:20250929T082500
DTEND;TZID=UTC:20251002T150000
DTSTAMP:20260424T002115
CREATED:20250717T195530Z
LAST-MODIFIED:20250717T195530Z
UID:4853-1759134300-1759417200@pacewa.org
SUMMARY:Full Day Program (KG to 10th Grade Drop-off Time 8:15am Pickup Time 3:00pm)
DESCRIPTION:  \n 
URL:https://pacewa.org/event/new-test-event-4-4-2-2-2-2-5-2-2-2-2-3-2-2-3-4-2-2-5-3-2-2-4-2-2-2-2-2-2-3-2-2-2-2-2-2-2-2-3-2-2-2-3-2-2-2-2-2-2-2-2-2-2-2-2-2-2-3-2-5-4-2-2-2-3-4-3-6-3-3-2-2-2-2-2-3-2-2-2-2-3-2-2-2-2-2-2-2-2-5-4-5-6/
END:VEVENT
BEGIN:VEVENT
DTSTART;TZID=UTC:20250926T090000
DTEND;TZID=UTC:20250926T130000
DTSTAMP:20260424T002115
CREATED:20250717T194644Z
LAST-MODIFIED:20250717T194723Z
UID:4850-1758877200-1758891600@pacewa.org
SUMMARY:Staff Development and Planning Day (No School) 
DESCRIPTION:Staff Development and Planning Day (No School)
URL:https://pacewa.org/event/new-test-event-4-4-3-2-2-2-4-2-2-2-2-2-2-2-2-2-2-2-2-2-2-2-5-2-2-2-2-3-2-2-2-2-2-2-2-2-2-2-2-2-2-2-2-2-2-2-2-2-3-2-2-2-2-2-3-2-2-2-2-3-2/
ATTACH;FMTTYPE=image/webp:https://pacewa.org/wp-content/uploads/2024/08/DALL·E-2024-08-03-14.56.36-A-colorful-and-engaging-graphic-for-Staff-Development-and-Planning-Day.-The-background-features-professional-and-educational-elements-such-as-notebook.webp
END:VEVENT
BEGIN:VEVENT
DTSTART;TZID=UTC:20250922T082500
DTEND;TZID=UTC:20250925T150000
DTSTAMP:20260424T002115
CREATED:20250717T194226Z
LAST-MODIFIED:20250717T195002Z
UID:4847-1758529500-1758812400@pacewa.org
SUMMARY:Full Day Program (KG to 10th Grade Drop-off Time 8:15am Pickup Time 3:00pm)
DESCRIPTION:  \n 
URL:https://pacewa.org/event/new-test-event-4-4-2-2-2-2-5-2-2-2-2-3-2-2-3-4-2-2-5-3-2-2-4-2-2-2-2-2-2-3-2-2-2-2-2-2-2-2-3-2-2-2-3-2-2-2-2-2-2-2-2-2-2-2-2-2-2-3-2-5-4-2-2-2-3-4-3-6-3-3-2-2-2-2-2-3-2-2-2-2-3-2-2-2-2-2-2-2-2-5-4-5-4/
END:VEVENT
BEGIN:VEVENT
DTSTART;TZID=UTC:20250919T090000
DTEND;TZID=UTC:20250919T123000
DTSTAMP:20260424T002115
CREATED:20250717T193839Z
LAST-MODIFIED:20250717T193839Z
UID:4839-1758272400-1758285000@pacewa.org
SUMMARY:Special Hours 9:00am to 12:30pm
DESCRIPTION:
URL:https://pacewa.org/event/new-test-event-4-4-4-4-5-2-2-2-3-2/
END:VEVENT
BEGIN:VEVENT
DTSTART;TZID=UTC:20250915T090000
DTEND;TZID=UTC:20250918T140000
DTSTAMP:20260424T002115
CREATED:20250717T193803Z
LAST-MODIFIED:20250717T193803Z
UID:4838-1757926800-1758204000@pacewa.org
SUMMARY:Special Hours 9:00am to 2:00pm
DESCRIPTION:
URL:https://pacewa.org/event/new-test-event-4-4-4-4-5-2-2-2-2-2-2/
END:VEVENT
BEGIN:VEVENT
DTSTART;TZID=UTC:20250912T090000
DTEND;TZID=UTC:20250912T123000
DTSTAMP:20260424T002115
CREATED:20250717T193403Z
LAST-MODIFIED:20250717T194027Z
UID:4836-1757667600-1757680200@pacewa.org
SUMMARY:Special Hours 9:00am to 12:30pm
DESCRIPTION:
URL:https://pacewa.org/event/new-test-event-4-4-4-4-5-2-2-2-3/
END:VEVENT
BEGIN:VEVENT
DTSTART;TZID=UTC:20250908T090000
DTEND;TZID=UTC:20250911T140000
DTSTAMP:20260424T002115
CREATED:20250717T193240Z
LAST-MODIFIED:20250717T194007Z
UID:4834-1757322000-1757599200@pacewa.org
SUMMARY:Special Hours 9:00am to 2:00pm
DESCRIPTION:
URL:https://pacewa.org/event/new-test-event-4-4-4-4-5-2-2-2-2-2/
END:VEVENT
BEGIN:VEVENT
DTSTART;TZID=UTC:20250905T090000
DTEND;TZID=UTC:20250905T123000
DTSTAMP:20260424T002115
CREATED:20250717T191819Z
LAST-MODIFIED:20250717T193935Z
UID:4830-1757062800-1757075400@pacewa.org
SUMMARY:Special Hours 9:00am to 12:30pm
DESCRIPTION:
URL:https://pacewa.org/event/new-test-event-4-4-4-4-5-2-2-2/
END:VEVENT
BEGIN:VEVENT
DTSTART;TZID=UTC:20250904T090000
DTEND;TZID=UTC:20250904T140000
DTSTAMP:20260424T002115
CREATED:20250717T191917Z
LAST-MODIFIED:20250717T193904Z
UID:4832-1756976400-1756994400@pacewa.org
SUMMARY:Special Hours 9:00am to 2:00pm
DESCRIPTION:
URL:https://pacewa.org/event/new-test-event-4-4-4-4-5-2-2-2-2/
END:VEVENT
BEGIN:VEVENT
DTSTART;TZID=UTC:20250904T090000
DTEND;TZID=UTC:20250904T140000
DTSTAMP:20260424T002115
CREATED:20250717T191150Z
LAST-MODIFIED:20250717T191150Z
UID:4827-1756976400-1756994400@pacewa.org
SUMMARY:Program Start Day 9:00am to 2:00pm
DESCRIPTION:First Day of Semester 1\n1st Day of School – Semester 1\nIt is our pleasure to welcome you to PACE Academy. \nKG to 10th Grades Drop-off Time 9:00am Pickup Time 2:00pm  \n 
URL:https://pacewa.org/event/new-test-event-5-2-4-3-2-2-2/
ATTACH;FMTTYPE=image/webp:https://pacewa.org/wp-content/uploads/2024/08/DALL·E-2024-08-03-14.29.27-A-modern-and-stylish-graphic-for-PACE-Academy-Back-To-School_-September-4-2024.-Use-contemporary-design-elements-sleek-fonts-and-a-clean-layout.-.webp
END:VEVENT
BEGIN:VEVENT
DTSTART;TZID=UTC:20250903T110000
DTEND;TZID=UTC:20250903T130000
DTSTAMP:20260424T002115
CREATED:20250717T190421Z
LAST-MODIFIED:20250717T190637Z
UID:4824-1756897200-1756904400@pacewa.org
SUMMARY:MEET YOUR TEACHER & PARENTS ORIENTATION
DESCRIPTION:(PACE Meet Your Teacher )\nIt is our pleasure to welcome you to PACE Academy. Back to School (Meet Your Teacher and Parents Orientation) is scheduled for September 3\, 2025. It will be a short day\, you and your child will be introduced to our staff and teachers. \n 
URL:https://pacewa.org/event/new-test-event-5-2-5-2-3-2/
ATTACH;FMTTYPE=image/jpeg:https://pacewa.org/wp-content/uploads/2024/09/Meet-PACE-Team-2024.jpg
END:VEVENT
BEGIN:VEVENT
DTSTART;TZID=UTC:20250825T090000
DTEND;TZID=UTC:20250829T130000
DTSTAMP:20260424T002115
CREATED:20250717T184920Z
LAST-MODIFIED:20250717T190806Z
UID:4822-1756112400-1756472400@pacewa.org
SUMMARY:Staff Development and Planning Day (No School) 
DESCRIPTION:Staff Development and Planning Day (No School)
URL:https://pacewa.org/event/new-test-event-4-4-3-2-2-2-4-2-2-2-2-2-2-2-2-2-2-2-2-2-2-2-5-2-2-2-2-3-2-2-2-2-2-2-2-2-2-2-2-2-2-2-2-2-2-2-2-2-3-2-2-2-2-2-3-2-2-2-2-3/
ATTACH;FMTTYPE=image/webp:https://pacewa.org/wp-content/uploads/2024/08/DALL·E-2024-08-03-14.56.36-A-colorful-and-engaging-graphic-for-Staff-Development-and-Planning-Day.-The-background-features-professional-and-educational-elements-such-as-notebook.webp
END:VEVENT
BEGIN:VEVENT
DTSTART;TZID=UTC:20250618T083000
DTEND;TZID=UTC:20250618T130000
DTSTAMP:20260424T002115
CREATED:20240808T152119Z
LAST-MODIFIED:20240808T152459Z
UID:4523-1750235400-1750251600@pacewa.org
SUMMARY:(Last Day of School)
DESCRIPTION:Last Day of School \n 
URL:https://pacewa.org/event/new-test-event-4-2-2-2-2-2-4-2-2-3-2-5-5-5-5-4-2-2-3-2-2-2-2/
END:VEVENT
BEGIN:VEVENT
DTSTART;TZID=UTC:20250616T090000
DTEND;TZID=UTC:20250902T143000
DTSTAMP:20260424T002115
CREATED:20250717T184540Z
LAST-MODIFIED:20250717T184540Z
UID:4820-1750064400-1756823400@pacewa.org
SUMMARY:Summer Break
DESCRIPTION:No School -Summer Break
URL:https://pacewa.org/event/new-test-event-4-4-2-2-2-2-5-2-2-2-2-3-2-2-3-4-2-2-5-3-2-2-2-2-2-3-2-2-3-2-2-2/
ATTACH;FMTTYPE=image/jpeg:https://pacewa.org/wp-content/uploads/2021/11/summer-break-slide.jpg
END:VEVENT
BEGIN:VEVENT
DTSTART;TZID=UTC:20250616T082500
DTEND;TZID=UTC:20250617T150000
DTSTAMP:20260424T002115
CREATED:20240808T151602Z
LAST-MODIFIED:20240808T151602Z
UID:4720-1750062300-1750172400@pacewa.org
SUMMARY:Full Day Program
DESCRIPTION:  \n 
URL:https://pacewa.org/event/new-test-event-4-4-2-2-2-2-5-2-2-2-2-3-2-2-3-4-2-2-5-3-2-2-4-2-2-2-2-2-2-3-2-2-2-2-2-2-2-2-3-2-2-2-3-2-2-2-2-2-2-2-2-2-2-2-2-2-2-3-2-5-4-2-2-2-3-4-3-6-3-3-2-2-2-2-2-3-2-2-2-2-3-2-2-2-2-2-2-2-2-5-4-5-5/
END:VEVENT
BEGIN:VEVENT
DTSTART;TZID=UTC:20250613T083000
DTEND;TZID=UTC:20250613T123000
DTSTAMP:20260424T002115
CREATED:20240804T232921Z
LAST-MODIFIED:20240808T151909Z
UID:4717-1749803400-1749817800@pacewa.org
SUMMARY:Half Day Program - Pickup Time 12:30pm
DESCRIPTION:
URL:https://pacewa.org/event/new-test-event-4-4-3-2-2-2-4-2-2-2-2-2-2-2-2-2-2-2-2-2-2-2-5-2-2-2-2-3-3-6-2-3-2-2-3-2-4-4-3-2-2-2-2-2-2-2-6-2-2-2-3-4-3-2-6-2-2/
END:VEVENT
BEGIN:VEVENT
DTSTART;TZID=UTC:20250609T082500
DTEND;TZID=UTC:20250612T150000
DTSTAMP:20260424T002115
CREATED:20240804T232702Z
LAST-MODIFIED:20240808T151507Z
UID:4710-1749457500-1749740400@pacewa.org
SUMMARY:Full Day Program
DESCRIPTION:  \n 
URL:https://pacewa.org/event/new-test-event-4-4-2-2-2-2-5-2-2-2-2-3-2-2-3-4-2-2-5-3-2-2-4-2-2-2-2-2-2-3-2-2-2-2-2-2-2-2-3-2-2-2-3-2-2-2-2-2-2-2-2-2-2-2-2-2-2-3-2-5-4-2-2-2-3-4-3-6-3-3-2-2-2-2-2-3-2-2-2-2-3-2-2-2-2-2-2-2-2-5-4-5-3/
END:VEVENT
END:VCALENDAR