BEGIN:VCALENDAR
VERSION:2.0
PRODID:-//Pace Academy - ECPv6.15.14//NONSGML v1.0//EN
CALSCALE:GREGORIAN
METHOD:PUBLISH
X-WR-CALNAME:Pace Academy
X-ORIGINAL-URL:https://pacewa.org
X-WR-CALDESC:Events for Pace Academy
REFRESH-INTERVAL;VALUE=DURATION:PT1H
X-Robots-Tag:noindex
X-PUBLISHED-TTL:PT1H
BEGIN:VTIMEZONE
TZID:UTC
BEGIN:STANDARD
TZOFFSETFROM:+0000
TZOFFSETTO:+0000
TZNAME:UTC
DTSTART:20210101T000000
END:STANDARD
END:VTIMEZONE
BEGIN:VEVENT
DTSTART;TZID=UTC:20220603T082500
DTEND;TZID=UTC:20220603T130000
DTSTAMP:20260426T030330
CREATED:20211107T062949Z
LAST-MODIFIED:20211107T062949Z
UID:3610-1654244700-1654261200@pacewa.org
SUMMARY:Half Day Program
DESCRIPTION:KG to 10th Grade – Virtual (Friday) till further notice.
URL:https://pacewa.org/event/new-test-event-4-4-3-2-2-2-4-2-2-2-2-2-2-2-2-2-2-2-2-2-2-2-5-2-2-2-2-3-2-2-2-2-2-2-2-2-2-2-2-2-2-2-2-2-2-2-2-2-3-2-2-2-3-2-2-2-3-2-2-2-2-2-2-2-2-2-2-3-2-2/
END:VEVENT
BEGIN:VEVENT
DTSTART;TZID=UTC:20220531T082500
DTEND;TZID=UTC:20220602T150000
DTSTAMP:20260426T030330
CREATED:20211107T062816Z
LAST-MODIFIED:20211107T065040Z
UID:3608-1653985500-1654182000@pacewa.org
SUMMARY:Full Day Program
DESCRIPTION:KG to 10th Grade Drop-off Time 8:25am Pickup Time 3:00pm \n 
URL:https://pacewa.org/event/new-test-event-4-4-2-2-2-2-5-2-2-2-2-3-2-2-3-4-2-2-5-3-2-2-4-2-2-2-2-2-2-3-2-2-2-2-2-2-2-2-3-2-2-2-3-2-2-2-2-2-2-2-2-2-2-2-2-2-2-2-2/
END:VEVENT
BEGIN:VEVENT
DTSTART;TZID=UTC:20220530T090000
DTEND;TZID=UTC:20220530T143000
DTSTAMP:20260426T030330
CREATED:20211107T062659Z
LAST-MODIFIED:20211107T074338Z
UID:3606-1653901200-1653921000@pacewa.org
SUMMARY:No School (Memorial Day Holiday!!!)
DESCRIPTION:No School -Memorial Day Holiday
URL:https://pacewa.org/event/new-test-event-4-4-2-2-2-2-5-2-2-2-2-3-2-2-3-4-2-2-5-3-2-2-2-2-2-3-2-2-3/
ATTACH;FMTTYPE=image/jpeg:https://pacewa.org/wp-content/uploads/2021/11/608040d779269.image_.jpg
END:VEVENT
BEGIN:VEVENT
DTSTART;TZID=UTC:20220527T082500
DTEND;TZID=UTC:20220527T130000
DTSTAMP:20260426T030330
CREATED:20211107T062552Z
LAST-MODIFIED:20211107T062552Z
UID:3604-1653639900-1653656400@pacewa.org
SUMMARY:Half Day Program
DESCRIPTION:KG to 10th Grade – Virtual (Friday) till further notice.
URL:https://pacewa.org/event/new-test-event-4-4-3-2-2-2-4-2-2-2-2-2-2-2-2-2-2-2-2-2-2-2-5-2-2-2-2-3-2-2-2-2-2-2-2-2-2-2-2-2-2-2-2-2-2-2-2-2-3-2-2-2-3-2-2-2-3-2-2-2-2-2-2-2-2-2-2-3-2/
END:VEVENT
BEGIN:VEVENT
DTSTART;TZID=UTC:20220523T082500
DTEND;TZID=UTC:20220526T150000
DTSTAMP:20260426T030330
CREATED:20211107T062504Z
LAST-MODIFIED:20211107T062504Z
UID:3602-1653294300-1653577200@pacewa.org
SUMMARY:Full Day Program
DESCRIPTION:KG to 10th Grade Drop-off Time 8:25am Pickup Time 3:00pm \n 
URL:https://pacewa.org/event/new-test-event-4-4-2-2-2-2-5-2-2-2-2-3-2-2-3-4-2-2-5-3-2-2-4-2-2-2-2-2-2-3-2-2-2-2-2-2-2-2-3-2-2-2-3-2-2-2-2-2-2-2-2-2-2-2-2-2-2-2/
END:VEVENT
BEGIN:VEVENT
DTSTART;TZID=UTC:20220520T082500
DTEND;TZID=UTC:20220520T130000
DTSTAMP:20260426T030330
CREATED:20211107T062423Z
LAST-MODIFIED:20211107T062423Z
UID:3600-1653035100-1653051600@pacewa.org
SUMMARY:Half Day Program
DESCRIPTION:KG to 10th Grade – Virtual (Friday) till further notice.
URL:https://pacewa.org/event/new-test-event-4-4-3-2-2-2-4-2-2-2-2-2-2-2-2-2-2-2-2-2-2-2-5-2-2-2-2-3-2-2-2-2-2-2-2-2-2-2-2-2-2-2-2-2-2-2-2-2-3-2-2-2-3-2-2-2-3-2-2-2-2-2-2-2-2-2-2-3/
END:VEVENT
BEGIN:VEVENT
DTSTART;TZID=UTC:20220516T082500
DTEND;TZID=UTC:20220519T150000
DTSTAMP:20260426T030330
CREATED:20211107T062357Z
LAST-MODIFIED:20211107T062357Z
UID:3598-1652689500-1652972400@pacewa.org
SUMMARY:Full Day Program
DESCRIPTION:KG to 10th Grade Drop-off Time 8:25am Pickup Time 3:00pm \n 
URL:https://pacewa.org/event/new-test-event-4-4-2-2-2-2-5-2-2-2-2-3-2-2-3-4-2-2-5-3-2-2-4-2-2-2-2-2-2-3-2-2-2-2-2-2-2-2-3-2-2-2-3-2-2-2-2-2-2-2-2-2-2-2-2-2-2/
END:VEVENT
BEGIN:VEVENT
DTSTART;TZID=UTC:20220513T082500
DTEND;TZID=UTC:20220513T130000
DTSTAMP:20260426T030330
CREATED:20211107T062325Z
LAST-MODIFIED:20211107T062325Z
UID:3594-1652430300-1652446800@pacewa.org
SUMMARY:Half Day Program
DESCRIPTION:KG to 10th Grade – Virtual (Friday) till further notice.
URL:https://pacewa.org/event/new-test-event-4-4-3-2-2-2-4-2-2-2-2-2-2-2-2-2-2-2-2-2-2-2-5-2-2-2-2-3-2-2-2-2-2-2-2-2-2-2-2-2-2-2-2-2-2-2-2-2-3-2-2-2-3-2-2-2-3-2-2-2-2-2-2-2-2-2-2/
END:VEVENT
BEGIN:VEVENT
DTSTART;TZID=UTC:20220509T082500
DTEND;TZID=UTC:20220512T150000
DTSTAMP:20260426T030330
CREATED:20211107T062223Z
LAST-MODIFIED:20211107T062234Z
UID:3595-1652084700-1652367600@pacewa.org
SUMMARY:Full Day Program
DESCRIPTION:KG to 10th Grade Drop-off Time 8:25am Pickup Time 3:00pm \n 
URL:https://pacewa.org/event/new-test-event-4-4-2-2-2-2-5-2-2-2-2-3-2-2-3-4-2-2-5-3-2-2-4-2-2-2-2-2-2-3-2-2-2-2-2-2-2-2-3-2-2-2-3-2-2-2-2-2-2-2-2-2-2-2-2-2/
END:VEVENT
BEGIN:VEVENT
DTSTART;TZID=UTC:20220506T082500
DTEND;TZID=UTC:20220506T130000
DTSTAMP:20260426T030330
CREATED:20211107T060741Z
LAST-MODIFIED:20211107T062113Z
UID:3581-1651825500-1651842000@pacewa.org
SUMMARY:Half Day Program
DESCRIPTION:KG to 10th Grade – Virtual (Friday) till further notice.
URL:https://pacewa.org/event/new-test-event-4-4-3-2-2-2-4-2-2-2-2-2-2-2-2-2-2-2-2-2-2-2-5-2-2-2-2-3-2-2-2-2-2-2-2-2-2-2-2-2-2-2-2-2-2-2-2-2-3-2-2-2-3-2-2-2-3-2-2-2-2-2-2-2-2-2-2-2/
END:VEVENT
BEGIN:VEVENT
DTSTART;TZID=UTC:20220504T082500
DTEND;TZID=UTC:20220505T150000
DTSTAMP:20260426T030330
CREATED:20211107T061846Z
LAST-MODIFIED:20211107T062134Z
UID:3592-1651652700-1651762800@pacewa.org
SUMMARY:Full Day Program
DESCRIPTION:KG to 10th Grade Drop-off Time 8:25am Pickup Time 3:00pm \n 
URL:https://pacewa.org/event/new-test-event-4-4-2-2-2-2-5-2-2-2-2-3-2-2-3-4-2-2-5-3-2-2-4-2-2-2-2-2-2-3-2-2-2-2-2-2-2-2-3-2-2-2-3-2-2-2-2-2-2-2-2-2-2-2-4/
END:VEVENT
BEGIN:VEVENT
DTSTART;TZID=UTC:20220427T090000
DTEND;TZID=UTC:20220503T143000
DTSTAMP:20260426T030330
CREATED:20211107T061711Z
LAST-MODIFIED:20211107T073754Z
UID:3590-1651050000-1651588200@pacewa.org
SUMMARY:No School Ramadan and (Eid Holidays!!!)
DESCRIPTION:No School – Ramadan and Eid Holidays
URL:https://pacewa.org/event/new-test-event-4-4-2-2-2-2-5-2-2-2-2-3-2-2-3-4-2-2-5-3-2-2-2-2-2-3-3-2/
ATTACH;FMTTYPE=image/jpeg:https://pacewa.org/wp-content/uploads/2021/11/ramadan-eid-mubarak-moon-hanging-with-mosque-lanterns-hanging_24877-64634.jpg
END:VEVENT
BEGIN:VEVENT
DTSTART;TZID=UTC:20220425T082500
DTEND;TZID=UTC:20220426T150000
DTSTAMP:20260426T030330
CREATED:20211107T061358Z
LAST-MODIFIED:20211107T061434Z
UID:3588-1650875100-1650985200@pacewa.org
SUMMARY:Full Day Program
DESCRIPTION:KG to 10th Grade Drop-off Time 8:25am Pickup Time 3:00pm \n 
URL:https://pacewa.org/event/new-test-event-4-4-2-2-2-2-5-2-2-2-2-3-2-2-3-4-2-2-5-3-2-2-4-2-2-2-2-2-2-3-2-2-2-2-2-2-2-2-3-2-2-2-3-2-2-2-2-2-2-2-2-2-2-2-3/
END:VEVENT
BEGIN:VEVENT
DTSTART;TZID=UTC:20220422T082500
DTEND;TZID=UTC:20220422T130000
DTSTAMP:20260426T030330
CREATED:20211107T065348Z
LAST-MODIFIED:20211107T065738Z
UID:3622-1650615900-1650632400@pacewa.org
SUMMARY:Half Day Program
DESCRIPTION:KG to 10th Grade – Virtual (Friday) till further notice.
URL:https://pacewa.org/event/new-test-event-4-4-3-2-2-2-4-2-2-2-2-2-2-2-2-2-2-2-2-2-2-2-5-2-2-2-2-3-2-2-2-2-2-2-2-2-2-2-2-2-2-2-2-2-2-2-2-2-3-2-2-2-3-2-2-2-3-2-2-2-2-2-2-2-2-2-2-2-2/
END:VEVENT
BEGIN:VEVENT
DTSTART;TZID=UTC:20220418T082500
DTEND;TZID=UTC:20220421T150000
DTSTAMP:20260426T030330
CREATED:20211107T060715Z
LAST-MODIFIED:20211107T061115Z
UID:3579-1650270300-1650553200@pacewa.org
SUMMARY:Full Day Program
DESCRIPTION:KG to 10th Grade Drop-off Time 8:25am Pickup Time 3:00pm \n 
URL:https://pacewa.org/event/new-test-event-4-4-2-2-2-2-5-2-2-2-2-3-2-2-3-4-2-2-5-3-2-2-4-2-2-2-2-2-2-3-2-2-2-2-2-2-2-2-3-2-2-2-3-2-2-2-2-2-2-2-2-2-2-2/
END:VEVENT
BEGIN:VEVENT
DTSTART;TZID=UTC:20220415T082500
DTEND;TZID=UTC:20220415T130000
DTSTAMP:20260426T030330
CREATED:20211107T065241Z
LAST-MODIFIED:20211107T065241Z
UID:3620-1650011100-1650027600@pacewa.org
SUMMARY:Half Day Program
DESCRIPTION:KG to 10th Grade – Virtual (Friday) till further notice.
URL:https://pacewa.org/event/new-test-event-4-4-3-2-2-2-4-2-2-2-2-2-2-2-2-2-2-2-2-2-2-2-5-2-2-2-2-3-2-2-2-2-2-2-2-2-2-2-2-2-2-2-2-2-2-2-2-2-3-2-2-2-3-2-2-2-3-2-2-2-2-2-2-2-2-2-2-4/
END:VEVENT
BEGIN:VEVENT
DTSTART;TZID=UTC:20220411T082500
DTEND;TZID=UTC:20220414T150000
DTSTAMP:20260426T030330
CREATED:20211107T060842Z
LAST-MODIFIED:20211107T060842Z
UID:3583-1649665500-1649948400@pacewa.org
SUMMARY:Full Day Program
DESCRIPTION:KG to 10th Grade Drop-off Time 8:25am Pickup Time 3:00pm \n 
URL:https://pacewa.org/event/new-test-event-4-4-2-2-2-2-5-2-2-2-2-3-2-2-3-4-2-2-5-3-2-2-4-2-2-2-2-2-2-3-2-2-2-2-2-2-2-2-3-2-2-2-3-2-2-2-2-2-2-2-2-2-2-2-2/
END:VEVENT
BEGIN:VEVENT
DTSTART;TZID=UTC:20220404T083000
DTEND;TZID=UTC:20220408T150000
DTSTAMP:20260426T030330
CREATED:20211107T061258Z
LAST-MODIFIED:20211107T074707Z
UID:3586-1649061000-1649430000@pacewa.org
SUMMARY:No School Spring Break!!!
DESCRIPTION:No School Spring Break!!
URL:https://pacewa.org/event/new-test-event-4-4-2-2-2-2-5-2-2-2-2-3-2-2-3-4-2-2-5-2-2-2-2/
ATTACH;FMTTYPE=image/jpeg:https://pacewa.org/wp-content/uploads/2021/11/spring-break.jpg
END:VEVENT
BEGIN:VEVENT
DTSTART;TZID=UTC:20220401T082500
DTEND;TZID=UTC:20220401T130000
DTSTAMP:20260426T030330
CREATED:20211107T060146Z
LAST-MODIFIED:20211107T060146Z
UID:3572-1648801500-1648818000@pacewa.org
SUMMARY:Half Day Program
DESCRIPTION:KG to 10th Grade – Virtual (Friday) till further notice.
URL:https://pacewa.org/event/new-test-event-4-4-3-2-2-2-4-2-2-2-2-2-2-2-2-2-2-2-2-2-2-2-5-2-2-2-2-3-2-2-2-2-2-2-2-2-2-2-2-2-2-2-2-2-2-2-2-2-3-2-2-2-3-2-2-2-3-2-2-2-2-2-2-2-2-2/
END:VEVENT
BEGIN:VEVENT
DTSTART;TZID=UTC:20220328T082500
DTEND;TZID=UTC:20220331T150000
DTSTAMP:20260426T030330
CREATED:20211107T060115Z
LAST-MODIFIED:20211107T060115Z
UID:3576-1648455900-1648738800@pacewa.org
SUMMARY:Full Day Program
DESCRIPTION:KG to 10th Grade Drop-off Time 8:25am Pickup Time 3:00pm \n 
URL:https://pacewa.org/event/new-test-event-4-4-2-2-2-2-5-2-2-2-2-3-2-2-3-4-2-2-5-3-2-2-4-2-2-2-2-2-2-3-2-2-2-2-2-2-2-2-3-2-2-2-3-2-2-2-2-2-2-2-2-2-2/
END:VEVENT
BEGIN:VEVENT
DTSTART;TZID=UTC:20220325T082500
DTEND;TZID=UTC:20220325T130000
DTSTAMP:20260426T030330
CREATED:20211107T055703Z
LAST-MODIFIED:20211107T055730Z
UID:3568-1648196700-1648213200@pacewa.org
SUMMARY:Half Day Program
DESCRIPTION:KG to 10th Grade – Virtual (Friday) till further notice.
URL:https://pacewa.org/event/new-test-event-4-4-3-2-2-2-4-2-2-2-2-2-2-2-2-2-2-2-2-2-2-2-5-2-2-2-2-3-2-2-2-2-2-2-2-2-2-2-2-2-2-2-2-2-2-2-2-2-3-2-2-2-3-2-2-2-3-2-2-2-2-2-2-2-2/
END:VEVENT
BEGIN:VEVENT
DTSTART;TZID=UTC:20220324T180000
DTEND;TZID=UTC:20220324T200000
DTSTAMP:20260426T030330
CREATED:20220309T100310Z
LAST-MODIFIED:20220315T025809Z
UID:3671-1648144800-1648152000@pacewa.org
SUMMARY:Open House
DESCRIPTION:PACE OPEN HOUSE 2022 \nPACE is currently enrolling students for full-time 2022-2023 \nEducation programs include: Kindergarten (KG)\, 1st\, 2nd\, 3rd\, 4th\, 5th\, 6th\, 7t\, 8th \,9th and 10th Grades. \n  \nPACE ACADEMY OPEN HOUSE 2022 \nDate: Thursday\, March 24\, 2022 \nTime: 6:00pm – 8:00pm \nLocation: MAPS\, Main Hall \nAddress: 17550 NE 67th Court\, Redmond\, WA 98052 \n  \nPlease plan to visit PACE Academy Open House 2022\, for an Information and Open Enrollment Evening. \n  \nPACE Academy offers a unique Islamic education experience: \n– Qur’an Memorization (1 Juzu/year) \n– Islamic Studies \n– Arabic \n– WAVA (Math\, Language Art\, Science) K12 teaching \n  \nCome meet us in-person\, gather insights into our successful PACE program\, our student’s achievements and PACE’s plans for the upcoming academic year. \n  \nWe are accepting students for all grades: \nKindergarten (KG)\, 1st\, 2nd\, 3rd\, 4th\, 5th\, 6th\, 7th\, 8th\, 9th and 10th  Grades. \nApplications will be considered on a first come – first\, serve basis. \nSeats are limited! \n  \nAll questions regarding WAVA registration and the QIA program will be answered at Open House! \n  \nPlease mark your calendar for this important event. \nPACE staffs and volunteers will be available throughout the event to answer your questions. \n 
URL:https://pacewa.org/event/new-test-event-4-4-2-2-2-2-5-2-2-2-2-3-2-2-3-4-2-2-5-3-2-2-4-2-2-2-2-2-2-3-2-2-2-2-2-2-2-2-3-2-2-2-3-2-2-2-2-2-2-2-2-2-3/
ATTACH;FMTTYPE=image/jpeg:https://pacewa.org/wp-content/uploads/2022/03/OPENHOUSE-2022-a-01.jpg
END:VEVENT
BEGIN:VEVENT
DTSTART;TZID=UTC:20220321T082500
DTEND;TZID=UTC:20220324T150000
DTSTAMP:20260426T030330
CREATED:20211107T055934Z
LAST-MODIFIED:20211107T055934Z
UID:3571-1647851100-1648134000@pacewa.org
SUMMARY:Full Day Program
DESCRIPTION:KG to 10th Grade Drop-off Time 8:25am Pickup Time 3:00pm \n 
URL:https://pacewa.org/event/new-test-event-4-4-2-2-2-2-5-2-2-2-2-3-2-2-3-4-2-2-5-3-2-2-4-2-2-2-2-2-2-3-2-2-2-2-2-2-2-2-3-2-2-2-3-2-2-2-2-2-2-2-2-2/
END:VEVENT
BEGIN:VEVENT
DTSTART;TZID=UTC:20220318T083000
DTEND;TZID=UTC:20220318T130000
DTSTAMP:20260426T030330
CREATED:20211107T055842Z
LAST-MODIFIED:20211107T074945Z
UID:3573-1647592200-1647608400@pacewa.org
SUMMARY:Teacher's Development Day (No School)
DESCRIPTION:No School (Teacher’s Development Day)
URL:https://pacewa.org/event/new-test-event-4-4-3-2-2-2-4-2-2-3-5-2-2-2-2/
ATTACH;FMTTYPE=image/jpeg:https://pacewa.org/wp-content/uploads/2021/11/teacher_development.jpg
END:VEVENT
BEGIN:VEVENT
DTSTART;TZID=UTC:20220314T082500
DTEND;TZID=UTC:20220317T150000
DTSTAMP:20260426T030330
CREATED:20211107T055644Z
LAST-MODIFIED:20211107T055644Z
UID:3567-1647246300-1647529200@pacewa.org
SUMMARY:Full Day Program
DESCRIPTION:KG to 10th Grade Drop-off Time 8:25am Pickup Time 3:00pm \n 
URL:https://pacewa.org/event/new-test-event-4-4-2-2-2-2-5-2-2-2-2-3-2-2-3-4-2-2-5-3-2-2-4-2-2-2-2-2-2-3-2-2-2-2-2-2-2-2-3-2-2-2-3-2-2-2-2-2-2-2-2/
END:VEVENT
BEGIN:VEVENT
DTSTART;TZID=UTC:20220311T082500
DTEND;TZID=UTC:20220311T130000
DTSTAMP:20260426T030330
CREATED:20211107T055612Z
LAST-MODIFIED:20211107T055612Z
UID:3564-1646987100-1647003600@pacewa.org
SUMMARY:Half Day Program
DESCRIPTION:KG to 10th Grade – Virtual (Friday) till further notice.
URL:https://pacewa.org/event/new-test-event-4-4-3-2-2-2-4-2-2-2-2-2-2-2-2-2-2-2-2-2-2-2-5-2-2-2-2-3-2-2-2-2-2-2-2-2-2-2-2-2-2-2-2-2-2-2-2-2-3-2-2-2-3-2-2-2-3-2-2-2-2-2-2-2/
END:VEVENT
BEGIN:VEVENT
DTSTART;TZID=UTC:20220307T082500
DTEND;TZID=UTC:20220310T150000
DTSTAMP:20260426T030330
CREATED:20211107T055545Z
LAST-MODIFIED:20211107T055545Z
UID:3563-1646641500-1646924400@pacewa.org
SUMMARY:Full Day Program
DESCRIPTION:KG to 10th Grade Drop-off Time 8:25am Pickup Time 3:00pm \n 
URL:https://pacewa.org/event/new-test-event-4-4-2-2-2-2-5-2-2-2-2-3-2-2-3-4-2-2-5-3-2-2-4-2-2-2-2-2-2-3-2-2-2-2-2-2-2-2-3-2-2-2-3-2-2-2-2-2-2-2/
END:VEVENT
BEGIN:VEVENT
DTSTART;TZID=UTC:20220304T082500
DTEND;TZID=UTC:20220304T130000
DTSTAMP:20260426T030330
CREATED:20211107T055438Z
LAST-MODIFIED:20211107T055438Z
UID:3560-1646382300-1646398800@pacewa.org
SUMMARY:Half Day Program
DESCRIPTION:KG to 10th Grade – Virtual (Friday) till further notice.
URL:https://pacewa.org/event/new-test-event-4-4-3-2-2-2-4-2-2-2-2-2-2-2-2-2-2-2-2-2-2-2-5-2-2-2-2-3-2-2-2-2-2-2-2-2-2-2-2-2-2-2-2-2-2-2-2-2-3-2-2-2-3-2-2-2-3-2-2-2-2-2-2/
END:VEVENT
BEGIN:VEVENT
DTSTART;TZID=UTC:20220228T082500
DTEND;TZID=UTC:20220303T150000
DTSTAMP:20260426T030330
CREATED:20211107T055407Z
LAST-MODIFIED:20211107T055407Z
UID:3559-1646036700-1646319600@pacewa.org
SUMMARY:Full Day Program
DESCRIPTION:KG to 10th Grade Drop-off Time 8:25am Pickup Time 3:00pm \n 
URL:https://pacewa.org/event/new-test-event-4-4-2-2-2-2-5-2-2-2-2-3-2-2-3-4-2-2-5-3-2-2-4-2-2-2-2-2-2-3-2-2-2-2-2-2-2-2-3-2-2-2-3-2-2-2-2-2-2/
END:VEVENT
BEGIN:VEVENT
DTSTART;TZID=UTC:20220225T082500
DTEND;TZID=UTC:20220225T130000
DTSTAMP:20260426T030330
CREATED:20211107T055318Z
LAST-MODIFIED:20211107T055318Z
UID:3557-1645777500-1645794000@pacewa.org
SUMMARY:Half Day Program
DESCRIPTION:KG to 10th Grade – Virtual (Friday) till further notice.
URL:https://pacewa.org/event/new-test-event-4-4-3-2-2-2-4-2-2-2-2-2-2-2-2-2-2-2-2-2-2-2-5-2-2-2-2-3-2-2-2-2-2-2-2-2-2-2-2-2-2-2-2-2-2-2-2-2-3-2-2-2-3-2-2-2-3-2-2-2-2-2/
END:VEVENT
END:VCALENDAR