BEGIN:VCALENDAR
VERSION:2.0
PRODID:-//Pace Academy - ECPv6.15.14//NONSGML v1.0//EN
CALSCALE:GREGORIAN
METHOD:PUBLISH
X-WR-CALNAME:Pace Academy
X-ORIGINAL-URL:https://pacewa.org
X-WR-CALDESC:Events for Pace Academy
REFRESH-INTERVAL;VALUE=DURATION:PT1H
X-Robots-Tag:noindex
X-PUBLISHED-TTL:PT1H
BEGIN:VTIMEZONE
TZID:UTC
BEGIN:STANDARD
TZOFFSETFROM:+0000
TZOFFSETTO:+0000
TZNAME:UTC
DTSTART:20230101T000000
END:STANDARD
END:VTIMEZONE
BEGIN:VEVENT
DTSTART;TZID=UTC:20240301T083000
DTEND;TZID=UTC:20240301T234500
DTSTAMP:20260425T122734
CREATED:20230804T102738Z
LAST-MODIFIED:20230804T102738Z
UID:4280-1709281800-1709336700@pacewa.org
SUMMARY:Half Day Program - Pickup Time 11:45pm
DESCRIPTION:
URL:https://pacewa.org/event/new-test-event-4-4-3-2-2-2-4-2-2-2-2-2-2-2-2-2-2-2-2-2-2-2-5-2-2-2-2-3-3-6-2-3-2-2-3-2-4-4-3-2-2-2-3-2-2-3-5-5-2/
END:VEVENT
BEGIN:VEVENT
DTSTART;VALUE=DATE:20240302
DTEND;VALUE=DATE:20240304
DTSTAMP:20260425T122734
CREATED:20230804T114028Z
LAST-MODIFIED:20230804T114028Z
UID:4379-1709337600-1709510399@pacewa.org
SUMMARY:Weekend
DESCRIPTION:Weekend (No School)
URL:https://pacewa.org/event/new-test-event-4-2-2-2-2-2-4-2-2-3-2-5-5-5-5-4-2-2-2-3-3-2-2-2-2-4-2-2-2-2-2-2-2-2-2-3-2-2-2-5-2-2-2-2-2-2-2-2-2-2-2-2-2-2-2-2-2-2-2-2-2-2-2-2-2-2-2-2-2-2-2-2-2-2-2-2-2-2-12/
ATTACH;FMTTYPE=image/jpeg:https://pacewa.org/wp-content/uploads/2023/08/Weekend-No-School.jpg
END:VEVENT
BEGIN:VEVENT
DTSTART;TZID=UTC:20240304T082500
DTEND;TZID=UTC:20240307T150000
DTSTAMP:20260425T122734
CREATED:20230804T102538Z
LAST-MODIFIED:20230804T102538Z
UID:4272-1709540700-1709823600@pacewa.org
SUMMARY:Full Day Program
DESCRIPTION:  \n 
URL:https://pacewa.org/event/new-test-event-4-4-2-2-2-2-5-2-2-2-2-3-2-2-3-4-2-2-5-3-2-2-4-2-2-2-2-2-2-3-2-2-2-2-2-2-2-2-3-2-2-2-3-2-2-2-2-2-2-2-2-2-2-2-2-2-2-3-2-5-4-2-2-2-3-4-3-6-3-3-2-5-2-2-2-3-3-5-5-2/
END:VEVENT
BEGIN:VEVENT
DTSTART;TZID=UTC:20240307T180000
DTEND;TZID=UTC:20240307T200000
DTSTAMP:20260425T122734
CREATED:20230807T035822Z
LAST-MODIFIED:20230807T035822Z
UID:4447-1709834400-1709841600@pacewa.org
SUMMARY:Open House
DESCRIPTION:PACE OPEN HOUSE 2024 \nPACE is currently enrolling students for full-time 2024-2025 \nEducation programs include: Kindergarten (KG)\, 1st\, 2nd\, 3rd\, 4th\, 5th\, 6th\, 7t\, 8th \,9th and 10th Grades. \n  \nPACE ACADEMY OPEN HOUSE 2024 \nDate:  March 7\, 2024 \nTime: 6:00pm – 8:00pm \nLocation: MAPS\, 3rd Floor \nAddress: 17550 NE 67th Court\, Redmond\, WA 98052 \n  \nPlease plan to visit PACE Academy Open House 2024\, for an Information and Open Enrollment Evening. \n  \nPACE Academy offers a unique Islamic education experience: \n– Qur’an Memorization (1 Juzu/year) \n– Islamic Studies \n– Arabic \n– WAVA (Math\, Language Art\, Science) K12 teaching \n  \nCome meet us in-person\, gather insights into our successful PACE program\, our student’s achievements and PACE’s plans for the upcoming academic year. \n  \nWe are accepting students for all grades: \nKindergarten (KG)\, 1st\, 2nd\, 3rd\, 4th\, 5th\, 6th\, 7th\, 8th\, 9th and 10th  Grades. \nApplications will be considered on a first come – first\, serve basis. \nSeats are limited! \n  \nAll questions regarding WAVA registration and the QIA program will be answered at Open House! \n  \nPlease mark your calendar for this important event. \nPACE staffs and volunteers will be available throughout the event to answer your questions. \n 
URL:https://pacewa.org/event/new-test-event-4-4-2-2-2-2-5-2-2-2-2-3-2-2-3-4-2-2-5-3-2-2-4-2-2-2-2-2-2-3-2-2-2-2-2-2-2-2-3-2-2-2-3-2-2-2-2-2-2-2-2-2-3-2-2/
END:VEVENT
BEGIN:VEVENT
DTSTART;TZID=UTC:20240308T083000
DTEND;TZID=UTC:20240308T234500
DTSTAMP:20260425T122734
CREATED:20230804T102754Z
LAST-MODIFIED:20230804T102754Z
UID:4281-1709886600-1709941500@pacewa.org
SUMMARY:Half Day Program - Pickup Time 11:45pm
DESCRIPTION:
URL:https://pacewa.org/event/new-test-event-4-4-3-2-2-2-4-2-2-2-2-2-2-2-2-2-2-2-2-2-2-2-5-2-2-2-2-3-3-6-2-3-2-2-3-2-4-4-3-2-2-2-3-2-2-3-5-5-3/
END:VEVENT
BEGIN:VEVENT
DTSTART;VALUE=DATE:20240309
DTEND;VALUE=DATE:20240311
DTSTAMP:20260425T122734
CREATED:20230804T114044Z
LAST-MODIFIED:20230804T114044Z
UID:4378-1709942400-1710115199@pacewa.org
SUMMARY:Weekend
DESCRIPTION:Weekend (No School)
URL:https://pacewa.org/event/new-test-event-4-2-2-2-2-2-4-2-2-3-2-5-5-5-5-4-2-2-2-3-3-2-2-2-2-4-2-2-2-2-2-2-2-2-2-3-2-2-2-5-2-2-2-2-2-2-2-2-2-2-2-2-2-2-2-2-2-2-2-2-2-2-2-2-2-2-2-2-2-2-2-2-2-2-2-2-2-2-13/
ATTACH;FMTTYPE=image/jpeg:https://pacewa.org/wp-content/uploads/2023/08/Weekend-No-School.jpg
END:VEVENT
BEGIN:VEVENT
DTSTART;TZID=UTC:20240311T082500
DTEND;TZID=UTC:20240314T150000
DTSTAMP:20260425T122734
CREATED:20230804T102556Z
LAST-MODIFIED:20230804T102556Z
UID:4273-1710145500-1710428400@pacewa.org
SUMMARY:Full Day Program
DESCRIPTION:  \n 
URL:https://pacewa.org/event/new-test-event-4-4-2-2-2-2-5-2-2-2-2-3-2-2-3-4-2-2-5-3-2-2-4-2-2-2-2-2-2-3-2-2-2-2-2-2-2-2-3-2-2-2-3-2-2-2-2-2-2-2-2-2-2-2-2-2-2-3-2-5-4-2-2-2-3-4-3-6-3-3-2-5-2-2-2-3-3-5-5-3/
END:VEVENT
BEGIN:VEVENT
DTSTART;TZID=UTC:20240315T090000
DTEND;TZID=UTC:20240315T130000
DTSTAMP:20260425T122734
CREATED:20230804T104033Z
LAST-MODIFIED:20230804T104033Z
UID:4287-1710493200-1710507600@pacewa.org
SUMMARY:Staff Development and Planning Day (No School) 
DESCRIPTION:Staff Development and Planning Day (No School)
URL:https://pacewa.org/event/new-test-event-4-4-3-2-2-2-4-2-2-2-2-2-2-2-2-2-2-2-2-2-2-2-5-2-2-2-2-3-2-2-2-2-2-2-2-2-2-2-2-2-2-2-2-2-2-2-2-2-3-2-2-2-2-2-3-2-2-2/
END:VEVENT
BEGIN:VEVENT
DTSTART;VALUE=DATE:20240316
DTEND;VALUE=DATE:20240318
DTSTAMP:20260425T122734
CREATED:20230804T114105Z
LAST-MODIFIED:20230804T114105Z
UID:4376-1710547200-1710719999@pacewa.org
SUMMARY:Weekend
DESCRIPTION:Weekend (No School)
URL:https://pacewa.org/event/new-test-event-4-2-2-2-2-2-4-2-2-3-2-5-5-5-5-4-2-2-2-3-3-2-2-2-2-4-2-2-2-2-2-2-2-2-2-3-2-2-2-5-2-2-2-2-2-2-2-2-2-2-2-2-2-2-2-2-2-2-2-2-2-2-2-2-2-2-2-2-2-2-2-2-2-2-2-2-2-2-14/
ATTACH;FMTTYPE=image/jpeg:https://pacewa.org/wp-content/uploads/2023/08/Weekend-No-School.jpg
END:VEVENT
BEGIN:VEVENT
DTSTART;TZID=UTC:20240318T082500
DTEND;TZID=UTC:20240321T150000
DTSTAMP:20260425T122734
CREATED:20230804T102614Z
LAST-MODIFIED:20230804T102614Z
UID:4274-1710750300-1711033200@pacewa.org
SUMMARY:Full Day Program
DESCRIPTION:  \n 
URL:https://pacewa.org/event/new-test-event-4-4-2-2-2-2-5-2-2-2-2-3-2-2-3-4-2-2-5-3-2-2-4-2-2-2-2-2-2-3-2-2-2-2-2-2-2-2-3-2-2-2-3-2-2-2-2-2-2-2-2-2-2-2-2-2-2-3-2-5-4-2-2-2-3-4-3-6-3-3-2-5-2-2-2-3-3-5-5-4/
END:VEVENT
BEGIN:VEVENT
DTSTART;TZID=UTC:20240322T083000
DTEND;TZID=UTC:20240322T234500
DTSTAMP:20260425T122734
CREATED:20230804T102833Z
LAST-MODIFIED:20230804T102833Z
UID:4282-1711096200-1711151100@pacewa.org
SUMMARY:Half Day Program - Pickup Time 11:45pm
DESCRIPTION:
URL:https://pacewa.org/event/new-test-event-4-4-3-2-2-2-4-2-2-2-2-2-2-2-2-2-2-2-2-2-2-2-5-2-2-2-2-3-3-6-2-3-2-2-3-2-4-4-3-2-2-2-3-2-2-3-5-5-4/
END:VEVENT
BEGIN:VEVENT
DTSTART;VALUE=DATE:20240323
DTEND;VALUE=DATE:20240325
DTSTAMP:20260425T122734
CREATED:20230804T114125Z
LAST-MODIFIED:20230804T114125Z
UID:4377-1711152000-1711324799@pacewa.org
SUMMARY:Weekend
DESCRIPTION:Weekend (No School)
URL:https://pacewa.org/event/new-test-event-4-2-2-2-2-2-4-2-2-3-2-5-5-5-5-4-2-2-2-3-3-2-2-2-2-4-2-2-2-2-2-2-2-2-2-3-2-2-2-5-2-2-2-2-2-2-2-2-2-2-2-2-2-2-2-2-2-2-2-2-2-2-2-2-2-2-2-2-2-2-2-2-2-2-2-2-2-2-15/
ATTACH;FMTTYPE=image/jpeg:https://pacewa.org/wp-content/uploads/2023/08/Weekend-No-School.jpg
END:VEVENT
BEGIN:VEVENT
DTSTART;TZID=UTC:20240325T082500
DTEND;TZID=UTC:20240328T150000
DTSTAMP:20260425T122734
CREATED:20230804T102642Z
LAST-MODIFIED:20230804T102642Z
UID:4275-1711355100-1711638000@pacewa.org
SUMMARY:Full Day Program
DESCRIPTION:  \n 
URL:https://pacewa.org/event/new-test-event-4-4-2-2-2-2-5-2-2-2-2-3-2-2-3-4-2-2-5-3-2-2-4-2-2-2-2-2-2-3-2-2-2-2-2-2-2-2-3-2-2-2-3-2-2-2-2-2-2-2-2-2-2-2-2-2-2-3-2-5-4-2-2-2-3-4-3-6-3-3-2-5-2-2-2-3-3-5-5-5/
END:VEVENT
BEGIN:VEVENT
DTSTART;TZID=UTC:20240329T083000
DTEND;TZID=UTC:20240329T113000
DTSTAMP:20260425T122734
CREATED:20230804T111236Z
LAST-MODIFIED:20230816T224945Z
UID:4337-1711701000-1711711800@pacewa.org
SUMMARY:Half Day Program - Pickup Time 11:30AM
DESCRIPTION:
URL:https://pacewa.org/event/new-test-event-4-4-3-2-2-2-4-2-2-2-2-2-2-2-2-2-2-2-2-2-2-2-5-2-2-2-2-3-3-6-2-3-2-2-3-2-4-4-3-2-2-2-3-2-2-3-5-5-4-5-5-2/
END:VEVENT
BEGIN:VEVENT
DTSTART;VALUE=DATE:20240330
DTEND;VALUE=DATE:20240401
DTSTAMP:20260425T122734
CREATED:20230804T114147Z
LAST-MODIFIED:20230804T114147Z
UID:4384-1711756800-1711929599@pacewa.org
SUMMARY:Weekend
DESCRIPTION:Weekend (No School)
URL:https://pacewa.org/event/new-test-event-4-2-2-2-2-2-4-2-2-3-2-5-5-5-5-4-2-2-2-3-3-2-2-2-2-4-2-2-2-2-2-2-2-2-2-3-2-2-2-5-2-2-2-2-2-2-2-2-2-2-2-2-2-2-2-2-2-2-2-2-2-2-2-2-2-2-2-2-2-2-2-2-2-2-2-2-2-2-16/
ATTACH;FMTTYPE=image/jpeg:https://pacewa.org/wp-content/uploads/2023/08/Weekend-No-School.jpg
END:VEVENT
BEGIN:VEVENT
DTSTART;TZID=UTC:20240401T083000
DTEND;TZID=UTC:20240405T150000
DTSTAMP:20260425T122734
CREATED:20230804T104258Z
LAST-MODIFIED:20230804T104258Z
UID:4289-1711960200-1712329200@pacewa.org
SUMMARY:No School Spring Break!!!
DESCRIPTION:No School Spring Break!!
URL:https://pacewa.org/event/new-test-event-4-4-2-2-2-2-5-2-2-2-2-3-2-2-3-4-2-2-5-2-2-2-2-2-2/
ATTACH;FMTTYPE=image/jpeg:https://pacewa.org/wp-content/uploads/2021/11/spring-break.jpg
END:VEVENT
BEGIN:VEVENT
DTSTART;VALUE=DATE:20240406
DTEND;VALUE=DATE:20240408
DTSTAMP:20260425T122734
CREATED:20230804T113933Z
LAST-MODIFIED:20230804T113933Z
UID:4373-1712361600-1712534399@pacewa.org
SUMMARY:Weekend
DESCRIPTION:Weekend (No School)
URL:https://pacewa.org/event/new-test-event-4-2-2-2-2-2-4-2-2-3-2-5-5-5-5-4-2-2-2-3-3-2-2-2-2-4-2-2-2-2-2-2-2-2-2-3-2-2-2-5-2-2-2-2-2-2-2-2-2-2-2-2-2-2-2-2-2-2-2-2-2-2-2-2-2-2-2-2-2-2-2-2-2-2-2-2-2-2-11/
ATTACH;FMTTYPE=image/jpeg:https://pacewa.org/wp-content/uploads/2023/08/Weekend-No-School.jpg
END:VEVENT
BEGIN:VEVENT
DTSTART;VALUE=DATE:20240413
DTEND;VALUE=DATE:20240415
DTSTAMP:20260425T122734
CREATED:20230804T113755Z
LAST-MODIFIED:20230804T113755Z
UID:4368-1712966400-1713139199@pacewa.org
SUMMARY:Weekend
DESCRIPTION:Weekend (No School)
URL:https://pacewa.org/event/new-test-event-4-2-2-2-2-2-4-2-2-3-2-5-5-5-5-4-2-2-2-3-3-2-2-2-2-4-2-2-2-2-2-2-2-2-2-3-2-2-2-5-2-2-2-2-2-2-2-2-2-2-2-2-2-2-2-2-2-2-2-2-2-2-2-2-2-2-2-2-2-2-2-2-2-2-2-2-2-2-8/
ATTACH;FMTTYPE=image/jpeg:https://pacewa.org/wp-content/uploads/2023/08/Weekend-No-School.jpg
END:VEVENT
BEGIN:VEVENT
DTSTART;TZID=UTC:20240415T082500
DTEND;TZID=UTC:20240418T150000
DTSTAMP:20260425T122734
CREATED:20230804T104641Z
LAST-MODIFIED:20230804T104641Z
UID:4291-1713169500-1713452400@pacewa.org
SUMMARY:Full Day Program
DESCRIPTION:  \n 
URL:https://pacewa.org/event/new-test-event-4-4-2-2-2-2-5-2-2-2-2-3-2-2-3-4-2-2-5-3-2-2-4-2-2-2-2-2-2-3-2-2-2-2-2-2-2-2-3-2-2-2-3-2-2-2-2-2-2-2-2-2-2-2-2-2-2-3-2-5-4-2-2-2-3-4-3-6-3-3-2-5-2-2-2-3-3-5-5-5-2/
END:VEVENT
BEGIN:VEVENT
DTSTART;TZID=UTC:20240419T083000
DTEND;TZID=UTC:20240419T234500
DTSTAMP:20260425T122734
CREATED:20230804T104816Z
LAST-MODIFIED:20230804T104816Z
UID:4297-1713515400-1713570300@pacewa.org
SUMMARY:Half Day Program - Pickup Time 11:45pm
DESCRIPTION:
URL:https://pacewa.org/event/new-test-event-4-4-3-2-2-2-4-2-2-2-2-2-2-2-2-2-2-2-2-2-2-2-5-2-2-2-2-3-3-6-2-3-2-2-3-2-4-4-3-2-2-2-3-2-2-3-5-5-4-2/
END:VEVENT
BEGIN:VEVENT
DTSTART;VALUE=DATE:20240420
DTEND;VALUE=DATE:20240422
DTSTAMP:20260425T122734
CREATED:20230804T113908Z
LAST-MODIFIED:20230804T113908Z
UID:4372-1713571200-1713743999@pacewa.org
SUMMARY:Weekend
DESCRIPTION:Weekend (No School)
URL:https://pacewa.org/event/new-test-event-4-2-2-2-2-2-4-2-2-3-2-5-5-5-5-4-2-2-2-3-3-2-2-2-2-4-2-2-2-2-2-2-2-2-2-3-2-2-2-5-2-2-2-2-2-2-2-2-2-2-2-2-2-2-2-2-2-2-2-2-2-2-2-2-2-2-2-2-2-2-2-2-2-2-2-2-2-2-10/
ATTACH;FMTTYPE=image/jpeg:https://pacewa.org/wp-content/uploads/2023/08/Weekend-No-School.jpg
END:VEVENT
BEGIN:VEVENT
DTSTART;TZID=UTC:20240422T082500
DTEND;TZID=UTC:20240425T150000
DTSTAMP:20260425T122734
CREATED:20230804T104655Z
LAST-MODIFIED:20230804T104655Z
UID:4292-1713774300-1714057200@pacewa.org
SUMMARY:Full Day Program
DESCRIPTION:  \n 
URL:https://pacewa.org/event/new-test-event-4-4-2-2-2-2-5-2-2-2-2-3-2-2-3-4-2-2-5-3-2-2-4-2-2-2-2-2-2-3-2-2-2-2-2-2-2-2-3-2-2-2-3-2-2-2-2-2-2-2-2-2-2-2-2-2-2-3-2-5-4-2-2-2-3-4-3-6-3-3-2-5-2-2-2-3-3-5-5-5-3/
END:VEVENT
BEGIN:VEVENT
DTSTART;TZID=UTC:20240426T083000
DTEND;TZID=UTC:20240426T234500
DTSTAMP:20260425T122734
CREATED:20230804T104835Z
LAST-MODIFIED:20230804T104835Z
UID:4298-1714120200-1714175100@pacewa.org
SUMMARY:Half Day Program - Pickup Time 11:45pm
DESCRIPTION:
URL:https://pacewa.org/event/new-test-event-4-4-3-2-2-2-4-2-2-2-2-2-2-2-2-2-2-2-2-2-2-2-5-2-2-2-2-3-3-6-2-3-2-2-3-2-4-4-3-2-2-2-3-2-2-3-5-5-4-3/
END:VEVENT
BEGIN:VEVENT
DTSTART;VALUE=DATE:20240427
DTEND;VALUE=DATE:20240429
DTSTAMP:20260425T122734
CREATED:20230804T113206Z
LAST-MODIFIED:20230804T113206Z
UID:4354-1714176000-1714348799@pacewa.org
SUMMARY:Weekend
DESCRIPTION:Weekend (No School)
URL:https://pacewa.org/event/new-test-event-4-2-2-2-2-2-4-2-2-3-2-5-5-5-5-4-2-2-2-3-3-2-2-2-2-4-2-2-2-2-2-2-2-2-2-3-2-2-2-5-2-2-2-2-2-2-2-2-2-2-2-2-2-2-2-2-2-2-2-2-2-2-2-2-2-2-2-2-2-2-2-2-2-2-2-2-2-2-7/
ATTACH;FMTTYPE=image/jpeg:https://pacewa.org/wp-content/uploads/2023/08/Weekend-No-School.jpg
END:VEVENT
BEGIN:VEVENT
DTSTART;TZID=UTC:20240429T082500
DTEND;TZID=UTC:20240502T150000
DTSTAMP:20260425T122734
CREATED:20230804T104724Z
LAST-MODIFIED:20230804T104724Z
UID:4293-1714379100-1714662000@pacewa.org
SUMMARY:Full Day Program
DESCRIPTION:  \n 
URL:https://pacewa.org/event/new-test-event-4-4-2-2-2-2-5-2-2-2-2-3-2-2-3-4-2-2-5-3-2-2-4-2-2-2-2-2-2-3-2-2-2-2-2-2-2-2-3-2-2-2-3-2-2-2-2-2-2-2-2-2-2-2-2-2-2-3-2-5-4-2-2-2-3-4-3-6-3-3-2-5-2-2-2-3-3-5-5-5-4/
END:VEVENT
BEGIN:VEVENT
DTSTART;TZID=UTC:20240503T083000
DTEND;TZID=UTC:20240503T113000
DTSTAMP:20260425T122734
CREATED:20230804T104904Z
LAST-MODIFIED:20230816T225441Z
UID:4299-1714725000-1714735800@pacewa.org
SUMMARY:Half Day Program - Pickup Time 11:30am
DESCRIPTION:
URL:https://pacewa.org/event/new-test-event-4-4-3-2-2-2-4-2-2-2-2-2-2-2-2-2-2-2-2-2-2-2-5-2-2-2-2-3-3-6-2-3-2-2-3-2-4-4-3-2-2-2-3-2-2-3-5-5-4-4/
END:VEVENT
BEGIN:VEVENT
DTSTART;VALUE=DATE:20240504
DTEND;VALUE=DATE:20240506
DTSTAMP:20260425T122734
CREATED:20230804T112948Z
LAST-MODIFIED:20230804T112948Z
UID:4352-1714780800-1714953599@pacewa.org
SUMMARY:Weekend
DESCRIPTION:Weekend (No School)
URL:https://pacewa.org/event/new-test-event-4-2-2-2-2-2-4-2-2-3-2-5-5-5-5-4-2-2-2-3-3-2-2-2-2-4-2-2-2-2-2-2-2-2-2-3-2-2-2-5-2-2-2-2-2-2-2-2-2-2-2-2-2-2-2-2-2-2-2-2-2-2-2-2-2-2-2-2-2-2-2-2-2-2-2-2-2-2-5/
ATTACH;FMTTYPE=image/jpeg:https://pacewa.org/wp-content/uploads/2023/08/Weekend-No-School.jpg
END:VEVENT
BEGIN:VEVENT
DTSTART;TZID=UTC:20240506T082500
DTEND;TZID=UTC:20240509T150000
DTSTAMP:20260425T122734
CREATED:20230804T105345Z
LAST-MODIFIED:20230804T105345Z
UID:4315-1714983900-1715266800@pacewa.org
SUMMARY:Full Day Program
DESCRIPTION:  \n 
URL:https://pacewa.org/event/new-test-event-4-4-2-2-2-2-5-2-2-2-2-3-2-2-3-4-2-2-5-3-2-2-4-2-2-2-2-2-2-3-2-2-2-2-2-2-2-2-3-2-2-2-3-2-2-2-2-2-2-2-2-2-2-2-2-2-2-3-2-5-4-2-2-2-3-4-3-6-3-3-2-5-2-2-2-3-3-5-5-5-4-2/
END:VEVENT
BEGIN:VEVENT
DTSTART;TZID=UTC:20240510T083000
DTEND;TZID=UTC:20240510T083000
DTSTAMP:20260425T122734
CREATED:20230804T104928Z
LAST-MODIFIED:20230816T224405Z
UID:4300-1715329800-1715329800@pacewa.org
SUMMARY:Half Day Program - Pickup Time 11:30pm
DESCRIPTION:
URL:https://pacewa.org/event/new-test-event-4-4-3-2-2-2-4-2-2-2-2-2-2-2-2-2-2-2-2-2-2-2-5-2-2-2-2-3-3-6-2-3-2-2-3-2-4-4-3-2-2-2-3-2-2-3-5-5-4-5/
END:VEVENT
BEGIN:VEVENT
DTSTART;VALUE=DATE:20240511
DTEND;VALUE=DATE:20240513
DTSTAMP:20260425T122734
CREATED:20230804T112931Z
LAST-MODIFIED:20230804T112931Z
UID:4351-1715385600-1715558399@pacewa.org
SUMMARY:Weekend
DESCRIPTION:Weekend (No School)
URL:https://pacewa.org/event/new-test-event-4-2-2-2-2-2-4-2-2-3-2-5-5-5-5-4-2-2-2-3-3-2-2-2-2-4-2-2-2-2-2-2-2-2-2-3-2-2-2-5-2-2-2-2-2-2-2-2-2-2-2-2-2-2-2-2-2-2-2-2-2-2-2-2-2-2-2-2-2-2-2-2-2-2-2-2-2-2-4/
ATTACH;FMTTYPE=image/jpeg:https://pacewa.org/wp-content/uploads/2023/08/Weekend-No-School.jpg
END:VEVENT
END:VCALENDAR