BEGIN:VCALENDAR
VERSION:2.0
PRODID:-//Pace Academy - ECPv6.15.14//NONSGML v1.0//EN
CALSCALE:GREGORIAN
METHOD:PUBLISH
X-WR-CALNAME:Pace Academy
X-ORIGINAL-URL:https://pacewa.org
X-WR-CALDESC:Events for Pace Academy
REFRESH-INTERVAL;VALUE=DURATION:PT1H
X-Robots-Tag:noindex
X-PUBLISHED-TTL:PT1H
BEGIN:VTIMEZONE
TZID:UTC
BEGIN:STANDARD
TZOFFSETFROM:+0000
TZOFFSETTO:+0000
TZNAME:UTC
DTSTART:20210101T000000
END:STANDARD
END:VTIMEZONE
BEGIN:VEVENT
DTSTART;TZID=UTC:20221205T082500
DTEND;TZID=UTC:20221208T150000
DTSTAMP:20260426T031708
CREATED:20220803T081339Z
LAST-MODIFIED:20220803T081339Z
UID:3832-1670228700-1670511600@pacewa.org
SUMMARY:Full Day Program
DESCRIPTION:KG to 10th Grade Drop-off Time 8:25am Pickup Time 3:00pm \n 
URL:https://pacewa.org/event/new-test-event-4-4-2-2-2-2-5-2-2-2-2-3-2-2-3-4-2-2-5-3-2-2-4-2-2-2-2-2-2-3-2-2-2-2-2-2-2-2-3-2-2-2-3-2-2-2-2-2-2-2-2-2-2-2-2-2-2-3-2-5-4-2/
END:VEVENT
BEGIN:VEVENT
DTSTART;TZID=UTC:20221202T083000
DTEND;TZID=UTC:20221202T124500
DTSTAMP:20260426T031708
CREATED:20220803T073846Z
LAST-MODIFIED:20220803T080111Z
UID:3795-1669969800-1669985100@pacewa.org
SUMMARY:Half Day Program - Pickup Time 12:45pm
DESCRIPTION:KG to 10th Grades Drop-off Time 8:25am Pickup Time 12:45pm
URL:https://pacewa.org/event/new-test-event-4-4-3-2-2-2-4-2-2-2-2-2-2-2-2-2-2-2-2-2-2-2-5-2-2-2-2-3-3-2/
END:VEVENT
BEGIN:VEVENT
DTSTART;TZID=UTC:20221128T082500
DTEND;TZID=UTC:20221201T150000
DTSTAMP:20260426T031708
CREATED:20220803T075447Z
LAST-MODIFIED:20220803T075447Z
UID:3819-1669623900-1669906800@pacewa.org
SUMMARY:Full Day Program
DESCRIPTION:KG to 10th Grade Drop-off Time 8:25am Pickup Time 3:00pm \n 
URL:https://pacewa.org/event/new-test-event-4-4-2-2-2-2-5-2-2-2-2-3-2-2-3-4-2-2-5-3-2-2-4-2-2-2-2-2-2-3-2-2-2-2-2-2-2-2-3-2-2-2-3-2-2-2-2-2-2-2-2-2-2-2-2-2-2-3-2-5-4/
END:VEVENT
BEGIN:VEVENT
DTSTART;TZID=UTC:20221123T083000
DTEND;TZID=UTC:20221125T130000
DTSTAMP:20260426T031708
CREATED:20211107T033153Z
LAST-MODIFIED:20220803T090630Z
UID:3504-1669192200-1669381200@pacewa.org
SUMMARY:Thanksgiving Break (No School)
DESCRIPTION:No School (Thanksgiving  Break)
URL:https://pacewa.org/event/new-test-event-4-4-3-2-2-2-4-2-2-3-2-2-2-2/
ATTACH;FMTTYPE=image/jpeg:https://pacewa.org/wp-content/uploads/2021/11/xThanksgiving-Day-1080x610-1.jpg
END:VEVENT
BEGIN:VEVENT
DTSTART;TZID=UTC:20221121T082500
DTEND;TZID=UTC:20221122T150000
DTSTAMP:20260426T031708
CREATED:20220803T075618Z
LAST-MODIFIED:20220803T080357Z
UID:3823-1669019100-1669129200@pacewa.org
SUMMARY:Full Day Program
DESCRIPTION:KG to 10th Grade Drop-off Time 8:25am Pickup Time 3:00pm \n 
URL:https://pacewa.org/event/new-test-event-4-4-2-2-2-2-5-2-2-2-2-3-2-2-3-4-2-2-5-3-2-2-4-2-2-2-2-2-2-3-2-2-2-2-2-2-2-2-3-2-2-2-3-2-2-2-2-2-2-2-2-2-2-2-2-2-2-3-2-5-3-2/
END:VEVENT
BEGIN:VEVENT
DTSTART;TZID=UTC:20221118T083000
DTEND;TZID=UTC:20221118T124500
DTSTAMP:20260426T031708
CREATED:20220803T075851Z
LAST-MODIFIED:20220803T075851Z
UID:3828-1668760200-1668775500@pacewa.org
SUMMARY:Half Day Program - Pickup Time 12:45pm
DESCRIPTION:KG to 10th Grades Drop-off Time 8:25am Pickup Time 12:45pm
URL:https://pacewa.org/event/new-test-event-4-4-3-2-2-2-4-2-2-2-2-2-2-2-2-2-2-2-2-2-2-2-5-2-2-2-2-3-3-6-2-2/
END:VEVENT
BEGIN:VEVENT
DTSTART;TZID=UTC:20221114T082500
DTEND;TZID=UTC:20221117T150000
DTSTAMP:20260426T031708
CREATED:20220803T075419Z
LAST-MODIFIED:20220803T075419Z
UID:3818-1668414300-1668697200@pacewa.org
SUMMARY:Full Day Program
DESCRIPTION:KG to 10th Grade Drop-off Time 8:25am Pickup Time 3:00pm \n 
URL:https://pacewa.org/event/new-test-event-4-4-2-2-2-2-5-2-2-2-2-3-2-2-3-4-2-2-5-3-2-2-4-2-2-2-2-2-2-3-2-2-2-2-2-2-2-2-3-2-2-2-3-2-2-2-2-2-2-2-2-2-2-2-2-2-2-3-2-5-3/
END:VEVENT
BEGIN:VEVENT
DTSTART;TZID=UTC:20221111T083000
DTEND;TZID=UTC:20221111T130000
DTSTAMP:20260426T031708
CREATED:20211107T033023Z
LAST-MODIFIED:20220803T090707Z
UID:3502-1668155400-1668171600@pacewa.org
SUMMARY:Veterans Day Holiday (No School)
DESCRIPTION:No School (Veterans Day Holiday)
URL:https://pacewa.org/event/new-test-event-4-4-3-2-2-2-4-2-2-3-5-2/
ATTACH;FMTTYPE=image/jpeg:https://pacewa.org/wp-content/uploads/2021/11/VeteransDay16_1000.jpg
END:VEVENT
BEGIN:VEVENT
DTSTART;TZID=UTC:20221107T082500
DTEND;TZID=UTC:20221110T150000
DTSTAMP:20260426T031708
CREATED:20220803T075400Z
LAST-MODIFIED:20220803T075400Z
UID:3816-1667809500-1668092400@pacewa.org
SUMMARY:Full Day Program
DESCRIPTION:KG to 10th Grade Drop-off Time 8:25am Pickup Time 3:00pm \n 
URL:https://pacewa.org/event/new-test-event-4-4-2-2-2-2-5-2-2-2-2-3-2-2-3-4-2-2-5-3-2-2-4-2-2-2-2-2-2-3-2-2-2-2-2-2-2-2-3-2-2-2-3-2-2-2-2-2-2-2-2-2-2-2-2-2-2-3-2-5-2/
END:VEVENT
BEGIN:VEVENT
DTSTART;TZID=UTC:20221104T083000
DTEND;TZID=UTC:20221104T124500
DTSTAMP:20260426T031708
CREATED:20220803T074337Z
LAST-MODIFIED:20220803T074459Z
UID:3798-1667550600-1667565900@pacewa.org
SUMMARY:Half Day Program - Pickup Time 12:45pm
DESCRIPTION:KG to 10th Grades Drop-off Time 8:25am Pickup Time 12:45pm
URL:https://pacewa.org/event/new-test-event-4-4-3-2-2-2-4-2-2-2-2-2-2-2-2-2-2-2-2-2-2-2-5-2-2-2-2-3-3-6/
END:VEVENT
BEGIN:VEVENT
DTSTART;TZID=UTC:20221031T082500
DTEND;TZID=UTC:20221103T150000
DTSTAMP:20260426T031708
CREATED:20220803T074305Z
LAST-MODIFIED:20220803T074305Z
UID:3800-1667204700-1667487600@pacewa.org
SUMMARY:Full Day Program
DESCRIPTION:KG to 10th Grade Drop-off Time 8:25am Pickup Time 3:00pm \n 
URL:https://pacewa.org/event/new-test-event-4-4-2-2-2-2-5-2-2-2-2-3-2-2-3-4-2-2-5-3-2-2-4-2-2-2-2-2-2-3-2-2-2-2-2-2-2-2-3-2-2-2-3-2-2-2-2-2-2-2-2-2-2-2-2-2-2-3-2-5/
END:VEVENT
BEGIN:VEVENT
DTSTART;TZID=UTC:20221028T083000
DTEND;TZID=UTC:20221028T124500
DTSTAMP:20260426T031708
CREATED:20220803T074004Z
LAST-MODIFIED:20220803T074004Z
UID:3793-1666945800-1666961100@pacewa.org
SUMMARY:Half Day Program - Pickup Time 12:45pm
DESCRIPTION:KG to 10th Grades Drop-off Time 8:25am Pickup Time 12:45pm
URL:https://pacewa.org/event/new-test-event-4-4-3-2-2-2-4-2-2-2-2-2-2-2-2-2-2-2-2-2-2-2-5-2-2-2-2-3-3-5/
END:VEVENT
BEGIN:VEVENT
DTSTART;TZID=UTC:20221024T082500
DTEND;TZID=UTC:20221027T150000
DTSTAMP:20260426T031708
CREATED:20220803T074238Z
LAST-MODIFIED:20220803T074238Z
UID:3799-1666599900-1666882800@pacewa.org
SUMMARY:Full Day Program
DESCRIPTION:KG to 10th Grade Drop-off Time 8:25am Pickup Time 3:00pm \n 
URL:https://pacewa.org/event/new-test-event-4-4-2-2-2-2-5-2-2-2-2-3-2-2-3-4-2-2-5-3-2-2-4-2-2-2-2-2-2-3-2-2-2-2-2-2-2-2-3-2-2-2-3-2-2-2-2-2-2-2-2-2-2-2-2-2-2-3-2-4/
END:VEVENT
BEGIN:VEVENT
DTSTART;TZID=UTC:20221021T083000
DTEND;TZID=UTC:20221021T124500
DTSTAMP:20260426T031708
CREATED:20220803T073937Z
LAST-MODIFIED:20220803T073937Z
UID:3796-1666341000-1666356300@pacewa.org
SUMMARY:Half Day Program - Pickup Time 12:45pm
DESCRIPTION:KG to 10th Grades Drop-off Time 8:25am Pickup Time 12:45pm
URL:https://pacewa.org/event/new-test-event-4-4-3-2-2-2-4-2-2-2-2-2-2-2-2-2-2-2-2-2-2-2-5-2-2-2-2-3-3-4/
END:VEVENT
BEGIN:VEVENT
DTSTART;TZID=UTC:20221017T180000
DTEND;TZID=UTC:20221017T190000
DTSTAMP:20260426T031708
CREATED:20221017T231301Z
LAST-MODIFIED:20221017T234431Z
UID:4043-1666029600-1666033200@pacewa.org
SUMMARY:Curriculum Night
DESCRIPTION:SCHEDULE FOR CLASS PRESENTATIONS BY LCS \nKG – 5TH GRADE: 6PM – 6:30 PM \n6TH -10TH GRADE: 6:30 – 7:00 PM \n 
URL:https://pacewa.org/event/new-test-event-4-4-2-2-2-2-5-2-2-2-2-3-2-2-3-4-2-2-5-3-2-2-4-2-2-2-2-2-2-3-2-2-2-2-2-2-2-2-3-2-2-2-3-2-2-2-2-2-2-2-2-2-2-2-2-2-2-3-2-3-2/
ATTACH;FMTTYPE=image/jpeg:https://pacewa.org/wp-content/uploads/2022/10/curriculum-night-10172022-1-scaled.jpg
END:VEVENT
BEGIN:VEVENT
DTSTART;TZID=UTC:20221017T082500
DTEND;TZID=UTC:20221020T150000
DTSTAMP:20260426T031708
CREATED:20220803T074207Z
LAST-MODIFIED:20220803T074207Z
UID:3794-1665995100-1666278000@pacewa.org
SUMMARY:Full Day Program
DESCRIPTION:KG to 10th Grade Drop-off Time 8:25am Pickup Time 3:00pm \n 
URL:https://pacewa.org/event/new-test-event-4-4-2-2-2-2-5-2-2-2-2-3-2-2-3-4-2-2-5-3-2-2-4-2-2-2-2-2-2-3-2-2-2-2-2-2-2-2-3-2-2-2-3-2-2-2-2-2-2-2-2-2-2-2-2-2-2-3-2-3/
END:VEVENT
BEGIN:VEVENT
DTSTART;TZID=UTC:20221014T083000
DTEND;TZID=UTC:20221014T124500
DTSTAMP:20260426T031708
CREATED:20220803T073912Z
LAST-MODIFIED:20220803T073912Z
UID:3797-1665736200-1665751500@pacewa.org
SUMMARY:Half Day Program - Pickup Time 12:45pm
DESCRIPTION:KG to 10th Grades Drop-off Time 8:25am Pickup Time 12:45pm
URL:https://pacewa.org/event/new-test-event-4-4-3-2-2-2-4-2-2-2-2-2-2-2-2-2-2-2-2-2-2-2-5-2-2-2-2-3-3-3/
END:VEVENT
BEGIN:VEVENT
DTSTART;TZID=UTC:20221010T082500
DTEND;TZID=UTC:20221013T150000
DTSTAMP:20260426T031708
CREATED:20220803T074139Z
LAST-MODIFIED:20220803T074139Z
UID:3792-1665390300-1665673200@pacewa.org
SUMMARY:Full Day Program
DESCRIPTION:KG to 10th Grade Drop-off Time 8:25am Pickup Time 3:00pm \n 
URL:https://pacewa.org/event/new-test-event-4-4-2-2-2-2-5-2-2-2-2-3-2-2-3-4-2-2-5-3-2-2-4-2-2-2-2-2-2-3-2-2-2-2-2-2-2-2-3-2-2-2-3-2-2-2-2-2-2-2-2-2-2-2-2-2-2-3-2-2/
END:VEVENT
BEGIN:VEVENT
DTSTART;TZID=UTC:20221007T090000
DTEND;TZID=UTC:20221007T130000
DTSTAMP:20260426T031708
CREATED:20220803T075133Z
LAST-MODIFIED:20220803T101730Z
UID:3813-1665133200-1665147600@pacewa.org
SUMMARY:Staff Development and Planning Day (No School)
DESCRIPTION:Staff Development and Planning Day (No School)
URL:https://pacewa.org/event/new-test-event-4-4-3-2-2-2-4-2-2-2-2-2-2-2-2-2-2-2-2-2-2-2-5-2-2-2-2-3-2-2-2-2-2-2-2-2-2-2-2-2-2-2-2-2-2-2-2-2-3-2-2-2-2-2-3/
END:VEVENT
BEGIN:VEVENT
DTSTART;TZID=UTC:20221003T082500
DTEND;TZID=UTC:20221006T150000
DTSTAMP:20260426T031708
CREATED:20220803T074114Z
LAST-MODIFIED:20220803T074114Z
UID:3761-1664785500-1665068400@pacewa.org
SUMMARY:Full Day Program
DESCRIPTION:KG to 10th Grade Drop-off Time 8:25am Pickup Time 3:00pm \n 
URL:https://pacewa.org/event/new-test-event-4-4-2-2-2-2-5-2-2-2-2-3-2-2-3-4-2-2-5-3-2-2-4-2-2-2-2-2-2-3-2-2-2-2-2-2-2-2-3-2-2-2-3-2-2-2-2-2-2-2-2-2-2-2-2-2-2-4/
END:VEVENT
BEGIN:VEVENT
DTSTART;TZID=UTC:20220930T083000
DTEND;TZID=UTC:20220930T124500
DTSTAMP:20260426T031708
CREATED:20220803T042529Z
LAST-MODIFIED:20220803T042655Z
UID:3786-1664526600-1664541900@pacewa.org
SUMMARY:Half Day Program - Pickup Time 12:45pm
DESCRIPTION:KG to 10th Grades Drop-off Time 8:25am Pickup Time 12:45pm
URL:https://pacewa.org/event/new-test-event-4-4-3-2-2-2-4-2-2-2-2-2-2-2-2-2-2-2-2-2-2-2-5-2-2-2-2-3-3/
END:VEVENT
BEGIN:VEVENT
DTSTART;TZID=UTC:20220926T082500
DTEND;TZID=UTC:20220929T150000
DTSTAMP:20260426T031708
CREATED:20220803T042422Z
LAST-MODIFIED:20220803T042422Z
UID:3785-1664180700-1664463600@pacewa.org
SUMMARY:Full Day Program
DESCRIPTION:KG to 10th Grade Drop-off Time 8:25am Pickup Time 3:00pm \n 
URL:https://pacewa.org/event/new-test-event-4-4-2-2-2-2-5-2-2-2-2-3-2-2-3-4-2-2-5-3-2-2-4-2-2-2-2-2-2-3-2-2-2-2-2-2-2-2-3-2-2-2-3-2-2-2-2-2-2-2-2-2-2-2-2-2-2-3-2/
END:VEVENT
BEGIN:VEVENT
DTSTART;TZID=UTC:20220923T083000
DTEND;TZID=UTC:20220923T124500
DTSTAMP:20260426T031708
CREATED:20220803T040823Z
LAST-MODIFIED:20220803T041146Z
UID:3766-1663921800-1663937100@pacewa.org
SUMMARY:Half Day Program - Pickup Time 12:45pm
DESCRIPTION:KG to 10th Grades Drop-off Time 8:25am Pickup Time 12:45pm
URL:https://pacewa.org/event/new-test-event-4-4-3-2-2-2-4-2-2-2-2-2-2-2-2-2-2-2-2-2-2-2-5-2-2-2-2-3/
END:VEVENT
BEGIN:VEVENT
DTSTART;TZID=UTC:20220919T082500
DTEND;TZID=UTC:20220922T150000
DTSTAMP:20260426T031708
CREATED:20220803T025035Z
LAST-MODIFIED:20220803T025035Z
UID:3759-1663575900-1663858800@pacewa.org
SUMMARY:Full Day Program
DESCRIPTION:KG to 10th Grade Drop-off Time 8:25am Pickup Time 3:00pm \n 
URL:https://pacewa.org/event/new-test-event-4-4-2-2-2-2-5-2-2-2-2-3-2-2-3-4-2-2-5-3-2-2-4-2-2-2-2-2-2-3-2-2-2-2-2-2-2-2-3-2-2-2-3-2-2-2-2-2-2-2-2-2-2-2-2-2-2-3/
END:VEVENT
BEGIN:VEVENT
DTSTART;TZID=UTC:20220916T083000
DTEND;TZID=UTC:20220916T124500
DTSTAMP:20260426T031708
CREATED:20220803T042318Z
LAST-MODIFIED:20220803T101404Z
UID:3783-1663317000-1663332300@pacewa.org
SUMMARY:Special Hours (Sept 16th\, 2022) - Drop-off Time 9:00am Pickup Time 12:45pm
DESCRIPTION:KG to 10th Grades Drop-off Time 9:00am Pickup Time 12:45pm
URL:https://pacewa.org/event/new-test-event-4-4-3-2-2-2-4-2-2-2-2-2-2-2-2-2-2-2-2-2-2-2-5-2-2-2-2-3-2-2-3/
END:VEVENT
BEGIN:VEVENT
DTSTART;TZID=UTC:20220912T090000
DTEND;TZID=UTC:20220915T140000
DTSTAMP:20260426T031708
CREATED:20220803T024810Z
LAST-MODIFIED:20220816T081216Z
UID:3756-1662973200-1663250400@pacewa.org
SUMMARY:Special Hours (Sept 13th to Sept 16th\, 2022 - 9:00am to 2:00pm)
DESCRIPTION:(Semester 1)\nKG to 10th Grades Drop-off Time 9:00am Pickup Time 1:00pm
URL:https://pacewa.org/event/new-test-event-4-4-4-4-2-2-2-2/
END:VEVENT
BEGIN:VEVENT
DTSTART;TZID=UTC:20220909T083000
DTEND;TZID=UTC:20220909T124500
DTSTAMP:20260426T031709
CREATED:20220803T042221Z
LAST-MODIFIED:20220803T101448Z
UID:3781-1662712200-1662727500@pacewa.org
SUMMARY:Special Hours (Sept 9th\, 2022) - Drop-off Time 9:00am Pickup Time 12:45pm
DESCRIPTION:KG to 10th Grades Drop-off Time 9:00am Pickup Time 12:45pm
URL:https://pacewa.org/event/new-test-event-4-4-3-2-2-2-4-2-2-2-2-2-2-2-2-2-2-2-2-2-2-2-5-2-2-2-2-3-2-2/
END:VEVENT
BEGIN:VEVENT
DTSTART;TZID=UTC:20220906T090000
DTEND;TZID=UTC:20220908T140000
DTSTAMP:20260426T031709
CREATED:20220803T024446Z
LAST-MODIFIED:20220816T081136Z
UID:3749-1662454800-1662645600@pacewa.org
SUMMARY:Special Hours (Sept 6th to Sept 8th\, 2022 - 9:00am to 2:00pm)
DESCRIPTION:(Semester 1)\nKG to 10th Grades Drop-off Time 9:00am Pickup Time 2:00pm
URL:https://pacewa.org/event/new-test-event-4-4-4-4-2-2-2/
END:VEVENT
BEGIN:VEVENT
DTSTART;TZID=UTC:20220902T083000
DTEND;TZID=UTC:20220902T124500
DTSTAMP:20260426T031709
CREATED:20220803T041450Z
LAST-MODIFIED:20220803T101157Z
UID:3773-1662107400-1662122700@pacewa.org
SUMMARY:Special Hours (Sept 2nd\, 2022) - Drop-off Time 9:00am Pickup Time 12:45pm
DESCRIPTION:KG to 10th Grades Drop-off Time 9:00am Pickup Time 12:45pm
URL:https://pacewa.org/event/new-test-event-4-4-3-2-2-2-4-2-2-2-2-2-2-2-2-2-2-2-2-2-2-2-5-2-2-2-2-3-2/
END:VEVENT
BEGIN:VEVENT
DTSTART;TZID=UTC:20220901T090000
DTEND;TZID=UTC:20220901T140000
DTSTAMP:20260426T031709
CREATED:20220803T023739Z
LAST-MODIFIED:20220816T081008Z
UID:3740-1662022800-1662040800@pacewa.org
SUMMARY:Special Hours (Sept 1st\, 2022 - 9:00am to 2:00pm)
DESCRIPTION:(Semester 1)\nKG to 10th Grades Drop-off Time 9:00am Pickup Time 2:00pm
URL:https://pacewa.org/event/new-test-event-4-4-4-4-2-2/
END:VEVENT
END:VCALENDAR