BEGIN:VCALENDAR
VERSION:2.0
PRODID:-//Pace Academy - ECPv6.15.14//NONSGML v1.0//EN
CALSCALE:GREGORIAN
METHOD:PUBLISH
X-WR-CALNAME:Pace Academy
X-ORIGINAL-URL:https://pacewa.org
X-WR-CALDESC:Events for Pace Academy
REFRESH-INTERVAL;VALUE=DURATION:PT1H
X-Robots-Tag:noindex
X-PUBLISHED-TTL:PT1H
BEGIN:VTIMEZONE
TZID:UTC
BEGIN:STANDARD
TZOFFSETFROM:+0000
TZOFFSETTO:+0000
TZNAME:UTC
DTSTART:20220101T000000
END:STANDARD
END:VTIMEZONE
BEGIN:VEVENT
DTSTART;TZID=UTC:20230904T090000
DTEND;TZID=UTC:20230904T130000
DTSTAMP:20260425T152921
CREATED:20220803T024610Z
LAST-MODIFIED:20230804T083114Z
UID:3753-1693818000-1693832400@pacewa.org
SUMMARY:Labor Day Holiday  (No School) 
DESCRIPTION:Labor Day Holiday (No School)
URL:https://pacewa.org/event/new-test-event-4-4-3-2-2-2-4-2-2-2-2-2-2-2-2-2-2-2-2-2-2-2-5-2-2-2-2-3-2-2-2-2-2-2-2-2-2-2-2-2-2-2-2-2-2-2-2-2-3-2-2-2-2-2-2-2/
END:VEVENT
BEGIN:VEVENT
DTSTART;VALUE=DATE:20230902
DTEND;VALUE=DATE:20230904
DTSTAMP:20260425T152921
CREATED:20230804T111605Z
LAST-MODIFIED:20230804T112624Z
UID:4339-1693612800-1693785599@pacewa.org
SUMMARY:Weekend
DESCRIPTION:Weekend (No School)
URL:https://pacewa.org/event/new-test-event-4-2-2-2-2-2-4-2-2-3-2-5-5-5-5-4-2-2-2-3-3-2-2-2-2-4-2-2-2-2-2-2-2-2-2-3-2-2-2-5-2-2-2-2-2-2-2-2-2-2-2-2-2-2-2-2-2-2-2-2-2-2-2-2-2-2-2-2-2-2-2-2-2-2-2-2-2/
ATTACH;FMTTYPE=image/jpeg:https://pacewa.org/wp-content/uploads/2023/08/Weekend-No-School.jpg
END:VEVENT
BEGIN:VEVENT
DTSTART;TZID=UTC:20230901T090000
DTEND;TZID=UTC:20230901T123000
DTSTAMP:20260425T152921
CREATED:20230804T075135Z
LAST-MODIFIED:20230816T230021Z
UID:4124-1693558800-1693571400@pacewa.org
SUMMARY:Special Hours 9:00am to 12:30pm
DESCRIPTION:KG to 10th Grade Drop-off Time 9:00am Pickup Time 12:30pm
URL:https://pacewa.org/event/new-test-event-4-4-4-4-3/
END:VEVENT
BEGIN:VEVENT
DTSTART;TZID=UTC:20230830T090000
DTEND;TZID=UTC:20230831T140000
DTSTAMP:20260425T152921
CREATED:20230804T073447Z
LAST-MODIFIED:20230804T085946Z
UID:3370-1693386000-1693490400@pacewa.org
SUMMARY:Special Hours 9:00am to 2:00pm
DESCRIPTION:
URL:https://pacewa.org/event/new-test-event-4-4-4-4/
END:VEVENT
BEGIN:VEVENT
DTSTART;TZID=UTC:20230830T090000
DTEND;TZID=UTC:20230830T140000
DTSTAMP:20260425T152921
CREATED:20230804T073030Z
LAST-MODIFIED:20230804T084810Z
UID:4119-1693386000-1693404000@pacewa.org
SUMMARY:Program Start Day 9:00am to 2:00pm
DESCRIPTION:First Day of Semester 1\n1st Day of School – Semester 1\nIt is our pleasure to welcome you to PACE Academy. \nKG to 10th Grades Drop-off Time 9:00am Pickup Time 2:00pm  \n 
URL:https://pacewa.org/event/new-test-event-5-2-4-3-2/
ATTACH;FMTTYPE=image/jpeg:https://pacewa.org/wp-content/uploads/2023/08/Back-to-School-Flyer-scaled.jpg
END:VEVENT
BEGIN:VEVENT
DTSTART;TZID=UTC:20230829T100000
DTEND;TZID=UTC:20230829T120000
DTSTAMP:20260425T152921
CREATED:20230804T072805Z
LAST-MODIFIED:20230804T080938Z
UID:4117-1693303200-1693310400@pacewa.org
SUMMARY:MEET YOUR TEACHER
DESCRIPTION:(PACE Meet Your Teacher )\nIt is our pleasure to welcome you to PACE Academy. Back to School (Meet Your Teacher) is scheduled for August 29\, 2023. It will be a short day\, you and your child will be introduced to our staff and teachers. \n 
URL:https://pacewa.org/event/new-test-event-5-2-5-2/
ATTACH;FMTTYPE=image/jpeg:https://pacewa.org/wp-content/uploads/2023/08/Meet-PACE-Team-1.jpg
END:VEVENT
BEGIN:VEVENT
DTSTART;TZID=UTC:20230816T100000
DTEND;TZID=UTC:20230816T133000
DTSTAMP:20260425T152921
CREATED:20230807T042958Z
LAST-MODIFIED:20230807T043253Z
UID:4457-1692180000-1692192600@pacewa.org
SUMMARY:WAVA Staff Training
DESCRIPTION:WAVA Staff  Training
URL:https://pacewa.org/event/new-test-event-3-2-3-2-3-3-2-2/
END:VEVENT
BEGIN:VEVENT
DTSTART;TZID=UTC:20230810T100000
DTEND;TZID=UTC:20230810T120000
DTSTAMP:20260425T152921
CREATED:20230807T042438Z
LAST-MODIFIED:20230807T043214Z
UID:4455-1691661600-1691668800@pacewa.org
SUMMARY:WAVA Staff Training
DESCRIPTION:WAVA Staff  Training
URL:https://pacewa.org/event/new-test-event-3-2-3-2-3-3-2/
END:VEVENT
BEGIN:VEVENT
DTSTART;TZID=UTC:20230808T100000
DTEND;TZID=UTC:20230808T120000
DTSTAMP:20260425T152921
CREATED:20230807T042322Z
LAST-MODIFIED:20230807T043057Z
UID:3999-1691488800-1691496000@pacewa.org
SUMMARY:QIA Staff Training
DESCRIPTION:QIA Staff  Training
URL:https://pacewa.org/event/new-test-event-3-2-3-2-3-3/
END:VEVENT
BEGIN:VEVENT
DTSTART;TZID=UTC:20230614T083000
DTEND;TZID=UTC:20230614T130000
DTSTAMP:20260425T152921
CREATED:20220803T094851Z
LAST-MODIFIED:20230526T085336Z
UID:3973-1686731400-1686747600@pacewa.org
SUMMARY:(Last Day of School/ Graduation Day)
DESCRIPTION:Last Day of School/Graduation Day and Field Day \n 
URL:https://pacewa.org/event/new-test-event-4-2-2-2-2-2-4-2-2-3-2-5-5-5-5-4-2-2-3-2-2/
END:VEVENT
BEGIN:VEVENT
DTSTART;TZID=UTC:20230612T082500
DTEND;TZID=UTC:20230614T150000
DTSTAMP:20260425T152921
CREATED:20220803T095001Z
LAST-MODIFIED:20230526T085149Z
UID:3939-1686558300-1686754800@pacewa.org
SUMMARY:Full Day Program
DESCRIPTION:KG to 10th Grade Drop-off Time 8:25am Pickup Time 3:00pm \n 
URL:https://pacewa.org/event/new-test-event-4-4-2-2-2-2-5-2-2-2-2-3-2-2-3-4-2-2-5-3-2-2-4-2-2-2-2-2-2-3-2-2-2-2-2-2-2-2-3-2-2-2-3-2-2-2-2-2-2-2-2-2-2-2-2-2-2-3-2-5-4-2-2-2-3-4-3-6-5/
END:VEVENT
BEGIN:VEVENT
DTSTART;TZID=UTC:20230609T083000
DTEND;TZID=UTC:20230609T124500
DTSTAMP:20260425T152921
CREATED:20220803T094349Z
LAST-MODIFIED:20220803T094349Z
UID:3964-1686299400-1686314700@pacewa.org
SUMMARY:Half Day Program - Pickup Time 12:45pm
DESCRIPTION:KG to 10th Grades Drop-off Time 8:25am Pickup Time 12:45pm
URL:https://pacewa.org/event/new-test-event-4-4-3-2-2-2-4-2-2-2-2-2-2-2-2-2-2-2-2-2-2-2-5-2-2-2-2-3-3-6-2-3-2-2-3-2-4-4-8/
END:VEVENT
BEGIN:VEVENT
DTSTART;TZID=UTC:20230605T082500
DTEND;TZID=UTC:20230608T150000
DTSTAMP:20260425T152921
CREATED:20220803T094240Z
LAST-MODIFIED:20220803T094332Z
UID:3962-1685953500-1686236400@pacewa.org
SUMMARY:Full Day Program
DESCRIPTION:KG to 10th Grade Drop-off Time 8:25am Pickup Time 3:00pm \n 
URL:https://pacewa.org/event/new-test-event-4-4-2-2-2-2-5-2-2-2-2-3-2-2-3-4-2-2-5-3-2-2-4-2-2-2-2-2-2-3-2-2-2-2-2-2-2-2-3-2-2-2-3-2-2-2-2-2-2-2-2-2-2-2-2-2-2-3-2-5-4-2-2-2-3-4-3-6-3-2-2/
END:VEVENT
BEGIN:VEVENT
DTSTART;TZID=UTC:20230602T083000
DTEND;TZID=UTC:20230602T124500
DTSTAMP:20260425T152921
CREATED:20220803T093731Z
LAST-MODIFIED:20220803T093731Z
UID:3927-1685694600-1685709900@pacewa.org
SUMMARY:Half Day Program - Pickup Time 12:45pm
DESCRIPTION:KG to 10th Grades Drop-off Time 8:25am Pickup Time 12:45pm
URL:https://pacewa.org/event/new-test-event-4-4-3-2-2-2-4-2-2-2-2-2-2-2-2-2-2-2-2-2-2-2-5-2-2-2-2-3-3-6-2-3-2-2-3-2-4-4/
END:VEVENT
BEGIN:VEVENT
DTSTART;TZID=UTC:20230530T082500
DTEND;TZID=UTC:20230601T150000
DTSTAMP:20260425T152921
CREATED:20220803T093531Z
LAST-MODIFIED:20220803T093531Z
UID:3950-1685435100-1685631600@pacewa.org
SUMMARY:Full Day Program
DESCRIPTION:KG to 10th Grade Drop-off Time 8:25am Pickup Time 3:00pm \n 
URL:https://pacewa.org/event/new-test-event-4-4-2-2-2-2-5-2-2-2-2-3-2-2-3-4-2-2-5-3-2-2-4-2-2-2-2-2-2-3-2-2-2-2-2-2-2-2-3-2-2-2-3-2-2-2-2-2-2-2-2-2-2-2-2-2-2-3-2-5-4-2-2-2-3-4-3-6-3-2/
END:VEVENT
BEGIN:VEVENT
DTSTART;TZID=UTC:20230529T090000
DTEND;TZID=UTC:20230529T143000
DTSTAMP:20260425T152921
CREATED:20220803T093104Z
LAST-MODIFIED:20220803T093104Z
UID:3937-1685350800-1685370600@pacewa.org
SUMMARY:No School (Memorial Day Holiday!!!)
DESCRIPTION:No School -Memorial Day Holiday
URL:https://pacewa.org/event/new-test-event-4-4-2-2-2-2-5-2-2-2-2-3-2-2-3-4-2-2-5-3-2-2-2-2-2-3-2-2-3-3/
ATTACH;FMTTYPE=image/jpeg:https://pacewa.org/wp-content/uploads/2021/11/608040d779269.image_.jpg
END:VEVENT
BEGIN:VEVENT
DTSTART;TZID=UTC:20230526T083000
DTEND;TZID=UTC:20230526T124500
DTSTAMP:20260425T152921
CREATED:20220803T093651Z
LAST-MODIFIED:20220803T093651Z
UID:3944-1685089800-1685105100@pacewa.org
SUMMARY:Half Day Program - Pickup Time 12:45pm
DESCRIPTION:KG to 10th Grades Drop-off Time 8:25am Pickup Time 12:45pm
URL:https://pacewa.org/event/new-test-event-4-4-3-2-2-2-4-2-2-2-2-2-2-2-2-2-2-2-2-2-2-2-5-2-2-2-2-3-3-6-2-3-2-2-3-2-4-4-3-2/
END:VEVENT
BEGIN:VEVENT
DTSTART;TZID=UTC:20230522T082500
DTEND;TZID=UTC:20230525T150000
DTSTAMP:20260425T152921
CREATED:20220803T093410Z
LAST-MODIFIED:20220803T093410Z
UID:3941-1684743900-1685026800@pacewa.org
SUMMARY:Full Day Program
DESCRIPTION:KG to 10th Grade Drop-off Time 8:25am Pickup Time 3:00pm \n 
URL:https://pacewa.org/event/new-test-event-4-4-2-2-2-2-5-2-2-2-2-3-2-2-3-4-2-2-5-3-2-2-4-2-2-2-2-2-2-3-2-2-2-2-2-2-2-2-3-2-2-2-3-2-2-2-2-2-2-2-2-2-2-2-2-2-2-3-2-5-4-2-2-2-3-4-3-6-3/
END:VEVENT
BEGIN:VEVENT
DTSTART;TZID=UTC:20230519T083000
DTEND;TZID=UTC:20230519T124500
DTSTAMP:20260425T152921
CREATED:20220803T093628Z
LAST-MODIFIED:20220803T093628Z
UID:3940-1684485000-1684500300@pacewa.org
SUMMARY:Half Day Program - Pickup Time 12:45pm
DESCRIPTION:KG to 10th Grades Drop-off Time 8:25am Pickup Time 12:45pm
URL:https://pacewa.org/event/new-test-event-4-4-3-2-2-2-4-2-2-2-2-2-2-2-2-2-2-2-2-2-2-2-5-2-2-2-2-3-3-6-2-3-2-2-3-2-4-4-2-3/
END:VEVENT
BEGIN:VEVENT
DTSTART;TZID=UTC:20230518T133000
DTEND;TZID=UTC:20230518T150000
DTSTAMP:20260425T152921
CREATED:20220803T095515Z
LAST-MODIFIED:20220803T100158Z
UID:3976-1684416600-1684422000@pacewa.org
SUMMARY:QURAN GRADUATION CEREMONY
DESCRIPTION:Join us for PACE  Quran Graduation Ceremony \n  \n  \n 
URL:https://pacewa.org/event/new-test-event-4-4-2-2-2-2-5-2-2-2-2-3-2-2-3-4-2-2-5-3-2-2-4-2-2-2-2-2-2-3-2-2-2-2-2-2-2-2-3-2-2-2-3-2-2-2-2-2-2-2-2-2-2-2-2-2-2-2-2-2-2-3-2/
END:VEVENT
BEGIN:VEVENT
DTSTART;TZID=UTC:20230515T082500
DTEND;TZID=UTC:20230518T150000
DTSTAMP:20260425T152921
CREATED:20220803T093440Z
LAST-MODIFIED:20220803T093440Z
UID:3943-1684139100-1684422000@pacewa.org
SUMMARY:Full Day Program
DESCRIPTION:KG to 10th Grade Drop-off Time 8:25am Pickup Time 3:00pm \n 
URL:https://pacewa.org/event/new-test-event-4-4-2-2-2-2-5-2-2-2-2-3-2-2-3-4-2-2-5-3-2-2-4-2-2-2-2-2-2-3-2-2-2-2-2-2-2-2-3-2-2-2-3-2-2-2-2-2-2-2-2-2-2-2-2-2-2-3-2-5-4-2-2-2-3-4-3-6-4/
END:VEVENT
BEGIN:VEVENT
DTSTART;TZID=UTC:20230512T083000
DTEND;TZID=UTC:20230512T124500
DTSTAMP:20260425T152921
CREATED:20220803T093610Z
LAST-MODIFIED:20220803T093610Z
UID:3945-1683880200-1683895500@pacewa.org
SUMMARY:Half Day Program - Pickup Time 12:45pm
DESCRIPTION:KG to 10th Grades Drop-off Time 8:25am Pickup Time 12:45pm
URL:https://pacewa.org/event/new-test-event-4-4-3-2-2-2-4-2-2-2-2-2-2-2-2-2-2-2-2-2-2-2-5-2-2-2-2-3-3-6-2-3-2-2-3-2-4-4-2-2/
END:VEVENT
BEGIN:VEVENT
DTSTART;TZID=UTC:20230508T082500
DTEND;TZID=UTC:20230511T150000
DTSTAMP:20260425T152921
CREATED:20220803T093350Z
LAST-MODIFIED:20220803T093350Z
UID:3942-1683534300-1683817200@pacewa.org
SUMMARY:Full Day Program
DESCRIPTION:KG to 10th Grade Drop-off Time 8:25am Pickup Time 3:00pm \n 
URL:https://pacewa.org/event/new-test-event-4-4-2-2-2-2-5-2-2-2-2-3-2-2-3-4-2-2-5-3-2-2-4-2-2-2-2-2-2-3-2-2-2-2-2-2-2-2-3-2-2-2-3-2-2-2-2-2-2-2-2-2-2-2-2-2-2-3-2-5-4-2-2-2-3-4-3-6-2/
END:VEVENT
BEGIN:VEVENT
DTSTART;TZID=UTC:20230505T083000
DTEND;TZID=UTC:20230505T124500
DTSTAMP:20260425T152921
CREATED:20220803T091608Z
LAST-MODIFIED:20220803T092946Z
UID:3917-1683275400-1683290700@pacewa.org
SUMMARY:Half Day Program - Pickup Time 12:45pm
DESCRIPTION:KG to 10th Grades Drop-off Time 8:25am Pickup Time 12:45pm
URL:https://pacewa.org/event/new-test-event-4-4-3-2-2-2-4-2-2-2-2-2-2-2-2-2-2-2-2-2-2-2-5-2-2-2-2-3-3-6-2-3-2-2-3-2-4-4-2/
END:VEVENT
BEGIN:VEVENT
DTSTART;TZID=UTC:20230501T082500
DTEND;TZID=UTC:20230504T150000
DTSTAMP:20260425T152921
CREATED:20220803T093303Z
LAST-MODIFIED:20220803T093303Z
UID:3914-1682929500-1683212400@pacewa.org
SUMMARY:Full Day Program
DESCRIPTION:KG to 10th Grade Drop-off Time 8:25am Pickup Time 3:00pm \n 
URL:https://pacewa.org/event/new-test-event-4-4-2-2-2-2-5-2-2-2-2-3-2-2-3-4-2-2-5-3-2-2-4-2-2-2-2-2-2-3-2-2-2-2-2-2-2-2-3-2-2-2-3-2-2-2-2-2-2-2-2-2-2-2-2-2-2-3-2-5-4-2-2-2-3-4-3/
END:VEVENT
BEGIN:VEVENT
DTSTART;TZID=UTC:20230428T083000
DTEND;TZID=UTC:20230428T124500
DTSTAMP:20260425T152921
CREATED:20220803T091817Z
LAST-MODIFIED:20220803T092721Z
UID:3929-1682670600-1682685900@pacewa.org
SUMMARY:Half Day Program - Pickup Time 12:45pm
DESCRIPTION:KG to 10th Grades Drop-off Time 8:25am Pickup Time 12:45pm
URL:https://pacewa.org/event/new-test-event-4-4-3-2-2-2-4-2-2-2-2-2-2-2-2-2-2-2-2-2-2-2-5-2-2-2-2-3-3-6-2-3-2-2-3-2-4-4-3/
END:VEVENT
BEGIN:VEVENT
DTSTART;TZID=UTC:20230424T082500
DTEND;TZID=UTC:20230427T150000
DTSTAMP:20260425T152921
CREATED:20220803T083745Z
LAST-MODIFIED:20220803T092330Z
UID:3876-1682324700-1682607600@pacewa.org
SUMMARY:Full Day Program
DESCRIPTION:KG to 10th Grade Drop-off Time 8:25am Pickup Time 3:00pm \n 
URL:https://pacewa.org/event/new-test-event-4-4-2-2-2-2-5-2-2-2-2-3-2-2-3-4-2-2-5-3-2-2-4-2-2-2-2-2-2-3-2-2-2-2-2-2-2-2-3-2-2-2-3-2-2-2-2-2-2-2-2-2-2-2-2-2-2-3-2-5-4-2-2-2-3-4-3-6/
END:VEVENT
BEGIN:VEVENT
DTSTART;TZID=UTC:20230417T090000
DTEND;TZID=UTC:20230421T143000
DTSTAMP:20260425T152921
CREATED:20220803T092855Z
LAST-MODIFIED:20220803T092855Z
UID:3935-1681722000-1682087400@pacewa.org
SUMMARY:No School Ramadan and (Eid Holidays!!!)
DESCRIPTION:No School – Ramadan and Eid Holidays
URL:https://pacewa.org/event/new-test-event-4-4-2-2-2-2-5-2-2-2-2-3-2-2-3-4-2-2-5-3-2-2-2-2-2-3-3-3/
END:VEVENT
BEGIN:VEVENT
DTSTART;TZID=UTC:20230414T083000
DTEND;TZID=UTC:20230414T124500
DTSTAMP:20260425T152921
CREATED:20220803T091938Z
LAST-MODIFIED:20220803T091938Z
UID:3928-1681461000-1681476300@pacewa.org
SUMMARY:Half Day Program - Pickup Time 12:45pm
DESCRIPTION:KG to 10th Grades Drop-off Time 8:25am Pickup Time 12:45pm
URL:https://pacewa.org/event/new-test-event-4-4-3-2-2-2-4-2-2-2-2-2-2-2-2-2-2-2-2-2-2-2-5-2-2-2-2-3-3-6-2-3-2-2-3-2-4-4-4/
END:VEVENT
BEGIN:VEVENT
DTSTART;TZID=UTC:20230410T082500
DTEND;TZID=UTC:20230413T150000
DTSTAMP:20260425T152921
CREATED:20220803T083438Z
LAST-MODIFIED:20220803T092445Z
UID:3866-1681115100-1681398000@pacewa.org
SUMMARY:Full Day Program
DESCRIPTION:KG to 10th Grade Drop-off Time 8:25am Pickup Time 3:00pm \n 
URL:https://pacewa.org/event/new-test-event-4-4-2-2-2-2-5-2-2-2-2-3-2-2-3-4-2-2-5-3-2-2-4-2-2-2-2-2-2-3-2-2-2-2-2-2-2-2-3-2-2-2-3-2-2-2-2-2-2-2-2-2-2-2-2-2-2-3-2-5-4-2-2-2-3-7/
END:VEVENT
END:VCALENDAR