BEGIN:VCALENDAR
VERSION:2.0
PRODID:-//Pace Academy - ECPv6.15.14//NONSGML v1.0//EN
CALSCALE:GREGORIAN
METHOD:PUBLISH
X-WR-CALNAME:Pace Academy
X-ORIGINAL-URL:https://pacewa.org
X-WR-CALDESC:Events for Pace Academy
REFRESH-INTERVAL;VALUE=DURATION:PT1H
X-Robots-Tag:noindex
X-PUBLISHED-TTL:PT1H
BEGIN:VTIMEZONE
TZID:UTC
BEGIN:STANDARD
TZOFFSETFROM:+0000
TZOFFSETTO:+0000
TZNAME:UTC
DTSTART:20250101T000000
END:STANDARD
END:VTIMEZONE
BEGIN:VEVENT
DTSTART;TZID=UTC:20260518T082500
DTEND;TZID=UTC:20260521T150000
DTSTAMP:20260423T202516
CREATED:20250718T022435Z
LAST-MODIFIED:20250718T022435Z
UID:5012-1779092700-1779375600@pacewa.org
SUMMARY:Full Day Program (KG to 10th Grade Drop-off Time 8:15am\, Pickup Time 3:00pm)
DESCRIPTION:  \n 
URL:https://pacewa.org/event/new-test-event-4-4-2-2-2-2-5-2-2-2-2-3-2-2-3-4-2-2-5-3-2-2-4-2-2-2-2-2-2-3-2-2-2-2-2-2-2-2-3-2-2-2-3-2-2-2-2-2-2-2-2-2-2-2-2-2-2-3-2-5-4-2-2-2-3-4-3-6-3-3-2-2-2-2-2-3-2-2-2-2-3-2-2-2-2-2-2-2-2-5-4-24/
END:VEVENT
BEGIN:VEVENT
DTSTART;TZID=UTC:20260522T083000
DTEND;TZID=UTC:20260522T123000
DTSTAMP:20260423T202516
CREATED:20250718T022514Z
LAST-MODIFIED:20250718T022514Z
UID:5014-1779438600-1779453000@pacewa.org
SUMMARY:Half Day Program - Drop-off\, Pickup Time 12:30pm
DESCRIPTION:
URL:https://pacewa.org/event/new-test-event-4-4-3-2-2-2-4-2-2-2-2-2-2-2-2-2-2-2-2-2-2-2-5-2-2-2-2-3-3-6-2-3-2-2-3-2-4-4-3-2-2-2-2-2-2-2-6-2-2-2-3-4-3-2-6-3-5-2-2-2-2-2-2-2-2-2-2-2-2-2-2-2-2/
END:VEVENT
BEGIN:VEVENT
DTSTART;TZID=UTC:20260525T090000
DTEND;TZID=UTC:20260525T143000
DTSTAMP:20260423T202516
CREATED:20250718T022637Z
LAST-MODIFIED:20250718T022637Z
UID:5016-1779699600-1779719400@pacewa.org
SUMMARY:No School (Memorial Day Holiday!!!)
DESCRIPTION:No School -Memorial Day Holiday
URL:https://pacewa.org/event/new-test-event-4-4-2-2-2-2-5-2-2-2-2-3-2-2-3-4-2-2-5-3-2-2-2-2-2-3-2-2-4-2-2/
END:VEVENT
BEGIN:VEVENT
DTSTART;TZID=UTC:20260526T080000
DTEND;TZID=UTC:20260529T170000
DTSTAMP:20260423T202516
CREATED:20250718T023456Z
LAST-MODIFIED:20250718T023456Z
UID:5032-1779782400-1780074000@pacewa.org
SUMMARY:PACE Assessments
DESCRIPTION:PACE Assessments
URL:https://pacewa.org/event/pace-assessments-2/
END:VEVENT
BEGIN:VEVENT
DTSTART;TZID=UTC:20260526T082500
DTEND;TZID=UTC:20260528T150000
DTSTAMP:20260423T202516
CREATED:20250718T022720Z
LAST-MODIFIED:20250718T022720Z
UID:5018-1779783900-1779980400@pacewa.org
SUMMARY:Full Day Program (KG to 10th Grade Drop-off Time 8:15am\, Pickup Time 3:00pm)
DESCRIPTION:  \n 
URL:https://pacewa.org/event/new-test-event-4-4-2-2-2-2-5-2-2-2-2-3-2-2-3-4-2-2-5-3-2-2-4-2-2-2-2-2-2-3-2-2-2-2-2-2-2-2-3-2-2-2-3-2-2-2-2-2-2-2-2-2-2-2-2-2-2-3-2-5-4-2-2-2-3-4-3-6-3-3-2-2-2-2-2-3-2-2-2-2-3-2-2-2-2-2-2-2-2-5-4-25/
END:VEVENT
BEGIN:VEVENT
DTSTART;TZID=UTC:20260529T083000
DTEND;TZID=UTC:20260529T123000
DTSTAMP:20260423T202516
CREATED:20250718T022817Z
LAST-MODIFIED:20250718T022817Z
UID:5020-1780043400-1780057800@pacewa.org
SUMMARY:Half Day Program - Drop-off\, Pickup Time 12:30pm
DESCRIPTION:
URL:https://pacewa.org/event/new-test-event-4-4-3-2-2-2-4-2-2-2-2-2-2-2-2-2-2-2-2-2-2-2-5-2-2-2-2-3-3-6-2-3-2-2-3-2-4-4-3-2-2-2-2-2-2-2-6-2-2-2-3-4-3-2-6-3-5-2-2-2-2-2-2-2-2-2-2-2-2-2-2-2-2-2/
END:VEVENT
BEGIN:VEVENT
DTSTART;TZID=UTC:20260601T082500
DTEND;TZID=UTC:20260604T150000
DTSTAMP:20260423T202516
CREATED:20250718T022935Z
LAST-MODIFIED:20250718T022935Z
UID:5022-1780302300-1780585200@pacewa.org
SUMMARY:Full Day Program (KG to 10th Grade Drop-off Time 8:15am\, Pickup Time 3:00pm)
DESCRIPTION:  \n 
URL:https://pacewa.org/event/new-test-event-4-4-2-2-2-2-5-2-2-2-2-3-2-2-3-4-2-2-5-3-2-2-4-2-2-2-2-2-2-3-2-2-2-2-2-2-2-2-3-2-2-2-3-2-2-2-2-2-2-2-2-2-2-2-2-2-2-3-2-5-4-2-2-2-3-4-3-6-3-3-2-2-2-2-2-3-2-2-2-2-3-2-2-2-2-2-2-2-2-5-4-26/
END:VEVENT
BEGIN:VEVENT
DTSTART;TZID=UTC:20260605T083000
DTEND;TZID=UTC:20260605T123000
DTSTAMP:20260423T202516
CREATED:20250718T023002Z
LAST-MODIFIED:20250718T023002Z
UID:5024-1780648200-1780662600@pacewa.org
SUMMARY:Half Day Program - Drop-off\, Pickup Time 12:30pm
DESCRIPTION:
URL:https://pacewa.org/event/new-test-event-4-4-3-2-2-2-4-2-2-2-2-2-2-2-2-2-2-2-2-2-2-2-5-2-2-2-2-3-3-6-2-3-2-2-3-2-4-4-3-2-2-2-2-2-2-2-6-2-2-2-3-4-3-2-6-3-5-2-2-2-2-2-2-2-2-2-2-2-2-2-2-2-2-2-2/
END:VEVENT
BEGIN:VEVENT
DTSTART;TZID=UTC:20260608T082500
DTEND;TZID=UTC:20260610T150000
DTSTAMP:20260423T202516
CREATED:20250718T023027Z
LAST-MODIFIED:20250718T023117Z
UID:5026-1780907100-1781103600@pacewa.org
SUMMARY:Full Day Program (KG to 10th Grade Drop-off Time 8:15am\, Pickup Time 3:00pm)
DESCRIPTION:  \n 
URL:https://pacewa.org/event/new-test-event-4-4-2-2-2-2-5-2-2-2-2-3-2-2-3-4-2-2-5-3-2-2-4-2-2-2-2-2-2-3-2-2-2-2-2-2-2-2-3-2-2-2-3-2-2-2-2-2-2-2-2-2-2-2-2-2-2-3-2-5-4-2-2-2-3-4-3-6-3-3-2-2-2-2-2-3-2-2-2-2-3-2-2-2-2-2-2-2-2-5-4-27/
END:VEVENT
BEGIN:VEVENT
DTSTART;TZID=UTC:20260610T083000
DTEND;TZID=UTC:20260610T130000
DTSTAMP:20260423T202516
CREATED:20250718T023201Z
LAST-MODIFIED:20250718T023201Z
UID:5028-1781080200-1781096400@pacewa.org
SUMMARY:(Last Day of School)
DESCRIPTION:Last Day of School \n 
URL:https://pacewa.org/event/new-test-event-4-2-2-2-2-2-4-2-2-3-2-5-5-5-5-4-2-2-3-2-2-2-2-2/
END:VEVENT
BEGIN:VEVENT
DTSTART;TZID=UTC:20260611T083000
DTEND;TZID=UTC:20260612T130000
DTSTAMP:20260423T202516
CREATED:20250718T023319Z
LAST-MODIFIED:20250718T023319Z
UID:5030-1781166600-1781269200@pacewa.org
SUMMARY:(LC Working Days)
DESCRIPTION:Last Day of School \n 
URL:https://pacewa.org/event/new-test-event-4-2-2-2-2-2-4-2-2-3-2-5-5-5-5-4-2-2-3-2-2-2-2-2-2/
END:VEVENT
END:VCALENDAR