BEGIN:VCALENDAR
VERSION:2.0
PRODID:-//Pace Academy - ECPv6.15.14//NONSGML v1.0//EN
CALSCALE:GREGORIAN
METHOD:PUBLISH
X-WR-CALNAME:Pace Academy
X-ORIGINAL-URL:https://pacewa.org
X-WR-CALDESC:Events for Pace Academy
REFRESH-INTERVAL;VALUE=DURATION:PT1H
X-Robots-Tag:noindex
X-PUBLISHED-TTL:PT1H
BEGIN:VTIMEZONE
TZID:UTC
BEGIN:STANDARD
TZOFFSETFROM:+0000
TZOFFSETTO:+0000
TZNAME:UTC
DTSTART:20250101T000000
END:STANDARD
END:VTIMEZONE
BEGIN:VEVENT
DTSTART;TZID=UTC:20260508T083000
DTEND;TZID=UTC:20260508T123000
DTSTAMP:20260424T001212
CREATED:20250718T022253Z
LAST-MODIFIED:20250718T022253Z
UID:5006-1778229000-1778243400@pacewa.org
SUMMARY:Half Day Program - Drop-off\, Pickup Time 12:30pm
DESCRIPTION:
URL:https://pacewa.org/event/new-test-event-4-4-3-2-2-2-4-2-2-2-2-2-2-2-2-2-2-2-2-2-2-2-5-2-2-2-2-3-3-6-2-3-2-2-3-2-4-4-3-2-2-2-2-2-2-2-6-2-2-2-3-4-3-2-6-3-5-2-2-2-2-2-2-2-2-2-2-2-2-2-2/
END:VEVENT
BEGIN:VEVENT
DTSTART;TZID=UTC:20260504T082500
DTEND;TZID=UTC:20260507T150000
DTSTAMP:20260424T001212
CREATED:20250718T022223Z
LAST-MODIFIED:20250718T022223Z
UID:5004-1777883100-1778166000@pacewa.org
SUMMARY:Full Day Program (KG to 10th Grade Drop-off Time 8:15am\, Pickup Time 3:00pm)
DESCRIPTION:  \n 
URL:https://pacewa.org/event/new-test-event-4-4-2-2-2-2-5-2-2-2-2-3-2-2-3-4-2-2-5-3-2-2-4-2-2-2-2-2-2-3-2-2-2-2-2-2-2-2-3-2-2-2-3-2-2-2-2-2-2-2-2-2-2-2-2-2-2-3-2-5-4-2-2-2-3-4-3-6-3-3-2-2-2-2-2-3-2-2-2-2-3-2-2-2-2-2-2-2-2-5-4-22/
END:VEVENT
BEGIN:VEVENT
DTSTART;TZID=UTC:20260501T083000
DTEND;TZID=UTC:20260501T123000
DTSTAMP:20260424T001212
CREATED:20250718T022149Z
LAST-MODIFIED:20250718T022149Z
UID:5002-1777624200-1777638600@pacewa.org
SUMMARY:Half Day Program - Drop-off\, Pickup Time 12:30pm
DESCRIPTION:
URL:https://pacewa.org/event/new-test-event-4-4-3-2-2-2-4-2-2-2-2-2-2-2-2-2-2-2-2-2-2-2-5-2-2-2-2-3-3-6-2-3-2-2-3-2-4-4-3-2-2-2-2-2-2-2-6-2-2-2-3-4-3-2-6-3-5-2-2-2-2-2-2-2-2-2-2-2-2-2/
END:VEVENT
BEGIN:VEVENT
DTSTART;TZID=UTC:20260427T082500
DTEND;TZID=UTC:20260430T150000
DTSTAMP:20260424T001212
CREATED:20250718T022018Z
LAST-MODIFIED:20250718T022018Z
UID:4999-1777278300-1777561200@pacewa.org
SUMMARY:Full Day Program (KG to 10th Grade Drop-off Time 8:15am\, Pickup Time 3:00pm)
DESCRIPTION:  \n 
URL:https://pacewa.org/event/new-test-event-4-4-2-2-2-2-5-2-2-2-2-3-2-2-3-4-2-2-5-3-2-2-4-2-2-2-2-2-2-3-2-2-2-2-2-2-2-2-3-2-2-2-3-2-2-2-2-2-2-2-2-2-2-2-2-2-2-3-2-5-4-2-2-2-3-4-3-6-3-3-2-2-2-2-2-3-2-2-2-2-3-2-2-2-2-2-2-2-2-5-4-2-9/
END:VEVENT
BEGIN:VEVENT
DTSTART;TZID=UTC:20260424T083000
DTEND;TZID=UTC:20260424T123000
DTSTAMP:20260424T001212
CREATED:20250718T021915Z
LAST-MODIFIED:20250718T021915Z
UID:4996-1777019400-1777033800@pacewa.org
SUMMARY:Half Day Program - Drop-off\, Pickup Time 12:30pm
DESCRIPTION:
URL:https://pacewa.org/event/new-test-event-4-4-3-2-2-2-4-2-2-2-2-2-2-2-2-2-2-2-2-2-2-2-5-2-2-2-2-3-3-6-2-3-2-2-3-2-4-4-3-2-2-2-2-2-2-2-6-2-2-2-3-4-3-2-6-3-5-2-2-2-2-2-2-2-2-2-2-2-2/
END:VEVENT
BEGIN:VEVENT
DTSTART;TZID=UTC:20260420T082500
DTEND;TZID=UTC:20260423T150000
DTSTAMP:20260424T001212
CREATED:20250718T021843Z
LAST-MODIFIED:20250718T021843Z
UID:4995-1776673500-1776956400@pacewa.org
SUMMARY:Full Day Program (KG to 10th Grade Drop-off Time 8:15am\, Pickup Time 3:00pm)
DESCRIPTION:  \n 
URL:https://pacewa.org/event/new-test-event-4-4-2-2-2-2-5-2-2-2-2-3-2-2-3-4-2-2-5-3-2-2-4-2-2-2-2-2-2-3-2-2-2-2-2-2-2-2-3-2-2-2-3-2-2-2-2-2-2-2-2-2-2-2-2-2-2-3-2-5-4-2-2-2-3-4-3-6-3-3-2-2-2-2-2-3-2-2-2-2-3-2-2-2-2-2-2-2-2-5-4-2-8/
END:VEVENT
BEGIN:VEVENT
DTSTART;TZID=UTC:20260417T083000
DTEND;TZID=UTC:20260417T123000
DTSTAMP:20260424T001212
CREATED:20250718T021736Z
LAST-MODIFIED:20250718T021736Z
UID:4992-1776414600-1776429000@pacewa.org
SUMMARY:Half Day Program - Drop-off\, Pickup Time 12:30pm
DESCRIPTION:
URL:https://pacewa.org/event/new-test-event-4-4-3-2-2-2-4-2-2-2-2-2-2-2-2-2-2-2-2-2-2-2-5-2-2-2-2-3-3-6-2-3-2-2-3-2-4-4-3-2-2-2-2-2-2-2-6-2-2-2-3-4-3-2-6-3-5-2-2-2-2-2-2-2-2-2-2-2/
END:VEVENT
BEGIN:VEVENT
DTSTART;TZID=UTC:20260413T082500
DTEND;TZID=UTC:20260416T150000
DTSTAMP:20260424T001212
CREATED:20250718T021616Z
LAST-MODIFIED:20250718T021616Z
UID:4991-1776068700-1776351600@pacewa.org
SUMMARY:Full Day Program (KG to 10th Grade Drop-off Time 8:15am\, Pickup Time 3:00pm)
DESCRIPTION:  \n 
URL:https://pacewa.org/event/new-test-event-4-4-2-2-2-2-5-2-2-2-2-3-2-2-3-4-2-2-5-3-2-2-4-2-2-2-2-2-2-3-2-2-2-2-2-2-2-2-3-2-2-2-3-2-2-2-2-2-2-2-2-2-2-2-2-2-2-3-2-5-4-2-2-2-3-4-3-6-3-3-2-2-2-2-2-3-2-2-2-2-3-2-2-2-2-2-2-2-2-5-4-2-7/
END:VEVENT
BEGIN:VEVENT
DTSTART;TZID=UTC:20260406T083000
DTEND;TZID=UTC:20260410T150000
DTSTAMP:20260424T001212
CREATED:20250718T021442Z
LAST-MODIFIED:20250718T021442Z
UID:4989-1775464200-1775833200@pacewa.org
SUMMARY:No School Spring Break!!!
DESCRIPTION:No School Spring Break!!
URL:https://pacewa.org/event/new-test-event-4-4-2-2-2-2-5-2-2-2-2-3-2-2-3-4-2-2-5-2-2-2-2-2-2-2-2/
ATTACH;FMTTYPE=image/jpeg:https://pacewa.org/wp-content/uploads/2021/11/spring-break.jpg
END:VEVENT
BEGIN:VEVENT
DTSTART;TZID=UTC:20260403T083000
DTEND;TZID=UTC:20260403T123000
DTSTAMP:20260424T001212
CREATED:20250718T021316Z
LAST-MODIFIED:20250718T021316Z
UID:4986-1775205000-1775219400@pacewa.org
SUMMARY:Half Day Program - Drop-off\, Pickup Time 12:30pm
DESCRIPTION:
URL:https://pacewa.org/event/new-test-event-4-4-3-2-2-2-4-2-2-2-2-2-2-2-2-2-2-2-2-2-2-2-5-2-2-2-2-3-3-6-2-3-2-2-3-2-4-4-3-2-2-2-2-2-2-2-6-2-2-2-3-4-3-2-6-3-5-2-2-2-2-2-2-2-2-2-2/
END:VEVENT
BEGIN:VEVENT
DTSTART;TZID=UTC:20260330T082500
DTEND;TZID=UTC:20260402T150000
DTSTAMP:20260424T001212
CREATED:20250718T021248Z
LAST-MODIFIED:20250718T021248Z
UID:4985-1774859100-1775142000@pacewa.org
SUMMARY:Full Day Program (KG to 10th Grade Drop-off Time 8:15am\, Pickup Time 3:00pm)
DESCRIPTION:  \n 
URL:https://pacewa.org/event/new-test-event-4-4-2-2-2-2-5-2-2-2-2-3-2-2-3-4-2-2-5-3-2-2-4-2-2-2-2-2-2-3-2-2-2-2-2-2-2-2-3-2-2-2-3-2-2-2-2-2-2-2-2-2-2-2-2-2-2-3-2-5-4-2-2-2-3-4-3-6-3-3-2-2-2-2-2-3-2-2-2-2-3-2-2-2-2-2-2-2-2-5-4-2-6/
END:VEVENT
BEGIN:VEVENT
DTSTART;TZID=UTC:20260327T083000
DTEND;TZID=UTC:20260327T123000
DTSTAMP:20260424T001212
CREATED:20250718T020536Z
LAST-MODIFIED:20250718T021003Z
UID:4980-1774600200-1774614600@pacewa.org
SUMMARY:Half Day Program - Drop-off\, Pickup Time 12:30pm
DESCRIPTION:
URL:https://pacewa.org/event/new-test-event-4-4-3-2-2-2-4-2-2-2-2-2-2-2-2-2-2-2-2-2-2-2-5-2-2-2-2-3-3-6-2-3-2-2-3-2-4-4-3-2-2-2-2-2-2-2-6-2-2-2-3-4-3-2-6-3-5-2-2-2-2-2-2-2-2-2/
END:VEVENT
BEGIN:VEVENT
DTSTART;TZID=UTC:20260325T090000
DTEND;TZID=UTC:20260325T150000
DTSTAMP:20260424T001212
CREATED:20260324T025935Z
LAST-MODIFIED:20260324T030149Z
UID:5169-1774429200-1774450800@pacewa.org
SUMMARY:Eid Celebration 2026
DESCRIPTION:
URL:https://pacewa.org/event/eid-celebration-2026/
END:VEVENT
BEGIN:VEVENT
DTSTART;TZID=UTC:20260323T082500
DTEND;TZID=UTC:20260326T150000
DTSTAMP:20260424T001212
CREATED:20250718T020301Z
LAST-MODIFIED:20250718T020301Z
UID:4943-1774254300-1774537200@pacewa.org
SUMMARY:Full Day Program (KG to 10th Grade Drop-off Time 8:15am\, Pickup Time 3:00pm)
DESCRIPTION:  \n 
URL:https://pacewa.org/event/new-test-event-4-4-2-2-2-2-5-2-2-2-2-3-2-2-3-4-2-2-5-3-2-2-4-2-2-2-2-2-2-3-2-2-2-2-2-2-2-2-3-2-2-2-3-2-2-2-2-2-2-2-2-2-2-2-2-2-2-3-2-5-4-2-2-2-3-4-3-6-3-3-2-2-2-2-2-3-2-2-2-2-3-2-2-2-2-2-2-2-2-5-4-21/
END:VEVENT
BEGIN:VEVENT
DTSTART;TZID=UTC:20260319T090000
DTEND;TZID=UTC:20260320T143000
DTSTAMP:20260424T001212
CREATED:20250718T020124Z
LAST-MODIFIED:20250718T020124Z
UID:4976-1773910800-1774017000@pacewa.org
SUMMARY:No School Ramadan and (Eid Holidays!!!)
DESCRIPTION:No School – Ramadan and Eid Holidays
URL:https://pacewa.org/event/new-test-event-4-4-2-2-2-2-5-2-2-2-2-3-2-2-3-4-2-2-5-3-2-2-2-2-2-3-3-2-2/
ATTACH;FMTTYPE=image/jpeg:https://pacewa.org/wp-content/uploads/2021/11/ramadan-eid-mubarak-moon-hanging-with-mosque-lanterns-hanging_24877-64634.jpg
END:VEVENT
BEGIN:VEVENT
DTSTART;TZID=UTC:20260316T090000
DTEND;TZID=UTC:20260318T143000
DTSTAMP:20260424T001212
CREATED:20250718T021053Z
LAST-MODIFIED:20250718T021053Z
UID:4983-1773651600-1773844200@pacewa.org
SUMMARY:Ramadan On-line Hours (KG to 10th Grade  9:00am to 2:30pm)
DESCRIPTION:  \n 
URL:https://pacewa.org/event/new-test-event-4-4-2-2-2-2-5-2-2-2-2-3-2-2-3-4-2-2-5-3-2-2-4-2-2-2-2-2-2-3-2-2-2-2-2-2-2-2-3-2-2-2-3-2-2-2-2-2-2-2-2-2-2-2-2-2-2-3-2-5-4-2-2-2-3-4-3-6-3-3-2-2-2-2-2-3-2-2-2-2-3-2-2-2-2-2-2-2-2-5-4-2-5/
END:VEVENT
BEGIN:VEVENT
DTSTART;TZID=UTC:20260313T090000
DTEND;TZID=UTC:20260313T113000
DTSTAMP:20260424T001212
CREATED:20250718T015735Z
LAST-MODIFIED:20250718T015735Z
UID:4974-1773392400-1773401400@pacewa.org
SUMMARY:Ramadan On-line Hours (KG to 10th Grade  9:00am to 11:30am)
DESCRIPTION:  \n 
URL:https://pacewa.org/event/new-test-event-4-4-2-2-2-2-5-2-2-2-2-3-2-2-3-4-2-2-5-3-2-2-4-2-2-2-2-2-2-3-2-2-2-2-2-2-2-2-3-2-2-2-3-2-2-2-2-2-2-2-2-2-2-2-2-2-2-3-2-5-4-2-2-2-3-4-3-6-3-3-2-2-2-2-2-3-2-2-2-2-3-2-2-2-2-2-2-2-2-5-4-2-4/
END:VEVENT
BEGIN:VEVENT
DTSTART;TZID=UTC:20260309T090000
DTEND;TZID=UTC:20260312T143000
DTSTAMP:20260424T001212
CREATED:20250718T014535Z
LAST-MODIFIED:20250718T014616Z
UID:4966-1773046800-1773325800@pacewa.org
SUMMARY:Ramadan On-line Hours (KG to 10th Grade  9:00am to 2:30pm)
DESCRIPTION:  \n 
URL:https://pacewa.org/event/new-test-event-4-4-2-2-2-2-5-2-2-2-2-3-2-2-3-4-2-2-5-3-2-2-4-2-2-2-2-2-2-3-2-2-2-2-2-2-2-2-3-2-2-2-3-2-2-2-2-2-2-2-2-2-2-2-2-2-2-3-2-5-4-2-2-2-3-4-3-6-3-3-2-2-2-2-2-3-2-2-2-2-3-2-2-2-2-2-2-2-2-5-4-20/
END:VEVENT
BEGIN:VEVENT
DTSTART;TZID=UTC:20260306T090000
DTEND;TZID=UTC:20260306T113000
DTSTAMP:20260424T001212
CREATED:20250718T015640Z
LAST-MODIFIED:20250718T015640Z
UID:4972-1772787600-1772796600@pacewa.org
SUMMARY:Ramadan On-line Hours (KG to 10th Grade  9:00am to 11:30am)
DESCRIPTION:  \n 
URL:https://pacewa.org/event/new-test-event-4-4-2-2-2-2-5-2-2-2-2-3-2-2-3-4-2-2-5-3-2-2-4-2-2-2-2-2-2-3-2-2-2-2-2-2-2-2-3-2-2-2-3-2-2-2-2-2-2-2-2-2-2-2-2-2-2-3-2-5-4-2-2-2-3-4-3-6-3-3-2-2-2-2-2-3-2-2-2-2-3-2-2-2-2-2-2-2-2-5-4-2-3/
END:VEVENT
BEGIN:VEVENT
DTSTART;TZID=UTC:20260302T090000
DTEND;TZID=UTC:20260305T143000
DTSTAMP:20260424T001212
CREATED:20250718T014040Z
LAST-MODIFIED:20250718T014151Z
UID:4964-1772442000-1772721000@pacewa.org
SUMMARY:Ramadan Hours (KG to 10th Grade Drop-off Time 8:45am Pickup Time 2:30pm)
DESCRIPTION:  \n 
URL:https://pacewa.org/event/new-test-event-4-4-2-2-2-2-5-2-2-2-2-3-2-2-3-4-2-2-5-3-2-2-4-2-2-2-2-2-2-3-2-2-2-2-2-2-2-2-3-2-2-2-3-2-2-2-2-2-2-2-2-2-2-2-2-2-2-3-2-5-4-2-2-2-3-4-3-6-3-3-2-2-2-2-2-3-2-2-2-2-3-2-2-2-2-2-2-2-2-5-4-19/
END:VEVENT
BEGIN:VEVENT
DTSTART;TZID=UTC:20260227T090000
DTEND;TZID=UTC:20260227T130000
DTSTAMP:20260424T001212
CREATED:20250718T014913Z
LAST-MODIFIED:20250718T014913Z
UID:4968-1772182800-1772197200@pacewa.org
SUMMARY:Staff Development and Planning Day (No School) 
DESCRIPTION:Staff Development and Planning Day (No School)
URL:https://pacewa.org/event/new-test-event-4-4-3-2-2-2-4-2-2-2-2-2-2-2-2-2-2-2-2-2-2-2-5-2-2-2-2-3-2-2-2-2-2-2-2-2-2-2-2-2-2-2-2-2-2-2-2-2-3-2-2-2-2-2-3-2-2-2-2-3-2-2-2-2/
ATTACH;FMTTYPE=image/webp:https://pacewa.org/wp-content/uploads/2024/08/DALL·E-2024-08-03-14.56.36-A-colorful-and-engaging-graphic-for-Staff-Development-and-Planning-Day.-The-background-features-professional-and-educational-elements-such-as-notebook.webp
END:VEVENT
BEGIN:VEVENT
DTSTART;TZID=UTC:20260223T090000
DTEND;TZID=UTC:20260226T143000
DTSTAMP:20260424T001212
CREATED:20250718T013844Z
LAST-MODIFIED:20250718T013844Z
UID:4962-1771837200-1772116200@pacewa.org
SUMMARY:Ramadan Hours (KG to 10th Grade Drop-off Time 8:45am Pickup Time 2:30pm)
DESCRIPTION:  \n 
URL:https://pacewa.org/event/new-test-event-4-4-2-2-2-2-5-2-2-2-2-3-2-2-3-4-2-2-5-3-2-2-4-2-2-2-2-2-2-3-2-2-2-2-2-2-2-2-3-2-2-2-3-2-2-2-2-2-2-2-2-2-2-2-2-2-2-3-2-5-4-2-2-2-3-4-3-6-3-3-2-2-2-2-2-3-2-2-2-2-3-2-2-2-2-2-2-2-2-5-4-18/
END:VEVENT
BEGIN:VEVENT
DTSTART;TZID=UTC:20260220T090000
DTEND;TZID=UTC:20260220T113000
DTSTAMP:20260424T001212
CREATED:20250718T015159Z
LAST-MODIFIED:20250718T015329Z
UID:4970-1771578000-1771587000@pacewa.org
SUMMARY:Ramadan On-line Hours (KG to 10th Grade  9:00am to 11:30am)
DESCRIPTION:  \n 
URL:https://pacewa.org/event/new-test-event-4-4-2-2-2-2-5-2-2-2-2-3-2-2-3-4-2-2-5-3-2-2-4-2-2-2-2-2-2-3-2-2-2-2-2-2-2-2-3-2-2-2-3-2-2-2-2-2-2-2-2-2-2-2-2-2-2-3-2-5-4-2-2-2-3-4-3-6-3-3-2-2-2-2-2-3-2-2-2-2-3-2-2-2-2-2-2-2-2-5-4-2-2/
END:VEVENT
BEGIN:VEVENT
DTSTART;TZID=UTC:20260218T090000
DTEND;TZID=UTC:20260219T143000
DTSTAMP:20260424T001212
CREATED:20250718T001132Z
LAST-MODIFIED:20250718T013506Z
UID:4945-1771405200-1771511400@pacewa.org
SUMMARY:Ramadan Hours (KG to 10th Grade Drop-off Time 8:45am Pickup Time 2:30pm)
DESCRIPTION:  \n 
URL:https://pacewa.org/event/new-test-event-4-4-2-2-2-2-5-2-2-2-2-3-2-2-3-4-2-2-5-3-2-2-4-2-2-2-2-2-2-3-2-2-2-2-2-2-2-2-3-2-2-2-3-2-2-2-2-2-2-2-2-2-2-2-2-2-2-3-2-5-4-2-2-2-3-4-3-6-3-3-2-2-2-2-2-3-2-2-2-2-3-2-2-2-2-2-2-2-2-5-4-17/
END:VEVENT
BEGIN:VEVENT
DTSTART;TZID=UTC:20260217T082500
DTEND;TZID=UTC:20260217T150000
DTSTAMP:20260424T001212
CREATED:20250718T000733Z
LAST-MODIFIED:20250718T000733Z
UID:4941-1771316700-1771340400@pacewa.org
SUMMARY:Full Day Program (KG to 10th Grade Drop-off Time 8:15am Pickup Time 3:00pm)
DESCRIPTION:  \n 
URL:https://pacewa.org/event/new-test-event-4-4-2-2-2-2-5-2-2-2-2-3-2-2-3-4-2-2-5-3-2-2-4-2-2-2-2-2-2-3-2-2-2-2-2-2-2-2-3-2-2-2-3-2-2-2-2-2-2-2-2-2-2-2-2-2-2-3-2-5-4-2-2-2-3-4-3-6-3-3-2-2-2-2-2-3-2-2-2-2-3-2-2-2-2-2-2-2-2-5-4-16/
END:VEVENT
BEGIN:VEVENT
DTSTART;VALUE=DATE:20260216
DTEND;VALUE=DATE:20260217
DTSTAMP:20260424T001212
CREATED:20250717T220638Z
LAST-MODIFIED:20250717T220638Z
UID:4934-1771200000-1771286399@pacewa.org
SUMMARY:President's Day  (Holiday)
DESCRIPTION:President’s Day  (Holiday)
URL:https://pacewa.org/event/new-test-event-4-2-2-2-2-2-4-2-2-3-2-5-5-5-5-4-2-2-2-3-3-2-2-2-2-4-2-2-2-2-2-2-2-2-2-3-3-2-3-2-2-2/
ATTACH;FMTTYPE=image/jpeg:https://pacewa.org/wp-content/uploads/2021/11/presidentday.jpeg
END:VEVENT
BEGIN:VEVENT
DTSTART;TZID=UTC:20260213T083000
DTEND;TZID=UTC:20260213T113000
DTSTAMP:20260424T001212
CREATED:20250717T220339Z
LAST-MODIFIED:20250718T013039Z
UID:4931-1770971400-1770982200@pacewa.org
SUMMARY:Half Day Program - Pickup Time 11:30am
DESCRIPTION:
URL:https://pacewa.org/event/new-test-event-4-4-3-2-2-2-4-2-2-2-2-2-2-2-2-2-2-2-2-2-2-2-5-2-2-2-2-3-3-6-2-3-2-2-3-2-4-4-3-2-2-2-2-2-2-2-6-2-2-2-3-4-3-2-6-3-5-2-2-2-2-2-2-2-2/
END:VEVENT
BEGIN:VEVENT
DTSTART;TZID=UTC:20260209T082500
DTEND;TZID=UTC:20260212T150000
DTSTAMP:20260424T001212
CREATED:20250717T220200Z
LAST-MODIFIED:20250717T220200Z
UID:4930-1770625500-1770908400@pacewa.org
SUMMARY:Full Day Program (KG to 10th Grade Drop-off Time 8:15am Pickup Time 3:00pm)
DESCRIPTION:  \n 
URL:https://pacewa.org/event/new-test-event-4-4-2-2-2-2-5-2-2-2-2-3-2-2-3-4-2-2-5-3-2-2-4-2-2-2-2-2-2-3-2-2-2-2-2-2-2-2-3-2-2-2-3-2-2-2-2-2-2-2-2-2-2-2-2-2-2-3-2-5-4-2-2-2-3-4-3-6-3-3-2-2-2-2-2-3-2-2-2-2-3-2-2-2-2-2-2-2-2-5-4-15/
END:VEVENT
BEGIN:VEVENT
DTSTART;TZID=UTC:20260206T083000
DTEND;TZID=UTC:20260206T113000
DTSTAMP:20260424T001212
CREATED:20250717T215709Z
LAST-MODIFIED:20250718T012926Z
UID:4928-1770366600-1770377400@pacewa.org
SUMMARY:Half Day Program - Pickup Time 11:30am
DESCRIPTION:
URL:https://pacewa.org/event/new-test-event-4-4-3-2-2-2-4-2-2-2-2-2-2-2-2-2-2-2-2-2-2-2-5-2-2-2-2-3-3-6-2-3-2-2-3-2-4-4-3-2-2-2-2-2-2-2-6-2-2-2-3-4-3-2-6-3-5-2-2-2-2-2-2-2/
END:VEVENT
BEGIN:VEVENT
DTSTART;TZID=UTC:20260202T082500
DTEND;TZID=UTC:20260205T150000
DTSTAMP:20260424T001212
CREATED:20250717T212401Z
LAST-MODIFIED:20250717T212425Z
UID:4925-1770020700-1770303600@pacewa.org
SUMMARY:Full Day Program (KG to 10th Grade Drop-off Time 8:15am Pickup Time 3:00pm)
DESCRIPTION:  \n 
URL:https://pacewa.org/event/new-test-event-4-4-2-2-2-2-5-2-2-2-2-3-2-2-3-4-2-2-5-3-2-2-4-2-2-2-2-2-2-3-2-2-2-2-2-2-2-2-3-2-2-2-3-2-2-2-2-2-2-2-2-2-2-2-2-2-2-3-2-5-4-2-2-2-3-4-3-6-3-3-2-2-2-2-2-3-2-2-2-2-3-2-2-2-2-2-2-2-2-5-4-14/
END:VEVENT
END:VCALENDAR