BEGIN:VCALENDAR
VERSION:2.0
PRODID:-//Pace Academy - ECPv6.15.14//NONSGML v1.0//EN
CALSCALE:GREGORIAN
METHOD:PUBLISH
X-WR-CALNAME:Pace Academy
X-ORIGINAL-URL:https://pacewa.org
X-WR-CALDESC:Events for Pace Academy
REFRESH-INTERVAL;VALUE=DURATION:PT1H
X-Robots-Tag:noindex
X-PUBLISHED-TTL:PT1H
BEGIN:VTIMEZONE
TZID:UTC
BEGIN:STANDARD
TZOFFSETFROM:+0000
TZOFFSETTO:+0000
TZNAME:UTC
DTSTART:20250101T000000
END:STANDARD
END:VTIMEZONE
BEGIN:VEVENT
DTSTART;TZID=UTC:20260417T083000
DTEND;TZID=UTC:20260417T123000
DTSTAMP:20260423T172914
CREATED:20250718T021736Z
LAST-MODIFIED:20250718T021736Z
UID:4992-1776414600-1776429000@pacewa.org
SUMMARY:Half Day Program - Drop-off\, Pickup Time 12:30pm
DESCRIPTION:
URL:https://pacewa.org/event/new-test-event-4-4-3-2-2-2-4-2-2-2-2-2-2-2-2-2-2-2-2-2-2-2-5-2-2-2-2-3-3-6-2-3-2-2-3-2-4-4-3-2-2-2-2-2-2-2-6-2-2-2-3-4-3-2-6-3-5-2-2-2-2-2-2-2-2-2-2-2/
END:VEVENT
END:VCALENDAR