BEGIN:VCALENDAR
VERSION:2.0
PRODID:-//Pace Academy - ECPv6.15.14//NONSGML v1.0//EN
CALSCALE:GREGORIAN
METHOD:PUBLISH
X-ORIGINAL-URL:https://pacewa.org
X-WR-CALDESC:Events for Pace Academy
REFRESH-INTERVAL;VALUE=DURATION:PT1H
X-Robots-Tag:noindex
X-PUBLISHED-TTL:PT1H
BEGIN:VTIMEZONE
TZID:UTC
BEGIN:STANDARD
TZOFFSETFROM:+0000
TZOFFSETTO:+0000
TZNAME:UTC
DTSTART:20250101T000000
END:STANDARD
END:VTIMEZONE
BEGIN:VEVENT
DTSTART;TZID=UTC:20260319T090000
DTEND;TZID=UTC:20260320T143000
DTSTAMP:20260423T173232
CREATED:20250718T020124Z
LAST-MODIFIED:20250718T020124Z
UID:4976-1773910800-1774017000@pacewa.org
SUMMARY:No School Ramadan and (Eid Holidays!!!)
DESCRIPTION:No School – Ramadan and Eid Holidays
URL:https://pacewa.org/event/new-test-event-4-4-2-2-2-2-5-2-2-2-2-3-2-2-3-4-2-2-5-3-2-2-2-2-2-3-3-2-2/
ATTACH;FMTTYPE=image/jpeg:https://pacewa.org/wp-content/uploads/2021/11/ramadan-eid-mubarak-moon-hanging-with-mosque-lanterns-hanging_24877-64634.jpg
END:VEVENT
END:VCALENDAR