BEGIN:VCALENDAR
VERSION:2.0
PRODID:-//Pace Academy - ECPv6.15.14//NONSGML v1.0//EN
CALSCALE:GREGORIAN
METHOD:PUBLISH
X-WR-CALNAME:Pace Academy
X-ORIGINAL-URL:https://pacewa.org
X-WR-CALDESC:Events for Pace Academy
REFRESH-INTERVAL;VALUE=DURATION:PT1H
X-Robots-Tag:noindex
X-PUBLISHED-TTL:PT1H
BEGIN:VTIMEZONE
TZID:UTC
BEGIN:STANDARD
TZOFFSETFROM:+0000
TZOFFSETTO:+0000
TZNAME:UTC
DTSTART:20250101T000000
END:STANDARD
END:VTIMEZONE
BEGIN:VEVENT
DTSTART;TZID=UTC:20260227T090000
DTEND;TZID=UTC:20260227T130000
DTSTAMP:20260423T172931
CREATED:20250718T014913Z
LAST-MODIFIED:20250718T014913Z
UID:4968-1772182800-1772197200@pacewa.org
SUMMARY:Staff Development and Planning Day (No School) 
DESCRIPTION:Staff Development and Planning Day (No School)
URL:https://pacewa.org/event/new-test-event-4-4-3-2-2-2-4-2-2-2-2-2-2-2-2-2-2-2-2-2-2-2-5-2-2-2-2-3-2-2-2-2-2-2-2-2-2-2-2-2-2-2-2-2-2-2-2-2-3-2-2-2-2-2-3-2-2-2-2-3-2-2-2-2/
ATTACH;FMTTYPE=image/webp:https://pacewa.org/wp-content/uploads/2024/08/DALL·E-2024-08-03-14.56.36-A-colorful-and-engaging-graphic-for-Staff-Development-and-Planning-Day.-The-background-features-professional-and-educational-elements-such-as-notebook.webp
END:VEVENT
END:VCALENDAR