BEGIN:VCALENDAR
VERSION:2.0
PRODID:-//Pace Academy - ECPv6.15.14//NONSGML v1.0//EN
CALSCALE:GREGORIAN
METHOD:PUBLISH
X-ORIGINAL-URL:https://pacewa.org
X-WR-CALDESC:Events for Pace Academy
REFRESH-INTERVAL;VALUE=DURATION:PT1H
X-Robots-Tag:noindex
X-PUBLISHED-TTL:PT1H
BEGIN:VTIMEZONE
TZID:UTC
BEGIN:STANDARD
TZOFFSETFROM:+0000
TZOFFSETTO:+0000
TZNAME:UTC
DTSTART:20250101T000000
END:STANDARD
END:VTIMEZONE
BEGIN:VEVENT
DTSTART;VALUE=DATE:20260216
DTEND;VALUE=DATE:20260217
DTSTAMP:20260423T185436
CREATED:20250717T220638Z
LAST-MODIFIED:20250717T220638Z
UID:4934-1771200000-1771286399@pacewa.org
SUMMARY:President's Day  (Holiday)
DESCRIPTION:President’s Day  (Holiday)
URL:https://pacewa.org/event/new-test-event-4-2-2-2-2-2-4-2-2-3-2-5-5-5-5-4-2-2-2-3-3-2-2-2-2-4-2-2-2-2-2-2-2-2-2-3-3-2-3-2-2-2/
ATTACH;FMTTYPE=image/jpeg:https://pacewa.org/wp-content/uploads/2021/11/presidentday.jpeg
END:VEVENT
END:VCALENDAR