BEGIN:VCALENDAR
VERSION:2.0
PRODID:-//Pace Academy - ECPv6.15.14//NONSGML v1.0//EN
CALSCALE:GREGORIAN
METHOD:PUBLISH
X-ORIGINAL-URL:https://pacewa.org
X-WR-CALDESC:Events for Pace Academy
REFRESH-INTERVAL;VALUE=DURATION:PT1H
X-Robots-Tag:noindex
X-PUBLISHED-TTL:PT1H
BEGIN:VTIMEZONE
TZID:UTC
BEGIN:STANDARD
TZOFFSETFROM:+0000
TZOFFSETTO:+0000
TZNAME:UTC
DTSTART:20250101T000000
END:STANDARD
END:VTIMEZONE
BEGIN:VEVENT
DTSTART;TZID=UTC:20260119T083000
DTEND;TZID=UTC:20260119T130000
DTSTAMP:20260423T202043
CREATED:20250717T202329Z
LAST-MODIFIED:20250717T202329Z
UID:4910-1768811400-1768827600@pacewa.org
SUMMARY:Martin Luther King Jr Holiday (No School)
DESCRIPTION:No School (Martin Luther King Jr Holiday )
URL:https://pacewa.org/event/new-test-event-4-4-3-2-2-2-4-2-2-3-3-2-3-2-2-2/
END:VEVENT
END:VCALENDAR