BEGIN:VCALENDAR
VERSION:2.0
PRODID:-//Pace Academy - ECPv6.15.14//NONSGML v1.0//EN
CALSCALE:GREGORIAN
METHOD:PUBLISH
X-ORIGINAL-URL:https://pacewa.org
X-WR-CALDESC:Events for Pace Academy
REFRESH-INTERVAL;VALUE=DURATION:PT1H
X-Robots-Tag:noindex
X-PUBLISHED-TTL:PT1H
BEGIN:VTIMEZONE
TZID:UTC
BEGIN:STANDARD
TZOFFSETFROM:+0000
TZOFFSETTO:+0000
TZNAME:UTC
DTSTART:20250101T000000
END:STANDARD
END:VTIMEZONE
BEGIN:VEVENT
DTSTART;TZID=UTC:20260112T080000
DTEND;TZID=UTC:20260116T170000
DTSTAMP:20260423T202106
CREATED:20250717T202912Z
LAST-MODIFIED:20250717T202912Z
UID:4920-1768204800-1768582800@pacewa.org
SUMMARY:PACE Assessments
DESCRIPTION:PACE Assessments
URL:https://pacewa.org/event/pace-assessments/
END:VEVENT
BEGIN:VEVENT
DTSTART;TZID=UTC:20260112T082500
DTEND;TZID=UTC:20260115T150000
DTSTAMP:20260423T202106
CREATED:20250717T202134Z
LAST-MODIFIED:20250717T202134Z
UID:4906-1768206300-1768489200@pacewa.org
SUMMARY:Full Day Program (KG to 10th Grade Drop-off Time 8:15am Pickup Time 3:00pm)
DESCRIPTION:  \n 
URL:https://pacewa.org/event/new-test-event-4-4-2-2-2-2-5-2-2-2-2-3-2-2-3-4-2-2-5-3-2-2-4-2-2-2-2-2-2-3-2-2-2-2-2-2-2-2-3-2-2-2-3-2-2-2-2-2-2-2-2-2-2-2-2-2-2-3-2-5-4-2-2-2-3-4-3-6-3-3-2-2-2-2-2-3-2-2-2-2-3-2-2-2-2-2-2-2-2-5-4-1-8/
END:VEVENT
END:VCALENDAR