BEGIN:VCALENDAR
VERSION:2.0
PRODID:-//Pace Academy - ECPv6.15.14//NONSGML v1.0//EN
CALSCALE:GREGORIAN
METHOD:PUBLISH
X-WR-CALNAME:Pace Academy
X-ORIGINAL-URL:https://pacewa.org
X-WR-CALDESC:Events for Pace Academy
REFRESH-INTERVAL;VALUE=DURATION:PT1H
X-Robots-Tag:noindex
X-PUBLISHED-TTL:PT1H
BEGIN:VTIMEZONE
TZID:UTC
BEGIN:STANDARD
TZOFFSETFROM:+0000
TZOFFSETTO:+0000
TZNAME:UTC
DTSTART:20240101T000000
END:STANDARD
END:VTIMEZONE
BEGIN:VEVENT
DTSTART;TZID=UTC:20251126T083000
DTEND;TZID=UTC:20251128T130000
DTSTAMP:20260423T225412
CREATED:20250717T201151Z
LAST-MODIFIED:20250717T201151Z
UID:4886-1764145800-1764334800@pacewa.org
SUMMARY:Thanksgiving Break (No School)
DESCRIPTION:No School (Thanksgiving  Break)
URL:https://pacewa.org/event/new-test-event-4-4-3-2-2-2-4-2-2-3-2-2-2-2-2-2-2/
ATTACH;FMTTYPE=image/jpeg:https://pacewa.org/wp-content/uploads/2021/11/xThanksgiving-Day-1080x610-1.jpg
END:VEVENT
END:VCALENDAR