BEGIN:VCALENDAR
VERSION:2.0
PRODID:-//Pace Academy - ECPv6.15.14//NONSGML v1.0//EN
CALSCALE:GREGORIAN
METHOD:PUBLISH
X-ORIGINAL-URL:https://pacewa.org
X-WR-CALDESC:Events for Pace Academy
REFRESH-INTERVAL;VALUE=DURATION:PT1H
X-Robots-Tag:noindex
X-PUBLISHED-TTL:PT1H
BEGIN:VTIMEZONE
TZID:UTC
BEGIN:STANDARD
TZOFFSETFROM:+0000
TZOFFSETTO:+0000
TZNAME:UTC
DTSTART:20240101T000000
END:STANDARD
END:VTIMEZONE
BEGIN:VEVENT
DTSTART;TZID=UTC:20250904T090000
DTEND;TZID=UTC:20250904T140000
DTSTAMP:20260424T012052
CREATED:20250717T191150Z
LAST-MODIFIED:20250717T191150Z
UID:4827-1756976400-1756994400@pacewa.org
SUMMARY:Program Start Day 9:00am to 2:00pm
DESCRIPTION:First Day of Semester 1\n1st Day of School – Semester 1\nIt is our pleasure to welcome you to PACE Academy. \nKG to 10th Grades Drop-off Time 9:00am Pickup Time 2:00pm  \n 
URL:https://pacewa.org/event/new-test-event-5-2-4-3-2-2-2/
ATTACH;FMTTYPE=image/webp:https://pacewa.org/wp-content/uploads/2024/08/DALL·E-2024-08-03-14.29.27-A-modern-and-stylish-graphic-for-PACE-Academy-Back-To-School_-September-4-2024.-Use-contemporary-design-elements-sleek-fonts-and-a-clean-layout.-.webp
END:VEVENT
BEGIN:VEVENT
DTSTART;TZID=UTC:20250904T090000
DTEND;TZID=UTC:20250904T140000
DTSTAMP:20260424T012052
CREATED:20250717T191917Z
LAST-MODIFIED:20250717T193904Z
UID:4832-1756976400-1756994400@pacewa.org
SUMMARY:Special Hours 9:00am to 2:00pm
DESCRIPTION:
URL:https://pacewa.org/event/new-test-event-4-4-4-4-5-2-2-2-2/
END:VEVENT
END:VCALENDAR