BEGIN:VCALENDAR
VERSION:2.0
PRODID:-//Pace Academy - ECPv6.15.14//NONSGML v1.0//EN
CALSCALE:GREGORIAN
METHOD:PUBLISH
X-ORIGINAL-URL:https://pacewa.org
X-WR-CALDESC:Events for Pace Academy
REFRESH-INTERVAL;VALUE=DURATION:PT1H
X-Robots-Tag:noindex
X-PUBLISHED-TTL:PT1H
BEGIN:VTIMEZONE
TZID:UTC
BEGIN:STANDARD
TZOFFSETFROM:+0000
TZOFFSETTO:+0000
TZNAME:UTC
DTSTART:20230101T000000
END:STANDARD
END:VTIMEZONE
BEGIN:VEVENT
DTSTART;TZID=UTC:20240902T090000
DTEND;TZID=UTC:20240902T130000
DTSTAMP:20260424T173145
CREATED:20240803T091222Z
LAST-MODIFIED:20240902T080706Z
UID:4536-1725267600-1725282000@pacewa.org
SUMMARY:Labor Day Holiday  (No School) 
DESCRIPTION:Labor Day Holiday (No School)
URL:https://pacewa.org/event/new-test-event-4-4-3-2-2-2-4-2-2-2-2-2-2-2-2-2-2-2-2-2-2-2-5-2-2-2-2-3-2-2-2-2-2-2-2-2-2-2-2-2-2-2-2-2-2-2-2-2-3-2-2-2-2-2-2-3/
ATTACH;FMTTYPE=image/webp:https://pacewa.org/wp-content/uploads/2024/08/labor-day-No-school.webp
END:VEVENT
END:VCALENDAR