BEGIN:VCALENDAR
VERSION:2.0
PRODID:-//Pace Academy - ECPv6.15.14//NONSGML v1.0//EN
CALSCALE:GREGORIAN
METHOD:PUBLISH
X-ORIGINAL-URL:https://pacewa.org
X-WR-CALDESC:Events for Pace Academy
REFRESH-INTERVAL;VALUE=DURATION:PT1H
X-Robots-Tag:noindex
X-PUBLISHED-TTL:PT1H
BEGIN:VTIMEZONE
TZID:UTC
BEGIN:STANDARD
TZOFFSETFROM:+0000
TZOFFSETTO:+0000
TZNAME:UTC
DTSTART:20220101T000000
END:STANDARD
END:VTIMEZONE
BEGIN:VEVENT
DTSTART;TZID=UTC:20230223T082500
DTEND;TZID=UTC:20230223T150000
DTSTAMP:20260426T011925
CREATED:20220803T083729Z
LAST-MODIFIED:20220803T084707Z
UID:3877-1677140700-1677164400@pacewa.org
SUMMARY:Full Day Program
DESCRIPTION:KG to 10th Grade Drop-off Time 8:25am Pickup Time 3:00pm \n 
URL:https://pacewa.org/event/new-test-event-4-4-2-2-2-2-5-2-2-2-2-3-2-2-3-4-2-2-5-3-2-2-4-2-2-2-2-2-2-3-2-2-2-2-2-2-2-2-3-2-2-2-3-2-2-2-2-2-2-2-2-2-2-2-2-2-2-3-2-5-4-2-2-2-3-6/
END:VEVENT
END:VCALENDAR