BEGIN:VCALENDAR
VERSION:2.0
PRODID:-//Pace Academy - ECPv6.15.14//NONSGML v1.0//EN
CALSCALE:GREGORIAN
METHOD:PUBLISH
X-ORIGINAL-URL:https://pacewa.org
X-WR-CALDESC:Events for Pace Academy
REFRESH-INTERVAL;VALUE=DURATION:PT1H
X-Robots-Tag:noindex
X-PUBLISHED-TTL:PT1H
BEGIN:VTIMEZONE
TZID:UTC
BEGIN:STANDARD
TZOFFSETFROM:+0000
TZOFFSETTO:+0000
TZNAME:UTC
DTSTART:20210101T000000
END:STANDARD
END:VTIMEZONE
BEGIN:VEVENT
DTSTART;TZID=UTC:20221202T083000
DTEND;TZID=UTC:20221202T124500
DTSTAMP:20260426T043833
CREATED:20220803T073846Z
LAST-MODIFIED:20220803T080111Z
UID:3795-1669969800-1669985100@pacewa.org
SUMMARY:Half Day Program - Pickup Time 12:45pm
DESCRIPTION:KG to 10th Grades Drop-off Time 8:25am Pickup Time 12:45pm
URL:https://pacewa.org/event/new-test-event-4-4-3-2-2-2-4-2-2-2-2-2-2-2-2-2-2-2-2-2-2-2-5-2-2-2-2-3-3-2/
END:VEVENT
END:VCALENDAR